BEGIN:VCALENDAR
VERSION:2.0
PRODID:-//DLR Event - ECPv6.15.13.1//NONSGML v1.0//EN
CALSCALE:GREGORIAN
METHOD:PUBLISH
X-ORIGINAL-URL:https://event.dlr.de/en
X-WR-CALDESC:Events for DLR Event
REFRESH-INTERVAL;VALUE=DURATION:PT1H
X-Robots-Tag:noindex
X-PUBLISHED-TTL:PT1H
BEGIN:VTIMEZONE
TZID:Europe/Berlin
BEGIN:DAYLIGHT
TZOFFSETFROM:+0100
TZOFFSETTO:+0200
TZNAME:CEST
DTSTART:20180325T010000
END:DAYLIGHT
BEGIN:STANDARD
TZOFFSETFROM:+0200
TZOFFSETTO:+0100
TZNAME:CET
DTSTART:20181028T010000
END:STANDARD
BEGIN:DAYLIGHT
TZOFFSETFROM:+0100
TZOFFSETTO:+0200
TZNAME:CEST
DTSTART:20190331T010000
END:DAYLIGHT
BEGIN:STANDARD
TZOFFSETFROM:+0200
TZOFFSETTO:+0100
TZNAME:CET
DTSTART:20191027T010000
END:STANDARD
BEGIN:DAYLIGHT
TZOFFSETFROM:+0100
TZOFFSETTO:+0200
TZNAME:CEST
DTSTART:20200329T010000
END:DAYLIGHT
BEGIN:STANDARD
TZOFFSETFROM:+0200
TZOFFSETTO:+0100
TZNAME:CET
DTSTART:20201025T010000
END:STANDARD
BEGIN:DAYLIGHT
TZOFFSETFROM:+0100
TZOFFSETTO:+0200
TZNAME:CEST
DTSTART:20210328T010000
END:DAYLIGHT
BEGIN:STANDARD
TZOFFSETFROM:+0200
TZOFFSETTO:+0100
TZNAME:CET
DTSTART:20211031T010000
END:STANDARD
END:VTIMEZONE
BEGIN:VEVENT
DTSTART;VALUE=DATE:20190705
DTEND;VALUE=DATE:20200420
DTSTAMP:20260421T111106
CREATED:20190215T125310Z
LAST-MODIFIED:20200326T165038Z
UID:10002251-1562284800-1587340799@event.dlr.de
SUMMARY:{:de}Ausstellung "Aufbruch ins All – Raumfahrt erleben"{:}{:en}Exhibition "Aufbruch ins All – Raumfahrt erleben"{:}
DESCRIPTION:Picture: Vadim Sadovski \n  \nFifty years after Neil Armstrong and Buzz Aldrin set foot on the Moon\, a major exhibition at the Heinz Nixdorf MuseumsForum (HNF) in Paderborn will chart the conquest of space. Running from 5 July 2019 to 19 April 2020\, the exhibition titled “Aufbruch ins All” (“Breakup into Space”) will whisk visitors away on an adventurous journey through time and space. Spread over 800 square metres\, the exhibition is set against an awe-inspiring backdrop of darkness\, planets and space vehicles. In addition to historical and technological exhibits such as robots\, propulsion systems and control modules\, models of rockets or the International Space Station (ISS) will illustrate how humankind has ventured forth into the Universe. \nVisitors will be able to take a seat in a replica of the Apollo 17 lunar module to enjoy a virtual drive across the Moon. A virtual reality tour will let them explore the ISS and conduct a docking manoeuvre lying down in a reconstructed Soyuz capsule. They will also have the chance to take a selfie as astronauts and to discover the layers of a spacesuit using an augmented reality application. Many of the interactive exhibits have been specially created and provide a unique experience of space. There will be a Lunar Lander Land playground for children\, where they will be able to weigh planets\, leave their footprint in ‘lunar dust’ and clamber through a moon landing craft. \nThis exhibition was designed by HNF in cooperation with the DLR Space Administration. Admission to the exhibition will cost €5.00\, with reduced tickets available for €3.00. A family ticket will cost €10.00 and will include access to the permanent exhibition. Guided tours will be organised for groups and there will be a series of talks catering to aerospace and astronomy enthusiasts.
URL:https://event.dlr.de/en/event/aufbruch-ins-all-raumfahrt-erleben/
LOCATION:Heinz Nixdorf MuseumsForum\, Fürstenallee 7\, Paderborn\, 33102\, Deutschland
ATTACH;FMTTYPE=image/jpeg:https://event.dlr.de/wp-content/uploads/2019/02/csm_Astronaut_HNF_195de5199c.jpg
END:VEVENT
BEGIN:VEVENT
DTSTART;TZID=Europe/Berlin:20200218T120000
DTEND;TZID=Europe/Berlin:20200219T140000
DTSTAMP:20260421T111106
CREATED:20191028T150007Z
LAST-MODIFIED:20191102T105250Z
UID:10001926-1582027200-1582120800@event.dlr.de
SUMMARY:9. Workshop Zulassung • Zertifizierung • Normung für Brennstoffzellen und Wasserstoff
DESCRIPTION:Der 9. Workshop der Veranstaltungsreihe „Zulassung • Zertifizierung • Normung“ für Brennstoffzellen und Wasserstoff mit dem Thema „Normative Aspekte der industriellen Nutzung von Wasserstoff“ findet am 18. und 19. Februar 2020 beim DLR-Institut für Vernetzte Energiesysteme in Oldenburg statt. Die Veranstaltung wird zusammen mit den Forschungsinstituten Fraunhofer ISE und ZBT organisiert. \nBei diesem Workshop werden Faktoren wie Genehmigung\, Zulassung und Inbetriebnahme betrachtet sowie Erfahrungen und Sicherheitskonzepte im Umgang mit Wasserstoff näher bewertet. Er richtet sich nicht nur an die Entwickler und Hersteller von Brennstoffzellen-Komponenten und -Systemen\, sondern auch an Zertifizierungsgremien und Systemintegratoren für den mobilen und stationären Bereich sowie an die Betreiber von Wasserstofftankstellen. Der Schwerpunkt der Veranstaltung liegt in diesem Jahr im Speziellen auf Fragen zur Zulassung und Normung von industriellen Anwendungen mit Wasserstoff\, wie z.B. bei schweren mobilen Anwendungen und im Schiffsverkehr. Des Weiteren werden die neuesten Entwicklungen auf nationaler und internationaler Ebene bei der Zulassung und Normung von Brennstoffzellensystemen erörtert. \nDer über zwei halbe Tage dauernde Workshop mit verschiedenen Diskussionsforen und einer Abendveranstaltung bietet die Gelegenheit sich über geltende Normen und Standards sowie die Auswirkung von internationalen Märkten und regionalen Regularien mit Experten auszutauschen. \nAnmeldungen sind bis zum 10. Februar 2020 möglich unter https://dlr-oldenburg.de
URL:https://event.dlr.de/en/event/9-workshop-zulassung-%e2%80%a2-zertifizierung-%e2%80%a2-normung-fuer-brennstoffzellen-und-wasserstoff/
LOCATION:DLR-Institut für Vernetzte Energiesysteme\, Carl-von-Ossietzky-Str. 15\, Oldenburg\, Niedersachsen\, 26129\, Deutschland
CATEGORIES:Symposium
ATTACH;FMTTYPE=image/jpeg:https://event.dlr.de/wp-content/uploads/2019/10/NE_20181130_45642-cd28_powerpoint.jpg
END:VEVENT
END:VCALENDAR