BEGIN:VCALENDAR
VERSION:2.0
PRODID:-//DLR Event - ECPv6.15.13.1//NONSGML v1.0//EN
CALSCALE:GREGORIAN
METHOD:PUBLISH
X-WR-CALNAME:DLR Event
X-ORIGINAL-URL:https://event.dlr.de/en
X-WR-CALDESC:Events for DLR Event
REFRESH-INTERVAL;VALUE=DURATION:PT1H
X-Robots-Tag:noindex
X-PUBLISHED-TTL:PT1H
BEGIN:VTIMEZONE
TZID:Europe/Berlin
BEGIN:DAYLIGHT
TZOFFSETFROM:+0100
TZOFFSETTO:+0200
TZNAME:CEST
DTSTART:20190331T010000
END:DAYLIGHT
BEGIN:STANDARD
TZOFFSETFROM:+0200
TZOFFSETTO:+0100
TZNAME:CET
DTSTART:20191027T010000
END:STANDARD
BEGIN:DAYLIGHT
TZOFFSETFROM:+0100
TZOFFSETTO:+0200
TZNAME:CEST
DTSTART:20200329T010000
END:DAYLIGHT
BEGIN:STANDARD
TZOFFSETFROM:+0200
TZOFFSETTO:+0100
TZNAME:CET
DTSTART:20201025T010000
END:STANDARD
BEGIN:DAYLIGHT
TZOFFSETFROM:+0100
TZOFFSETTO:+0200
TZNAME:CEST
DTSTART:20210328T010000
END:DAYLIGHT
BEGIN:STANDARD
TZOFFSETFROM:+0200
TZOFFSETTO:+0100
TZNAME:CET
DTSTART:20211031T010000
END:STANDARD
END:VTIMEZONE
BEGIN:VEVENT
DTSTART;TZID=Europe/Berlin:20200421T153000
DTEND;TZID=Europe/Berlin:20200421T170000
DTSTAMP:20260421T074544
CREATED:20191028T150440Z
LAST-MODIFIED:20200415T100026Z
UID:10001927-1587483000-1587488400@event.dlr.de
SUMMARY:DLR-Astroseminar 2020: Kleinzeug im Sonnensystem - von Asteroiden\, Kratern und Meteoriten
DESCRIPTION:Bild: NASA/JPL-Caltech \nDie Entdeckung der Ceres durch Guiseppe Piazzi vor gut zweihundert Jahren lenkte nicht nur die Auf­merksamkeit des jungen Carl Friedrich Gauß auf das Gebiet der Himmelsmechanik und Bahnberech­nung\, sondern öffnete auch das Tor zu einer bis dahin unbekannten Welt kleiner und kleinster Himmels­körper\, die – wie wir heute wissen – viel über die Vergangenheit des Sonnensystems (und hierbei vor allem seiner Frühgeschichte) verraten können. Lange Zeit hindurch blieb ihre Erkundung mangels de­tailreicher Beobachtungsmöglichkeiten zwar auf bahndynamische Analysen und grobe spektroskopische Untersuchungen beschränkt\, doch auch damit konnten bereits zahlreiche Erkenntnisse über die kleinen Himmelskörper gewonnen werden. Trotzdem wurden die Astronomen von der unerwarteten Vielfalt dessen überrascht\, was sie seit dem ersten Vorbeiflug einer Raumsonde an einem Kleinplaneten im Jahre 1991 über die Zwerge des Sonnensystems gelernt haben. \nHermann-Michael Hahn studierte in Bonn Physik und Astronomie und wandte sich nach dem Diplom als freier Wissenschaftsjournalist der Berichterstattung über himmlische Themen in Presse\, Funk und Fernsehen zu. Darüber hinaus schrieb er zahlreiche populärwissenschaftliche Bücher wie etwa 1983 „Zwischen den Planeten“\, in dem er den damaligen Wissensstand über Kometen\, Asteroiden und Meteoriten zusammen­fasste. 2005 erhielt er für sein Buch „Outer Space“ den Hugo-Junckers-Preis des Luftfahrt-Presse-Clubs\, und 2012 zeichnete ihn die Astronomische Gesellschaft mit dem Bruno-H.-Bürgel-Preis aus – für „sein breit gefächertes Spektrum an Aktivitäten\, um vor allem Grundkenntnisse aus der Raumfahrt und Astronomie ei­nem breiten Publikum zu vermitteln.“ Hermann-Michael Hahn ist darüber hinaus seit fast 30 Jahren 1. Vor­sitzender der Vereinigung der Sternfreunde Köln\, e.V.\, die die Kölner Volkssternwarte betreibt. Mit Hilfe einer von ihm ins Leben gerufenen und weitgehend allein betriebenen Crowd-Funding-Aktion konnte er die Finanzierung des größten frei zugänglichen Teleskops in NRW\, des Cologne Large Telescope mit einer Öff­nung von 60 Zentimetern\, sicherstellen\, das seit 2012 das Herzstück der Volkssternwarte Köln bildet. \n\nACHTUNG: Veranstaltungen jeweils 15:30-17:00 Uhr im Konferenzzentrum der Luftwaffe\, Luftwaffenkaserne Wahn\nÜber den Einlass auf das Kasernengelände und die Parkmöglichkeiten wird rechtzeitig auf dlr.de informiert.\nAnmeldungen auf dlr.de/astroseminar2020 oder bei Frau Rebecca Bartkowski\, Ruf: 02203 / 601-2316\nFragen und Hinweise zu den Themen des Astroseminars an Dr. Manfred Gaida (Ruf: 0228 / 447-417)\nÜbersichten voriger Seminare auf http://www.volkssternwarte-bonn.de/wordpress/archiv/
URL:https://event.dlr.de/en/event/dlr-astroseminar-2020-kleinzeug-im-sonnensystem-von-asteroiden-kratern-und-meteoriten/
LOCATION:Konferenzzentrum der Luftwaffenkaserne Wahn\, Flughafenstr. 1\, Köln\, NRW\, 51145\, Deutschland
CATEGORIES:Symposium
ATTACH;FMTTYPE=image/png:https://event.dlr.de/wp-content/uploads/2019/10/Logo.png
ORGANIZER;CN="Dr. Manfred Gaida":MAILTO:Manfred.Gaida@dlr.de
END:VEVENT
END:VCALENDAR