BEGIN:VCALENDAR
VERSION:2.0
PRODID:-//DLR Event - ECPv6.15.13.1//NONSGML v1.0//EN
CALSCALE:GREGORIAN
METHOD:PUBLISH
X-WR-CALNAME:DLR Event
X-ORIGINAL-URL:https://event.dlr.de/en
X-WR-CALDESC:Events for DLR Event
REFRESH-INTERVAL;VALUE=DURATION:PT1H
X-Robots-Tag:noindex
X-PUBLISHED-TTL:PT1H
BEGIN:VTIMEZONE
TZID:Europe/Berlin
BEGIN:DAYLIGHT
TZOFFSETFROM:+0100
TZOFFSETTO:+0200
TZNAME:CEST
DTSTART:20190331T010000
END:DAYLIGHT
BEGIN:STANDARD
TZOFFSETFROM:+0200
TZOFFSETTO:+0100
TZNAME:CET
DTSTART:20191027T010000
END:STANDARD
BEGIN:DAYLIGHT
TZOFFSETFROM:+0100
TZOFFSETTO:+0200
TZNAME:CEST
DTSTART:20200329T010000
END:DAYLIGHT
BEGIN:STANDARD
TZOFFSETFROM:+0200
TZOFFSETTO:+0100
TZNAME:CET
DTSTART:20201025T010000
END:STANDARD
BEGIN:DAYLIGHT
TZOFFSETFROM:+0100
TZOFFSETTO:+0200
TZNAME:CEST
DTSTART:20210328T010000
END:DAYLIGHT
BEGIN:STANDARD
TZOFFSETFROM:+0200
TZOFFSETTO:+0100
TZNAME:CET
DTSTART:20211031T010000
END:STANDARD
END:VTIMEZONE
BEGIN:VEVENT
DTSTART;VALUE=DATE:20200505
DTEND;VALUE=DATE:20200507
DTSTAMP:20260421T061717
CREATED:20191028T143447Z
LAST-MODIFIED:20200415T095218Z
UID:10002290-1588636800-1588809599@event.dlr.de
SUMMARY:DLR Personalfachtagung 2020
DESCRIPTION:Allgemeine Informationen \nTermin\n \nDie Tagung findet am 05. und 06. Mai 2020 statt. \nBeginn und Ende: \n05.05.2020      10:30 -18:00 Uhr\n06.05.2020      09:00 -15:30 Uhr \nTagungsausrichter \nAusrichter ist die Hauptabteilung Personaladministration. \nZiel  \nZiel ist es in Vorträgen\, mit der Möglichkeit zur Diskussion\, über gesetzliche\, tarifliche und betriebliche Neuerungen zu informieren und ein gemeinsames Verständnis herzustellen. Ebenso werden Überlegungen zu geplanten Änderungen zur Verbesserung des Prozesses vorgestellt und diskutiert. Die jährlich stattfindende Fachtagung versteht sich darüber hinaus auch als Gesprächs-und Austauschforum für alle Mitarbeiter/innen der Personaladministration\, die an den einzelnen Standorten tätig sind. \nTagungsort \nDie Veranstaltung findet in dem Konferenzzentrum der Luftwaffe statt. Das Konferenzzentrum befindet sich auf dem Gelände der Kaserne Wahn: \nFlughafenstraße\, 51147 Köln
URL:https://event.dlr.de/en/event/dlr-personalfachtagung-2020/
LOCATION:Konferenzzentrum der Luftwaffenkaserne Wahn\, Flughafenstr. 1\, Köln\, NRW\, 51145\, Deutschland
CATEGORIES:Konferenz
ORGANIZER;CN="Wilfried Decker":MAILTO:Wilfried.Decker@dlr.de
END:VEVENT
END:VCALENDAR