BEGIN:VCALENDAR
VERSION:2.0
PRODID:-//DLR Event - ECPv6.15.13.1//NONSGML v1.0//EN
CALSCALE:GREGORIAN
METHOD:PUBLISH
X-ORIGINAL-URL:https://event.dlr.de/en
X-WR-CALDESC:Events for DLR Event
REFRESH-INTERVAL;VALUE=DURATION:PT1H
X-Robots-Tag:noindex
X-PUBLISHED-TTL:PT1H
BEGIN:VTIMEZONE
TZID:Europe/Berlin
BEGIN:DAYLIGHT
TZOFFSETFROM:+0100
TZOFFSETTO:+0200
TZNAME:CEST
DTSTART:20190331T010000
END:DAYLIGHT
BEGIN:STANDARD
TZOFFSETFROM:+0200
TZOFFSETTO:+0100
TZNAME:CET
DTSTART:20191027T010000
END:STANDARD
BEGIN:DAYLIGHT
TZOFFSETFROM:+0100
TZOFFSETTO:+0200
TZNAME:CEST
DTSTART:20200329T010000
END:DAYLIGHT
BEGIN:STANDARD
TZOFFSETFROM:+0200
TZOFFSETTO:+0100
TZNAME:CET
DTSTART:20201025T010000
END:STANDARD
BEGIN:DAYLIGHT
TZOFFSETFROM:+0100
TZOFFSETTO:+0200
TZNAME:CEST
DTSTART:20210328T010000
END:DAYLIGHT
BEGIN:STANDARD
TZOFFSETFROM:+0200
TZOFFSETTO:+0100
TZNAME:CET
DTSTART:20211031T010000
END:STANDARD
END:VTIMEZONE
BEGIN:VEVENT
DTSTART;TZID=Europe/Berlin:20200507T090000
DTEND;TZID=Europe/Berlin:20200507T190000
DTSTAMP:20260421T061850
CREATED:20200302T094930Z
LAST-MODIFIED:20200302T094930Z
UID:10002303-1588842000-1588878000@event.dlr.de
SUMMARY:SkyForward Virtual CareerCenter 2020
DESCRIPTION:Das DLR auf der virtuellen Jobmesse für Luft- und Raumfahrt \nAuf der zweiten virtuellen Karrieremesse für Luft- und Raumfahrt des BDLI (Bundesverband der Deutschen Luft- und Raumfahrtindustrie e.V.) können Sie unser Forschungszentrum besser kennen lernen und mehr zu aktuellen Jobangeboten erfahren. Holen Sie sich alle Infos zum Einstieg beim DLR und chatten Sie mit unseren Mitarbeiterinnen und Mitarbeitern! \nBei unserem Team am virtuellen DLR-Messestand und bei einem Vortrag können Sie sich umfassend über die Forschungsprojekte und Arbeitswelten beim DLR informieren. \nDas digitale Messeformat findet online statt: Der Zugang ist nach einer kurzen Registrierung kostenfrei und zeitlich flexibel für alle interessierten Teilnehmerinnen und Teilnehmer offen. \nHier geht es zur Anmeldung:\nhttps://reg.ubivent.com/register/skyforward \nWas: virtuelle Jobmesse für die Luft- und Raumfahrt\nWo: SkyForward Virtual CareerCenter\nWann: 7. Mai 2020 | 9:00 – 19:00 Uhr
URL:https://event.dlr.de/en/event/skyforward-virtual-careercenter-2020/
LOCATION:SkyForward Virtual CareerCenter
CATEGORIES:Messe
ATTACH;FMTTYPE=image/png:https://event.dlr.de/wp-content/uploads/2020/03/T5_JobMesse_2020.png
END:VEVENT
END:VCALENDAR