BEGIN:VCALENDAR
VERSION:2.0
PRODID:-//DLR Event - ECPv6.15.13.1//NONSGML v1.0//EN
CALSCALE:GREGORIAN
METHOD:PUBLISH
X-WR-CALNAME:DLR Event
X-ORIGINAL-URL:https://event.dlr.de/en
X-WR-CALDESC:Events for DLR Event
REFRESH-INTERVAL;VALUE=DURATION:PT1H
X-Robots-Tag:noindex
X-PUBLISHED-TTL:PT1H
BEGIN:VTIMEZONE
TZID:Europe/Berlin
BEGIN:DAYLIGHT
TZOFFSETFROM:+0100
TZOFFSETTO:+0200
TZNAME:CEST
DTSTART:20190331T010000
END:DAYLIGHT
BEGIN:STANDARD
TZOFFSETFROM:+0200
TZOFFSETTO:+0100
TZNAME:CET
DTSTART:20191027T010000
END:STANDARD
BEGIN:DAYLIGHT
TZOFFSETFROM:+0100
TZOFFSETTO:+0200
TZNAME:CEST
DTSTART:20200329T010000
END:DAYLIGHT
BEGIN:STANDARD
TZOFFSETFROM:+0200
TZOFFSETTO:+0100
TZNAME:CET
DTSTART:20201025T010000
END:STANDARD
BEGIN:DAYLIGHT
TZOFFSETFROM:+0100
TZOFFSETTO:+0200
TZNAME:CEST
DTSTART:20210328T010000
END:DAYLIGHT
BEGIN:STANDARD
TZOFFSETFROM:+0200
TZOFFSETTO:+0100
TZNAME:CET
DTSTART:20211031T010000
END:STANDARD
END:VTIMEZONE
BEGIN:VEVENT
DTSTART;TZID=Europe/Berlin:20200618T170000
DTEND;TZID=Europe/Berlin:20200618T230000
DTSTAMP:20260421T044248
CREATED:20181121T161735Z
LAST-MODIFIED:20200417T075222Z
UID:10001882-1592499600-1592521200@event.dlr.de
SUMMARY:{:de}DLR PORZER PICKNICK 2020{:}{:en}DLR PORZER PICKNICK 2019{:}
DESCRIPTION:The “Porzer picnic” is the traditional DLR summer get-together. Partners from government\, industry\, science and the media meet DLR staff in a relaxed atmosphere – an event for personal networking and an exchange of ideas. Refreshments and musical entertainment are provided. \nAttendance to the event is by personal invitation.
URL:https://event.dlr.de/en/event/porzer-picknick-2019/
LOCATION:DLR Site Köln (Cologne)\, Linder Höhe \, Köln\, 51147\, Deutschland
CATEGORIES:Event
ATTACH;FMTTYPE=image/jpeg:https://event.dlr.de/wp-content/uploads/2018/11/Popi.jpg
GEO:50.8510192;7.1120182
X-APPLE-STRUCTURED-LOCATION;VALUE=URI;X-ADDRESS=DLR Site Köln (Cologne) Linder Höhe  Köln 51147 Deutschland;X-APPLE-RADIUS=500;X-TITLE=Linder Höhe:geo:7.1120182,50.8510192
END:VEVENT
END:VCALENDAR