BEGIN:VCALENDAR
VERSION:2.0
PRODID:-//DLR Event - ECPv6.15.13.1//NONSGML v1.0//EN
CALSCALE:GREGORIAN
METHOD:PUBLISH
X-ORIGINAL-URL:https://event.dlr.de/en
X-WR-CALDESC:Events for DLR Event
REFRESH-INTERVAL;VALUE=DURATION:PT1H
X-Robots-Tag:noindex
X-PUBLISHED-TTL:PT1H
BEGIN:VTIMEZONE
TZID:Europe/Berlin
BEGIN:DAYLIGHT
TZOFFSETFROM:+0100
TZOFFSETTO:+0200
TZNAME:CEST
DTSTART:20190331T010000
END:DAYLIGHT
BEGIN:STANDARD
TZOFFSETFROM:+0200
TZOFFSETTO:+0100
TZNAME:CET
DTSTART:20191027T010000
END:STANDARD
BEGIN:DAYLIGHT
TZOFFSETFROM:+0100
TZOFFSETTO:+0200
TZNAME:CEST
DTSTART:20200329T010000
END:DAYLIGHT
BEGIN:STANDARD
TZOFFSETFROM:+0200
TZOFFSETTO:+0100
TZNAME:CET
DTSTART:20201025T010000
END:STANDARD
BEGIN:DAYLIGHT
TZOFFSETFROM:+0100
TZOFFSETTO:+0200
TZNAME:CEST
DTSTART:20210328T010000
END:DAYLIGHT
BEGIN:STANDARD
TZOFFSETFROM:+0200
TZOFFSETTO:+0100
TZNAME:CET
DTSTART:20211031T010000
END:STANDARD
END:VTIMEZONE
BEGIN:VEVENT
DTSTART;VALUE=DATE:20200713
DTEND;VALUE=DATE:20200718
DTSTAMP:20260421T030132
CREATED:20191126T130715Z
LAST-MODIFIED:20200326T165317Z
UID:10002294-1594598400-1595030399@event.dlr.de
SUMMARY:{:de}DLR @ Gemeinschaftsstand H2FC Fair auf der Hannover Messe{:}{:en}DLR @ the joint stand of Hydrogen and Fuell Cells at the Hannover Fair{:}
DESCRIPTION:Picture: Tobias Renz Fair \nThe Institute for Engineering Thermodynamics of the German Aerospace Center (DLR) conducts research in the field of efficient energy storage and conversion systems that conserve natural resources. Electrochemical energy technology is a high priority\, ranging from theoretical studies to basic research to the development of systems and the operation of pilot plants. The joint stand will present the latest research results from these areas\, together with the fuel cell group of the DLR in Oldenburg.
URL:https://event.dlr.de/en/event/dlr-gemeinschaftsstand-h2fc-fair-auf-der-hannover-messe/
LOCATION:Messegelände Hannover\, Messegelände\, Hannover\, 30521\, Deutschland
CATEGORIES:Messe
ATTACH;FMTTYPE=image/jpeg:https://event.dlr.de/wp-content/uploads/2019/11/hannover_messe_234.jpg
GEO:52.3187443;9.8056633
X-APPLE-STRUCTURED-LOCATION;VALUE=URI;X-ADDRESS=Messegelände Hannover Messegelände Hannover 30521 Deutschland;X-APPLE-RADIUS=500;X-TITLE=Messegelände:geo:9.8056633,52.3187443
END:VEVENT
BEGIN:VEVENT
DTSTART;VALUE=DATE:20200713
DTEND;VALUE=DATE:20200718
DTSTAMP:20260421T030132
CREATED:20200310T105748Z
LAST-MODIFIED:20200326T162949Z
UID:10002309-1594598400-1595030399@event.dlr.de
SUMMARY:Hannover Messe 2020
DESCRIPTION:Weitere Informationen finden Sie hier. \nUnter dem Dach der Hannover Messe versammeln sich zehn internationale Leitmessen aus verschiedenen Industrie-Sektoren. Aktuelle Trendthemen werden in zahlreichen Foren und direkt an den Ausstellungsständen branchenübergreifend diskutiert. Erwartet werden ca. 5.500 Aussteller aus 79 Ländern sowie mehr als 200.000 Fachbesucher. \nAuch 2020 ist das DLR im Bereich ENERGIE an der Hannover Messe in Halle 27 vertreten: \nDLR-Stand: Nr. H70
URL:https://event.dlr.de/en/event/hannover-messe-2020/
LOCATION:Messegelände Hannover\, Messegelände\, Hannover\, 30521\, Deutschland
CATEGORIES:Messe
ATTACH;FMTTYPE=image/jpeg:https://event.dlr.de/wp-content/uploads/2018/02/HMI-Logo.jpg
GEO:52.3187443;9.8056633
X-APPLE-STRUCTURED-LOCATION;VALUE=URI;X-ADDRESS=Messegelände Hannover Messegelände Hannover 30521 Deutschland;X-APPLE-RADIUS=500;X-TITLE=Messegelände:geo:9.8056633,52.3187443
END:VEVENT
END:VCALENDAR