BEGIN:VCALENDAR
VERSION:2.0
PRODID:-//DLR Event - ECPv6.15.13.1//NONSGML v1.0//EN
CALSCALE:GREGORIAN
METHOD:PUBLISH
X-WR-CALNAME:DLR Event
X-ORIGINAL-URL:https://event.dlr.de/en
X-WR-CALDESC:Events for DLR Event
REFRESH-INTERVAL;VALUE=DURATION:PT1H
X-Robots-Tag:noindex
X-PUBLISHED-TTL:PT1H
BEGIN:VTIMEZONE
TZID:Europe/Berlin
BEGIN:DAYLIGHT
TZOFFSETFROM:+0100
TZOFFSETTO:+0200
TZNAME:CEST
DTSTART:20200329T010000
END:DAYLIGHT
BEGIN:STANDARD
TZOFFSETFROM:+0200
TZOFFSETTO:+0100
TZNAME:CET
DTSTART:20201025T010000
END:STANDARD
BEGIN:DAYLIGHT
TZOFFSETFROM:+0100
TZOFFSETTO:+0200
TZNAME:CEST
DTSTART:20210328T010000
END:DAYLIGHT
BEGIN:STANDARD
TZOFFSETFROM:+0200
TZOFFSETTO:+0100
TZNAME:CET
DTSTART:20211031T010000
END:STANDARD
BEGIN:DAYLIGHT
TZOFFSETFROM:+0100
TZOFFSETTO:+0200
TZNAME:CEST
DTSTART:20220327T010000
END:DAYLIGHT
BEGIN:STANDARD
TZOFFSETFROM:+0200
TZOFFSETTO:+0100
TZNAME:CET
DTSTART:20221030T010000
END:STANDARD
END:VTIMEZONE
BEGIN:VEVENT
DTSTART;TZID=Europe/Berlin:20210128T190000
DTEND;TZID=Europe/Berlin:20210128T230000
DTSTAMP:20260420T162718
CREATED:20201026T095129Z
LAST-MODIFIED:20201204T130544Z
UID:10001959-1611860400-1611874800@event.dlr.de
SUMMARY:DLR-Neujahrsempfang 2021
DESCRIPTION:Der Neujahrsempfang des DLR ist ein Treffen von Entscheidungsträgern aus Politik\, Wissenschaft\, Industrie und Wirtschaft sowie von Vertretern der Medien und Führungskräften des DLR. \nAufgrund der aktuellen Entwicklung der Covid-19-Pandemie und den damit verbundenen Risiken und Rahmenbedingungen\, hat sich das DLR im Interesse der Gesundheit unserer Gäste und unserer Mitarbeitenden dazu entschieden\, die für den 28.01.2021\, 19.00 Uhr in Berlin geplante Abendveranstaltung abzusagen.
URL:https://event.dlr.de/en/event/dlr-neujahrsempfang-2021/
CATEGORIES:Event
END:VEVENT
END:VCALENDAR