BEGIN:VCALENDAR
VERSION:2.0
PRODID:-//DLR Event - ECPv6.15.13.1//NONSGML v1.0//EN
CALSCALE:GREGORIAN
METHOD:PUBLISH
X-ORIGINAL-URL:https://event.dlr.de/en
X-WR-CALDESC:Events for DLR Event
REFRESH-INTERVAL;VALUE=DURATION:PT1H
X-Robots-Tag:noindex
X-PUBLISHED-TTL:PT1H
BEGIN:VTIMEZONE
TZID:Europe/Berlin
BEGIN:DAYLIGHT
TZOFFSETFROM:+0100
TZOFFSETTO:+0200
TZNAME:CEST
DTSTART:20200329T010000
END:DAYLIGHT
BEGIN:STANDARD
TZOFFSETFROM:+0200
TZOFFSETTO:+0100
TZNAME:CET
DTSTART:20201025T010000
END:STANDARD
BEGIN:DAYLIGHT
TZOFFSETFROM:+0100
TZOFFSETTO:+0200
TZNAME:CEST
DTSTART:20210328T010000
END:DAYLIGHT
BEGIN:STANDARD
TZOFFSETFROM:+0200
TZOFFSETTO:+0100
TZNAME:CET
DTSTART:20211031T010000
END:STANDARD
BEGIN:DAYLIGHT
TZOFFSETFROM:+0100
TZOFFSETTO:+0200
TZNAME:CEST
DTSTART:20220327T010000
END:DAYLIGHT
BEGIN:STANDARD
TZOFFSETFROM:+0200
TZOFFSETTO:+0100
TZNAME:CET
DTSTART:20221030T010000
END:STANDARD
END:VTIMEZONE
BEGIN:VEVENT
DTSTART;VALUE=DATE:20210224
DTEND;VALUE=DATE:20210226
DTSTAMP:20260420T133342
CREATED:20210126T095650Z
LAST-MODIFIED:20210126T095650Z
UID:10003374-1614124800-1614297599@event.dlr.de
SUMMARY:WerkstoffPlus Auto - Virtuelle Fachtagung
DESCRIPTION:Mit einem einzigartigen fachlichen Profil bildet die WerkstoffPlus Auto die Schnittstelle\, an welcher Fahrzeugkonzept- und -strukturentwickler durch neue technologische Lösungen inspiriert werden und Werkstoffexperten sich über zukünftige Anforderungen und Entwicklungen im Bereich der PKW und Nutzfahrzeuge informieren können.\nGerade in diesen durch Krisen geprägten Zeiten\, wollen wir weiterhin die Plattform für den intensiven fachlichen Austausch zu unseren nach wie vor wichtigen und zukunftsrelevanten Themen bieten. Neu werden wir uns im kommenden Jahr mit den Fragen von globalen Abhängigkeiten und der Resilienz unserer Werkstofflieferketten beschäftigen. \nDurch die anhaltende Covid-19 Pandemie und die damit verbundenen Risiken und sich stetig ändernden Hygieneanforderungen findet die WerkstoffPlus Auto 2021 als virtuelles Event im Internet statt.
URL:https://event.dlr.de/en/event/werkstoffplus-auto-virtuelle-fachtagung/
LOCATION:Online Edition
CATEGORIES:Online-Event
ATTACH;FMTTYPE=image/jpeg:https://event.dlr.de/wp-content/uploads/2021/01/20180412_WSPA_Logo_185x87px.jpg
ORGANIZER;CN="DLR-Institut f%C3%BCr Fahrzeugkonzepte":MAILTO:kristiane.schuster@dlr.de
END:VEVENT
END:VCALENDAR