BEGIN:VCALENDAR
VERSION:2.0
PRODID:-//DLR Event - ECPv6.15.13.1//NONSGML v1.0//EN
CALSCALE:GREGORIAN
METHOD:PUBLISH
X-WR-CALNAME:DLR Event
X-ORIGINAL-URL:https://event.dlr.de/en
X-WR-CALDESC:Events for DLR Event
REFRESH-INTERVAL;VALUE=DURATION:PT1H
X-Robots-Tag:noindex
X-PUBLISHED-TTL:PT1H
BEGIN:VTIMEZONE
TZID:Europe/Berlin
BEGIN:DAYLIGHT
TZOFFSETFROM:+0100
TZOFFSETTO:+0200
TZNAME:CEST
DTSTART:20200329T010000
END:DAYLIGHT
BEGIN:STANDARD
TZOFFSETFROM:+0200
TZOFFSETTO:+0100
TZNAME:CET
DTSTART:20201025T010000
END:STANDARD
BEGIN:DAYLIGHT
TZOFFSETFROM:+0100
TZOFFSETTO:+0200
TZNAME:CEST
DTSTART:20210328T010000
END:DAYLIGHT
BEGIN:STANDARD
TZOFFSETFROM:+0200
TZOFFSETTO:+0100
TZNAME:CET
DTSTART:20211031T010000
END:STANDARD
BEGIN:DAYLIGHT
TZOFFSETFROM:+0100
TZOFFSETTO:+0200
TZNAME:CEST
DTSTART:20220327T010000
END:DAYLIGHT
BEGIN:STANDARD
TZOFFSETFROM:+0200
TZOFFSETTO:+0100
TZNAME:CET
DTSTART:20221030T010000
END:STANDARD
END:VTIMEZONE
BEGIN:VEVENT
DTSTART;TZID=Europe/Berlin:20210428T120000
DTEND;TZID=Europe/Berlin:20210428T210000
DTSTAMP:20260420T055414
CREATED:20210407T172249Z
LAST-MODIFIED:20210407T172535Z
UID:10001968-1619611200-1619643600@event.dlr.de
SUMMARY:CONNECT & INSPIRE 2021
DESCRIPTION:Werden Sie Teil der Innovationscommunity im DLR.InnovationHub!\nDer DLR.InnovationHub startet mit einer virtuellen Connect- und Co-Create-Veranstaltungsreihe. Sie sind herzlich eingeladen\, bei unserem Networking Event CONNECT & INSPIRE 2021 am 28. April 2021 dabei zu sein. \nStarten Sie mit uns ab 12.00 Uhr direkt in unserer Networking Area mit ersten Gesprächen und vernetzen Sie sich. Virtuelle Kaffeetische\, Video Chat-Kontakte und Innovationswelten der teilnehmenden Innovationspartner inspirieren und laden zur Vernetzung ein.\nLassen Sie sich ab 13.00 Uhr von den Experten in unseren Keynote und Paneldiskussionen inspirieren\, lernen Sie den DLR.InnovationHub kennen und diskutieren Sie mit uns auf unserer Networking- und Videochatplattform zu den Themen: \n1.  Innovation-Ecosysteme – Agile Kollaboration\, Entrepreneuership\, Start-ups\n2.  H2-Ecosysteme skalierbar gestalten\n3.  AI\, 5G\, Cloud – Welchen Nutzen ziehen wir Menschen daraus \nIm Anschluss an diese Veranstaltung wollen wir gemeinsam mit Ihnen Innovationsinitiativen und Zukunftsanwendungen in Zukunftswerkstätten im Zeitraum Mai bis Juni entwickeln. Ab 18.00 Uhr werden daher als Einstieg die Zukunftswerkstätten vorgestellt und in einzelnen Networking-Rooms gemeinsam diskutiert.
URL:https://event.dlr.de/en/event/connect-inspire-2021/
LOCATION:Virtuelle Veranstaltung
CATEGORIES:Event,Online-Event,Online-Workshop,Workshop
ATTACH;FMTTYPE=image/jpeg:https://event.dlr.de/wp-content/uploads/2021/04/Connect_Inspire2021-scaled.jpg
ORGANIZER;CN="DLR Technologiemarketing":MAILTO:rainer.schueller-fengler@dlr.de
END:VEVENT
END:VCALENDAR