BEGIN:VCALENDAR
VERSION:2.0
PRODID:-//DLR Event - ECPv6.15.13.1//NONSGML v1.0//EN
CALSCALE:GREGORIAN
METHOD:PUBLISH
X-ORIGINAL-URL:https://event.dlr.de/en
X-WR-CALDESC:Events for DLR Event
REFRESH-INTERVAL;VALUE=DURATION:PT1H
X-Robots-Tag:noindex
X-PUBLISHED-TTL:PT1H
BEGIN:VTIMEZONE
TZID:Europe/Berlin
BEGIN:DAYLIGHT
TZOFFSETFROM:+0100
TZOFFSETTO:+0200
TZNAME:CEST
DTSTART:20200329T010000
END:DAYLIGHT
BEGIN:STANDARD
TZOFFSETFROM:+0200
TZOFFSETTO:+0100
TZNAME:CET
DTSTART:20201025T010000
END:STANDARD
BEGIN:DAYLIGHT
TZOFFSETFROM:+0100
TZOFFSETTO:+0200
TZNAME:CEST
DTSTART:20210328T010000
END:DAYLIGHT
BEGIN:STANDARD
TZOFFSETFROM:+0200
TZOFFSETTO:+0100
TZNAME:CET
DTSTART:20211031T010000
END:STANDARD
BEGIN:DAYLIGHT
TZOFFSETFROM:+0100
TZOFFSETTO:+0200
TZNAME:CEST
DTSTART:20220327T010000
END:DAYLIGHT
BEGIN:STANDARD
TZOFFSETFROM:+0200
TZOFFSETTO:+0100
TZNAME:CET
DTSTART:20221030T010000
END:STANDARD
END:VTIMEZONE
BEGIN:VEVENT
DTSTART;TZID=Europe/Berlin:20210906T180000
DTEND;TZID=Europe/Berlin:20210906T190000
DTSTAMP:20260419T213016
CREATED:20210728T120240Z
LAST-MODIFIED:20210728T120240Z
UID:10001976-1630951200-1630954800@event.dlr.de
SUMMARY:Kölner Wissenschaftsrunde 2021
DESCRIPTION:Ein starker Wissenschaftsstandort\nDie Kölner Wissenschaftsrunde (KWR) wurde auf Einladung des ehemaligen Oberbürgermeisters Fritz Schramma von Vertretern aller Kölner Hochschul- und Forschungseinrichtungen sowie der Stadt Köln und der Industrie- und Handelskammer zu Köln am 01. März 2004 offiziell konstituiert. \nDie KWR zeigt die zahlreichen Wissenschafts- und Wirtschaftspotenziale der Region mit ihren vielfältigen Angebotsformaten auf. Sie trägt dazu bei\, dass eine intensive Vernetzung der Wissenschaftseinrichtungen untereinander\, aber auch der Wissenschaft mit der Wirtschaft erfolgen kann und dadurch das Profil sowie die Konkurrenzfähigkeit von Köln als Wissenschaftsstandort gestärkt werden. Mit ihrer Netzwerk- und Öffentlichkeitsarbeit leistet die KWR einen aktiven Beitrag zur Entwicklung einer zukunftsfähigen Stadtgesellschaft. \nDas DLR beteiligt sich mit folgendem Vortrag: Wasserstoff: Energieträger mit großem Potenzial \nDie Veranstaltung findet online via ZOOM statt. Weitere Informationen finden Sie demnächst auf der Veranstaltungsseite.
URL:https://event.dlr.de/en/event/koelner-wissenschaftsrunde-2021/
LOCATION:Online\, Deutschland
CATEGORIES:Online-Event
ATTACH;FMTTYPE=image/png:https://event.dlr.de/wp-content/uploads/2021/07/logo-kwr2021.png
ORGANIZER;CN="TH K%C3%B6ln | KISD":MAILTO:wissenschaftsrunde@koeln.de
END:VEVENT
END:VCALENDAR