BEGIN:VCALENDAR
VERSION:2.0
PRODID:-//DLR Event - ECPv6.15.13.1//NONSGML v1.0//EN
CALSCALE:GREGORIAN
METHOD:PUBLISH
X-WR-CALNAME:DLR Event
X-ORIGINAL-URL:https://event.dlr.de/en
X-WR-CALDESC:Events for DLR Event
REFRESH-INTERVAL;VALUE=DURATION:PT1H
X-Robots-Tag:noindex
X-PUBLISHED-TTL:PT1H
BEGIN:VTIMEZONE
TZID:Europe/Berlin
BEGIN:DAYLIGHT
TZOFFSETFROM:+0100
TZOFFSETTO:+0200
TZNAME:CEST
DTSTART:20220327T010000
END:DAYLIGHT
BEGIN:STANDARD
TZOFFSETFROM:+0200
TZOFFSETTO:+0100
TZNAME:CET
DTSTART:20221030T010000
END:STANDARD
BEGIN:DAYLIGHT
TZOFFSETFROM:+0100
TZOFFSETTO:+0200
TZNAME:CEST
DTSTART:20230326T010000
END:DAYLIGHT
BEGIN:STANDARD
TZOFFSETFROM:+0200
TZOFFSETTO:+0100
TZNAME:CET
DTSTART:20231029T010000
END:STANDARD
BEGIN:DAYLIGHT
TZOFFSETFROM:+0100
TZOFFSETTO:+0200
TZNAME:CEST
DTSTART:20240331T010000
END:DAYLIGHT
BEGIN:STANDARD
TZOFFSETFROM:+0200
TZOFFSETTO:+0100
TZNAME:CET
DTSTART:20241027T010000
END:STANDARD
END:VTIMEZONE
BEGIN:VEVENT
DTSTART;VALUE=DATE:20230414
DTEND;VALUE=DATE:20231009
DTSTAMP:20260419T152822
CREATED:20220718T085418Z
LAST-MODIFIED:20230417T081728Z
UID:10001999-1681430400-1696809599@event.dlr.de
SUMMARY:Bundesgartenschau (BUGA) 2023
DESCRIPTION:The German national garden show 2023 (short BUGA for “Bundesgartenschau”) in Mannheim will take place over 178 days from 14 April to 8 October 2023. For this purpose two areas Luisenpark and Spinelli Park\, will be developed on a total of 104 ha and connected with a cable car. \nAs a first use case for an automated ride operation\, the use of the prototype U-Shift is planned at BUGA23 in the experimental field. Approximately 2 million visitors are expected\, representing an operational scenario similar to a pedestrian zone due to the many contact points. \nIn order to demonstrate the U-Shift\, to give potential visitors the opportunity to exchange ideas with the scientists and to inform themselves about the prototypes\, a DLR pavilion will be the hub for DLR at the BUGA\, to which the experimental field is connected.
URL:https://event.dlr.de/en/event/bundesgartenschau-buga-2023/
LOCATION:Spinelli-Gelände Mannheim\, Spinelliplatz 4\, Mannheim\, Mannheim\, 68259\, Deutschland
CATEGORIES:Ausstellung
ATTACH;FMTTYPE=image/png:https://event.dlr.de/wp-content/uploads/2022/07/BUGA23_Emailbanner_final.png
ORGANIZER;CN="Dr.-Ing. Marco M%C3%BCnster":MAILTO:Marco.Muenster@dlr.de
END:VEVENT
BEGIN:VEVENT
DTSTART;VALUE=DATE:20230523
DTEND;VALUE=DATE:20230526
DTSTAMP:20260419T152822
CREATED:20230203T132152Z
LAST-MODIFIED:20230310T111755Z
UID:10003420-1684800000-1685059199@event.dlr.de
SUMMARY:GLOC - Global Space Conference on Climate Change 2023
DESCRIPTION:Following its mission to promote international development and share knowledge\, the International Astronautical Federation (IAF) and its member the Norwegian Space Agency (NOSA) are pleased to announce that the 2023 Global Space Conference on Climate Change (GLOC 2023) will be taking place in Oslo\, Norway on 23 – 25 May 2023. GLOC 2023 will contribute to the global efforts to better understand and battle climate change through the use of space-based services and applications. First conference of its kind\, GLOC 2023 is designed to encourage the sharing of programmatic\, technical and policy information\, as well as collaborative solutions\, challenges\, lessons learnt\, and paths forward among all nations. \nGLOC 2023 will focus on the theme “Fire and Ice – Space for Climate Action” and will address various topics of interest in relation to space and climate change with a specific focus on: \n\nClimate change impacts on the environment\nApplications and services driven by climate change\nImpacts of a changing climate on policy and law\nCommercial opportunities created by a changing climate\nPresent and future international collaboration on space missions related to climate change\nSocial\, communications\, economic and cultural dimensions of environmental change\n\nThe conference programme is designed to bring together the international community\, including senior representatives of the major space agencies\, industries\, governments\, policy makers\, academia and NGOs\, as well as representatives of non-space sectors involved in the climate change debate. These leaders in the field will converge in Oslo\, Norway to present results\, exchange ideas\, debate roadmaps\, and discuss the future opportunities provided by space activities to contribute to the global climate change mitigation efforts.
URL:https://event.dlr.de/en/event/gloc-global-space-conference-on-climate-change-2023/
LOCATION:Radisson Blu Scandinavia Hotel Oslo\, Holbergsgate 30\, Oslo\, 166\, Norwegen
ATTACH;FMTTYPE=image/jpeg:https://event.dlr.de/wp-content/uploads/2023/02/gloc2023-web-banner-updated.jpg
ORGANIZER;CN="{%3Ade}DLR-Veranstaltungsmanagement{%3A}{%3Aen}Klaus Gering{%3A}":MAILTO:event@dlr.de
END:VEVENT
BEGIN:VEVENT
DTSTART;TZID=Europe/Berlin:20230523T093000
DTEND;TZID=Europe/Berlin:20230523T163000
DTSTAMP:20260419T152822
CREATED:20230427T091405Z
LAST-MODIFIED:20230427T103800Z
UID:10002030-1684834200-1684859400@event.dlr.de
SUMMARY:DLR auf der bonding in Braunschweig 2023
DESCRIPTION:Copyright: bonding \n\n\nDiscover DLR: insights\, contacts and all information for your start \nBesides aerospace\, what areas of research does DLR work on? How can you take part in developing solutions for the world of tomorrow? And how can you realise your career visions and professional dreams when joining us? Not only do we explore the burning questions of future society\, but we also answer all questions of students and graduates interested in job entry opportunities at DLR. \nAt our booth at bonding\, you’ll get to know our scientists and enter our fascinating worlds of research. \nDiscover DLR – and your future career. We look forward to seeing you! \n  \nWhat: bonding job fair in Braunschweig (German link)\nWhen: 23 May 2023 | fair day 1 | 9:30-16:30
URL:https://event.dlr.de/en/event/dlr-auf-der-bonding-in-braunschweig-2023/
LOCATION:TU Carola Wilhelmina zu Braunschweig Campus Nord\, Bienroder Weg 80-97\, Braunschweig\, 38106\, Deutschland
CATEGORIES:Messe
ATTACH;FMTTYPE=image/jpeg:https://event.dlr.de/wp-content/uploads/2019/05/Bonding_Logo_16_9_l.jpg
END:VEVENT
BEGIN:VEVENT
DTSTART;TZID=Europe/Berlin:20230523T153000
DTEND;TZID=Europe/Berlin:20230523T170000
DTSTAMP:20260419T152822
CREATED:20221028T082940Z
LAST-MODIFIED:20221028T082940Z
UID:10003413-1684855800-1684861200@event.dlr.de
SUMMARY:DLR Astroseminar 2023 |  Climate Engineering und Klimaanpassung
DESCRIPTION:Wir laden Sie herzlich ein zum Astroseminar 2023 \nDie Astroseminar Veranstaltungen finden jeweils Dienstagsnachmittags im Zeitraum 28.03. – 30.05. 2023 von 15:30 bis 17:00 Uhr\nzum Thema „Climate Engineering und Klimaanpassung“ statt. \nDie Veranstaltungsreihe wird in einem hybriden Format stattfinden. Das bedeutet\, neben der Online-Teilnahmemöglichkeit\nper Livestream gibt es eine begrenzte Anzahl an Plätzen für die Teilnahme vor Ort im DLR Köln-Porz. \nBitte entscheiden Sie sich bei der Anmeldung verbindlich\, ob Sie das Astroseminar 2023 in Präsenz besuchen oder online im Livestream verfolgen möchten\,\nund geben dies entsprechend bei Ihrer Registrierung an. \nWeitere Informationen zur Veranstaltung\, Registrierung und das Programm Astroseminar 2023 finden Sie auf der Registrierungswebseite. \nWir freuen uns\, Sie an unseren Veranstaltungsterminen in Köln – oder virtuell – begrüßen zu dürfen. \nManfred Gaida
URL:https://event.dlr.de/en/event/dlr-astroseminar-2023-climate-engineering-und-klimaanpassung/
LOCATION:DLR Köln Porz\, Gebäude 53\,  1. OG\, großer Saal\, Linder Höhe\, Köln\, NRW\, 51147
CATEGORIES:Seminar
ATTACH;FMTTYPE=image/jpeg:https://event.dlr.de/wp-content/uploads/2022/10/Astroseminar-headerImagePath_dlr_163_de.jpg
ORGANIZER;CN="Dr. Manfred Gaida":MAILTO:Manfred.Gaida@dlr.de
END:VEVENT
END:VCALENDAR