BEGIN:VCALENDAR
VERSION:2.0
PRODID:-//DLR Event - ECPv6.15.13.1//NONSGML v1.0//EN
CALSCALE:GREGORIAN
METHOD:PUBLISH
X-WR-CALNAME:DLR Event
X-ORIGINAL-URL:https://event.dlr.de/en
X-WR-CALDESC:Events for DLR Event
REFRESH-INTERVAL;VALUE=DURATION:PT1H
X-Robots-Tag:noindex
X-PUBLISHED-TTL:PT1H
BEGIN:VTIMEZONE
TZID:Europe/Berlin
BEGIN:DAYLIGHT
TZOFFSETFROM:+0100
TZOFFSETTO:+0200
TZNAME:CEST
DTSTART:20230326T010000
END:DAYLIGHT
BEGIN:STANDARD
TZOFFSETFROM:+0200
TZOFFSETTO:+0100
TZNAME:CET
DTSTART:20231029T010000
END:STANDARD
BEGIN:DAYLIGHT
TZOFFSETFROM:+0100
TZOFFSETTO:+0200
TZNAME:CEST
DTSTART:20240331T010000
END:DAYLIGHT
BEGIN:STANDARD
TZOFFSETFROM:+0200
TZOFFSETTO:+0100
TZNAME:CET
DTSTART:20241027T010000
END:STANDARD
BEGIN:DAYLIGHT
TZOFFSETFROM:+0100
TZOFFSETTO:+0200
TZNAME:CEST
DTSTART:20250330T010000
END:DAYLIGHT
BEGIN:STANDARD
TZOFFSETFROM:+0200
TZOFFSETTO:+0100
TZNAME:CET
DTSTART:20251026T010000
END:STANDARD
END:VTIMEZONE
BEGIN:VEVENT
DTSTART;TZID=Europe/Berlin:20241210T183000
DTEND;TZID=Europe/Berlin:20241210T200000
DTSTAMP:20260420T084728
CREATED:20241126T104239Z
LAST-MODIFIED:20241126T104239Z
UID:10003502-1733855400-1733860800@event.dlr.de
SUMMARY:{:de}DLR Weihnachtsvorlesung 2024{:}{:en}DLR Christman Lecture{:}
DESCRIPTION:We cordially invite you to the Christmas Lecture of the German Aerospace Center (DLR) in Stuttgart on 10 December 2024 at 6:30pm in Café Faust. \nIn the tradition of the much-loved British Christmas Lectures\, which the English natural scientist and physicist Michael Faraday initiated at the Royal Institution in the mid-19th century\, we are once again presenting an exciting topic from the DLR cosmos this year: Dr. Marc Philipp Linder from the DLR Institute of Engineering Thermodynamics will be presenting his research topic entitled “Heating for the climate?”. \n“Based on current DLR research results on CO2-free heating based on lime\, we are jointly exploring the question of whether CO2-negative heating could also be possible in the future. What effort would you be prepared to make to reverse the CO2 emissions of your last holiday trip with your heating system?” \nCome along and talk to us afterwards.\nWe look forward to your visit!
URL:https://event.dlr.de/en/event/dlr-weihnachtsvorlesung-2024/
LOCATION:Café Faust\, Geschwister-Scholl-Straße 24c\, Stuttgart\, 70174\, Deutschland
CATEGORIES:Event,Vortrag
ATTACH;FMTTYPE=image/jpeg:https://event.dlr.de/wp-content/uploads/2024/11/Weihnachtsvorlesung2024_E-Mailbanner-1.jpg
END:VEVENT
END:VCALENDAR