BEGIN:VCALENDAR
VERSION:2.0
PRODID:-//DLR Event - ECPv6.15.13.1//NONSGML v1.0//EN
CALSCALE:GREGORIAN
METHOD:PUBLISH
X-ORIGINAL-URL:https://event.dlr.de/en
X-WR-CALDESC:Events for DLR Event
REFRESH-INTERVAL;VALUE=DURATION:PT1H
X-Robots-Tag:noindex
X-PUBLISHED-TTL:PT1H
BEGIN:VTIMEZONE
TZID:Europe/Berlin
BEGIN:DAYLIGHT
TZOFFSETFROM:+0100
TZOFFSETTO:+0200
TZNAME:CEST
DTSTART:20240331T010000
END:DAYLIGHT
BEGIN:STANDARD
TZOFFSETFROM:+0200
TZOFFSETTO:+0100
TZNAME:CET
DTSTART:20241027T010000
END:STANDARD
BEGIN:DAYLIGHT
TZOFFSETFROM:+0100
TZOFFSETTO:+0200
TZNAME:CEST
DTSTART:20250330T010000
END:DAYLIGHT
BEGIN:STANDARD
TZOFFSETFROM:+0200
TZOFFSETTO:+0100
TZNAME:CET
DTSTART:20251026T010000
END:STANDARD
BEGIN:DAYLIGHT
TZOFFSETFROM:+0100
TZOFFSETTO:+0200
TZNAME:CEST
DTSTART:20260329T010000
END:DAYLIGHT
BEGIN:STANDARD
TZOFFSETFROM:+0200
TZOFFSETTO:+0100
TZNAME:CET
DTSTART:20261025T010000
END:STANDARD
END:VTIMEZONE
BEGIN:VEVENT
DTSTART;VALUE=DATE:20250226
DTEND;VALUE=DATE:20250301
DTSTAMP:20260419T170040
CREATED:20240701T075520Z
LAST-MODIFIED:20240701T075616Z
UID:10003482-1740528000-1740787199@event.dlr.de
SUMMARY:Advanced Satellite Multimedia Systems Conference (ASMS)
DESCRIPTION:The 12th Advanced Satellite Multimedia Systems Conference and the 18th Signal Processing for Space Communications Workshop will take place in Sitges\, near Barcelona (Spain)\, from 26 to 28 February 2025. \nThe event is jointly organized by the DLR Institute for Communications and Navigation and the Centre Tecnològic de Telecomunicacions de Catalunya (CTTC)\, with the scientific support of the European Space Agency (ESA) and the University of Bologna. \nThe leitmotiv of the event will be the role of Non-Terrestrial Networks (NTN) within future 6G systems. \nFollowing a consolidated tradition\, this top-level event for the Satellite Communications community provides a very exciting program in terms of keynotes speeches\, tutorials and special sessions\, addressing the most advanced research topics in satellite communications\, together with great opportunities of networking with other colleagues and experts from both academia and industry. \n 
URL:https://event.dlr.de/en/event/advanced-satellite-multimedia-systems-conference-asms/
LOCATION:Hotel Sunway Playa Golf & Spa\, Passeig Marítim\, 92\, Sitges\, 08870\, Spanien
CATEGORIES:Konferenz,Workshop
ATTACH;FMTTYPE=image/png:https://event.dlr.de/wp-content/uploads/2024/07/ASMS-2025.png
ORGANIZER;CN="Dr.-Ing. Sandro Scalise":MAILTO:Sandro.Scalise@dlr.de
END:VEVENT
END:VCALENDAR