BEGIN:VCALENDAR
VERSION:2.0
PRODID:-//DLR Event - ECPv6.15.13.1//NONSGML v1.0//EN
CALSCALE:GREGORIAN
METHOD:PUBLISH
X-WR-CALNAME:DLR Event
X-ORIGINAL-URL:https://event.dlr.de
X-WR-CALDESC:Veranstaltungen für DLR Event
REFRESH-INTERVAL;VALUE=DURATION:PT1H
X-Robots-Tag:noindex
X-PUBLISHED-TTL:PT1H
BEGIN:VTIMEZONE
TZID:Europe/Berlin
BEGIN:DAYLIGHT
TZOFFSETFROM:+0100
TZOFFSETTO:+0200
TZNAME:CEST
DTSTART:20230326T010000
END:DAYLIGHT
BEGIN:STANDARD
TZOFFSETFROM:+0200
TZOFFSETTO:+0100
TZNAME:CET
DTSTART:20231029T010000
END:STANDARD
BEGIN:DAYLIGHT
TZOFFSETFROM:+0100
TZOFFSETTO:+0200
TZNAME:CEST
DTSTART:20240331T010000
END:DAYLIGHT
BEGIN:STANDARD
TZOFFSETFROM:+0200
TZOFFSETTO:+0100
TZNAME:CET
DTSTART:20241027T010000
END:STANDARD
BEGIN:DAYLIGHT
TZOFFSETFROM:+0100
TZOFFSETTO:+0200
TZNAME:CEST
DTSTART:20250330T010000
END:DAYLIGHT
BEGIN:STANDARD
TZOFFSETFROM:+0200
TZOFFSETTO:+0100
TZNAME:CET
DTSTART:20251026T010000
END:STANDARD
END:VTIMEZONE
BEGIN:VEVENT
DTSTART;VALUE=DATE:20240417
DTEND;VALUE=DATE:20240421
DTSTAMP:20260419T183614
CREATED:20240115T093946Z
LAST-MODIFIED:20240416T135837Z
UID:18405-1713312000-1713657599@event.dlr.de
SUMMARY:{:de}AERO Friedrichshafen 2024{:}{:en}AERO Friedrichshafen 2024{:}
DESCRIPTION:Die AERO ist die internationale Leitmesse für die Allgemeine Luftfahrt\, die Business Aviation und den Luftsport. Mit mehr als 650 Ausstellern aus 35 Nationen\, 33.000 Besuchern und 600 Journalisten aus aller Welt ist die AERO Friedrichshafen der weltweit wichtigste jährliche Treffpunkt der Community. Auf dem neuen Messegelände in Friedrichshafen werden Fluggeräte von der zivilen Drohne über Segelflugzeuge\, Ultraleichtflugzeuge und Gyrocopter\, Helikopter\, Reise- und Trainingsflugzeuge mit Kolbenmotor oder Propellerturbine bis hin zu Businessjets präsentiert. \nDas DLR präsentiert aktuelle Projekte und Themen zum Elektrischen Fliegen\, mit Schwerpunkt aus den Instituten für Elektrifizierte Luftfahrtantrieben und Technische Thermodynamik sowie der Einrichtung Technologien für Kleinflugzeuge bzw. des Innovationszentrums für Kleinflugzeug-Technologien. \nSie finden das DLR in Halle A7\, Stand 201.
URL:https://event.dlr.de/event/aero-friedrichshafen-2024/
LOCATION:Messe Friedrichshafen\, Neue Messe 1\, Friedrichshafen\, 88046\, Deutschland
CATEGORIES:Messe
ATTACH;FMTTYPE=image/jpeg:https://event.dlr.de/wp-content/uploads/2024/01/Aero_Stand2023-1.jpg
END:VEVENT
END:VCALENDAR