BEGIN:VCALENDAR
VERSION:2.0
PRODID:-//DLR Event - ECPv6.15.13.1//NONSGML v1.0//EN
CALSCALE:GREGORIAN
METHOD:PUBLISH
X-ORIGINAL-URL:https://event.dlr.de
X-WR-CALDESC:Veranstaltungen für DLR Event
REFRESH-INTERVAL;VALUE=DURATION:PT1H
X-Robots-Tag:noindex
X-PUBLISHED-TTL:PT1H
BEGIN:VTIMEZONE
TZID:Europe/Berlin
BEGIN:DAYLIGHT
TZOFFSETFROM:+0100
TZOFFSETTO:+0200
TZNAME:CEST
DTSTART:20190331T010000
END:DAYLIGHT
BEGIN:STANDARD
TZOFFSETFROM:+0200
TZOFFSETTO:+0100
TZNAME:CET
DTSTART:20191027T010000
END:STANDARD
BEGIN:DAYLIGHT
TZOFFSETFROM:+0100
TZOFFSETTO:+0200
TZNAME:CEST
DTSTART:20200329T010000
END:DAYLIGHT
BEGIN:STANDARD
TZOFFSETFROM:+0200
TZOFFSETTO:+0100
TZNAME:CET
DTSTART:20201025T010000
END:STANDARD
BEGIN:DAYLIGHT
TZOFFSETFROM:+0100
TZOFFSETTO:+0200
TZNAME:CEST
DTSTART:20210328T010000
END:DAYLIGHT
BEGIN:STANDARD
TZOFFSETFROM:+0200
TZOFFSETTO:+0100
TZNAME:CET
DTSTART:20211031T010000
END:STANDARD
END:VTIMEZONE
BEGIN:VEVENT
DTSTART;TZID=Europe/Berlin:20200509T100000
DTEND;TZID=Europe/Berlin:20200509T170000
DTSTAMP:20260421T044312
CREATED:20200302T100422Z
LAST-MODIFIED:20200417T090739Z
UID:10002304-1589018400-1589043600@event.dlr.de
SUMMARY:women&work Frankfurt am Main
DESCRIPTION:Höhenflüge für Frauen – das DLR auf der Frankfurter Karrieremesse \nAuf Europas größtem Karriere-Event für Frauen in Frankfurt am Main informieren sich Besucherinnen über interessante Arbeitgeber\, Karrierewege und verschiedene Einstiegsmöglichkeiten. Mit dabei: das Deutsche Zentrum für Luft- und Raumfahrt (DLR). \nMit seinen faszinierenden Forschungsprojekten\, einer einzigartigen Infrastruktur sowie seiner familienfreundlichen Arbeitswelt möchte das DLR weiter hoch qualifizierte Studentinnen\, Absolventinnen und (Young) Professionals aus dem MINT-Bereich gewinnen. \nAn unserem Karrierestand geben Ihnen unsere Mitarbeiterinnen exklusive Einblicke in die Arbeitswelt des DLR. Wir informieren Sie außerdem über Praktika\, Studien- und Abschlussarbeiten sowie Einstiegs- und Karrierechancen. \nWir freuen uns auf Sie! \nWas: women&work\, Karriere-Event für Frauen\nWo: FORUM Messe Frankfurt | Ludwig-Erhard-Anlage 1 | 60327 Frankfurt am Main\nWann: 9. Mai 2020 | 10:00-17:00 Uhr
URL:https://event.dlr.de/event/womenwork-frankfurt-am-main/
LOCATION:FORUM Messe Frankfurt\, Ludwig-Erhard-Anlage 1\, Frankfurt am Main\, 60327\, Deutschland
ATTACH;FMTTYPE=image/jpeg:https://event.dlr.de/wp-content/uploads/2020/03/WomenWork_2020.jpg
END:VEVENT
END:VCALENDAR