BEGIN:VCALENDAR
VERSION:2.0
PRODID:-//DLR Event - ECPv6.15.13.1//NONSGML v1.0//EN
CALSCALE:GREGORIAN
METHOD:PUBLISH
X-WR-CALNAME:DLR Event
X-ORIGINAL-URL:https://event.dlr.de
X-WR-CALDESC:Veranstaltungen für DLR Event
REFRESH-INTERVAL;VALUE=DURATION:PT1H
X-Robots-Tag:noindex
X-PUBLISHED-TTL:PT1H
BEGIN:VTIMEZONE
TZID:Europe/Berlin
BEGIN:DAYLIGHT
TZOFFSETFROM:+0100
TZOFFSETTO:+0200
TZNAME:CEST
DTSTART:20190331T010000
END:DAYLIGHT
BEGIN:STANDARD
TZOFFSETFROM:+0200
TZOFFSETTO:+0100
TZNAME:CET
DTSTART:20191027T010000
END:STANDARD
BEGIN:DAYLIGHT
TZOFFSETFROM:+0100
TZOFFSETTO:+0200
TZNAME:CEST
DTSTART:20200329T010000
END:DAYLIGHT
BEGIN:STANDARD
TZOFFSETFROM:+0200
TZOFFSETTO:+0100
TZNAME:CET
DTSTART:20201025T010000
END:STANDARD
BEGIN:DAYLIGHT
TZOFFSETFROM:+0100
TZOFFSETTO:+0200
TZNAME:CEST
DTSTART:20210328T010000
END:DAYLIGHT
BEGIN:STANDARD
TZOFFSETFROM:+0200
TZOFFSETTO:+0100
TZNAME:CET
DTSTART:20211031T010000
END:STANDARD
END:VTIMEZONE
BEGIN:VEVENT
DTSTART;VALUE=DATE:20200513
DTEND;VALUE=DATE:20200518
DTSTAMP:20260421T044121
CREATED:20200219T083622Z
LAST-MODIFIED:20200703T095843Z
UID:10001944-1589328000-1589759999@event.dlr.de
SUMMARY:ILA 2020 Internationale Luft- und Raumfahrtausstellung
DESCRIPTION:Die Internationale Luft- und Raumfahrtausstellung ILA im Berlin ExpoCenter Airport in Schönefeld ist Marktplatz für die globale Luft- und Raumfahrt-Industrie. \nDas DLR zeigt an seinem Ausstellungsstand in Halle 4 aktuelle Forschungshighlights aus den Bereichen Luftfahrt\, Raumfahrt\, Energie\, Verkehr\, Sicherheit und Digitalisierung. Im Space Pavilion präsentiert das DLR Raumfahrtmanagement – gemeinsam mit der Europäischen Weltraumorganisation ESA und dem Bundesverband der deutschen Luft- und Raumfahrtindustrie – Raumfahrtprojekte deutscher Unternehmen. \nZudem ist das DLR mit eigenem Fluggerät auf dem Vorfeld und mit Personalmarketing-Experten im Career Center vertreten.
URL:https://event.dlr.de/event/ila-2020-internationale-luft-und-raumfahrtausstellung/
LOCATION:Berlin ExpoCenter Airport\, Messestr. 1 \, Schönefeld\, 12529\, Deutschland
CATEGORIES:Messe
ATTACH;FMTTYPE=image/jpeg:https://event.dlr.de/wp-content/uploads/2020/02/ILA2020-Standardbanner-468x100.jpg
ORGANIZER;CN="Deutsches Zentrum f%C3%BCr Luft- und Raumfahrt (DLR)":MAILTO:event@dlr.de
GEO:52.3532889;13.4719039
X-APPLE-STRUCTURED-LOCATION;VALUE=URI;X-ADDRESS=Berlin ExpoCenter Airport Messestr. 1  Schönefeld 12529 Deutschland;X-APPLE-RADIUS=500;X-TITLE=Messestr. 1:geo:13.4719039,52.3532889
END:VEVENT
END:VCALENDAR