BEGIN:VCALENDAR
VERSION:2.0
PRODID:-//DLR Event - ECPv6.15.13.1//NONSGML v1.0//EN
CALSCALE:GREGORIAN
METHOD:PUBLISH
X-ORIGINAL-URL:https://event.dlr.de
X-WR-CALDESC:Veranstaltungen für DLR Event
REFRESH-INTERVAL;VALUE=DURATION:PT1H
X-Robots-Tag:noindex
X-PUBLISHED-TTL:PT1H
BEGIN:VTIMEZONE
TZID:Europe/Berlin
BEGIN:DAYLIGHT
TZOFFSETFROM:+0100
TZOFFSETTO:+0200
TZNAME:CEST
DTSTART:20190331T010000
END:DAYLIGHT
BEGIN:STANDARD
TZOFFSETFROM:+0200
TZOFFSETTO:+0100
TZNAME:CET
DTSTART:20191027T010000
END:STANDARD
BEGIN:DAYLIGHT
TZOFFSETFROM:+0100
TZOFFSETTO:+0200
TZNAME:CEST
DTSTART:20200329T010000
END:DAYLIGHT
BEGIN:STANDARD
TZOFFSETFROM:+0200
TZOFFSETTO:+0100
TZNAME:CET
DTSTART:20201025T010000
END:STANDARD
BEGIN:DAYLIGHT
TZOFFSETFROM:+0100
TZOFFSETTO:+0200
TZNAME:CEST
DTSTART:20210328T010000
END:DAYLIGHT
BEGIN:STANDARD
TZOFFSETFROM:+0200
TZOFFSETTO:+0100
TZNAME:CET
DTSTART:20211031T010000
END:STANDARD
END:VTIMEZONE
BEGIN:VEVENT
DTSTART;TZID=Europe/Berlin:20200622T200000
DTEND;TZID=Europe/Berlin:20200624T170000
DTSTAMP:20260421T030010
CREATED:20200303T095841Z
LAST-MODIFIED:20200417T092610Z
UID:10002306-1592856000-1593018000@event.dlr.de
SUMMARY:EMEA2020 - Workshop on Ion Exchange Membranes for Energy Applications - Fuel Cells . Electrolysers . Flow Batteries
DESCRIPTION:The upcoming Workshop EMEA2020 will discuss the latest new results in material development and in the area of ion exchange membranes and their system integration with a focus on anion exchange membranes and AEM-based systems such as fuel cells\, electrolysers and redox flow batteries. \nEMEA2020 will take place from June 22nd to 24th\, 2020 in Bad Zwischenahn. In addition to invited and submitted lectures\, the international workshop offers a panel discussion in which experts from research and industry discuss the development of the field. A poster exhibition offers scientists and especially young researchers the opportunity to present their work. A prize for the best poster will be awarded. A laboratory tour at the DLR Institute of Networked Energy Systems in Oldenburg (formerly NEXT ENERGY)\, sufficient break times\, a get-together and a conference dinner offer a wide range of opportunities for a lively scientific exchange in a family atmosphere. \nRegistrations and submissions of abstracts for lectures and / or poster presentations are now possible. Further information and the abstract template are available on the workshop website www.emea-workshop.de. You can register here.
URL:https://event.dlr.de/event/emea2020-workshop-on-ion-exchange-membranes-for-energy-applications-fuel-cells-electrolysers-flow-batteries/
LOCATION:Hansens Haus am Meer Hotel\, Auf dem Hohen Ufer 25\, Bad Zwischenahn\, Niedersachsen\, 26160\, Deutschland
CATEGORIES:Workshop
ATTACH;FMTTYPE=image/png:https://event.dlr.de/wp-content/uploads/2020/03/EMEA2020.png
END:VEVENT
END:VCALENDAR