BEGIN:VCALENDAR
VERSION:2.0
PRODID:-//DLR Event - ECPv6.15.13.1//NONSGML v1.0//EN
CALSCALE:GREGORIAN
METHOD:PUBLISH
X-WR-CALNAME:DLR Event
X-ORIGINAL-URL:https://event.dlr.de
X-WR-CALDESC:Veranstaltungen für DLR Event
REFRESH-INTERVAL;VALUE=DURATION:PT1H
X-Robots-Tag:noindex
X-PUBLISHED-TTL:PT1H
BEGIN:VTIMEZONE
TZID:Europe/Berlin
BEGIN:DAYLIGHT
TZOFFSETFROM:+0100
TZOFFSETTO:+0200
TZNAME:CEST
DTSTART:20190331T010000
END:DAYLIGHT
BEGIN:STANDARD
TZOFFSETFROM:+0200
TZOFFSETTO:+0100
TZNAME:CET
DTSTART:20191027T010000
END:STANDARD
BEGIN:DAYLIGHT
TZOFFSETFROM:+0100
TZOFFSETTO:+0200
TZNAME:CEST
DTSTART:20200329T010000
END:DAYLIGHT
BEGIN:STANDARD
TZOFFSETFROM:+0200
TZOFFSETTO:+0100
TZNAME:CET
DTSTART:20201025T010000
END:STANDARD
BEGIN:DAYLIGHT
TZOFFSETFROM:+0100
TZOFFSETTO:+0200
TZNAME:CEST
DTSTART:20210328T010000
END:DAYLIGHT
BEGIN:STANDARD
TZOFFSETFROM:+0200
TZOFFSETTO:+0100
TZNAME:CET
DTSTART:20211031T010000
END:STANDARD
END:VTIMEZONE
BEGIN:VEVENT
DTSTART;TZID=Europe/Berlin:20200624T180000
DTEND;TZID=Europe/Berlin:20200626T150000
DTSTAMP:20260421T025845
CREATED:20200303T093939Z
LAST-MODIFIED:20200406T070214Z
UID:10002305-1593021600-1593183600@event.dlr.de
SUMMARY:HiPEM-TECH2020 - Workshop on High Temperature Polymer Electrolyte Membrane Fuel Cell Technology – Materials and Applications
DESCRIPTION:The international HiPEM-TECH2020 “Workshop on High Temperature Polymer Electrolyte Membrane Fuel Cell Technology – Materials and Applications” has been postponed.  \nThe planned HiPEM-TECH2020 in Bad Zwischenahn from 24 to 26 June 2020 is postponed to 22nd to 24th June 2022 in Bad Zwischenahn (Germany). For further information have a look on our website or contact hipem-tech@dlr.de. \n  \nHiPEM-TECH is the workshop about the technology of high temperature polymer electrolyte membrane (HT-PEM) fuel cells and brings together representatives from research and industry to present and discuss recent advancements in materials up to applications. Participants will gain valuable insights into the development of this field and the progress towards marketability. \nThe upcoming HiPEM-TECH2020 will be from 24th to 26th June 2020 in Bad Zwischenahn and is the begin of a new workshop series which will be hosted every two years by the German Aerospace Center in Oldenburg (DLR\, Germany)\, Korea Institute of Science and Technology (KIST\, South Korea) and the Technical University of Denmark (DTU\, Denmark). In addition to invited and contributed talks\, a poster exhibition offers scientists and especially young researchers and students the opportunity to present their work. A price for the best poster will be awarded. The get-together and a workshop-dinner will provide additional opportunities for lively scientific exchange in a familiar atmosphere and beautiful location. \nRegister now for HiPEM-TECH2020
URL:https://event.dlr.de/event/hipem-tech2020-workshop-on-high-temperature-polymer-electrolyte-membrane-fuel-cell-technology-materials-and-applications/
LOCATION:HansenS Haus am Meer\, Auf dem Hohen Ufer 25\, Bad Zwischenahn\, Niedersachsen\, 26160\, Deutschland
CATEGORIES:Workshop
ATTACH;FMTTYPE=image/png:https://event.dlr.de/wp-content/uploads/2020/03/HiPEM_Tech2020.png
END:VEVENT
END:VCALENDAR