BEGIN:VCALENDAR
VERSION:2.0
PRODID:-//DLR Event - ECPv6.15.13.1//NONSGML v1.0//EN
CALSCALE:GREGORIAN
METHOD:PUBLISH
X-ORIGINAL-URL:https://event.dlr.de
X-WR-CALDESC:Veranstaltungen für DLR Event
REFRESH-INTERVAL;VALUE=DURATION:PT1H
X-Robots-Tag:noindex
X-PUBLISHED-TTL:PT1H
BEGIN:VTIMEZONE
TZID:Europe/Paris
BEGIN:DAYLIGHT
TZOFFSETFROM:+0100
TZOFFSETTO:+0200
TZNAME:CEST
DTSTART:20190331T010000
END:DAYLIGHT
BEGIN:STANDARD
TZOFFSETFROM:+0200
TZOFFSETTO:+0100
TZNAME:CET
DTSTART:20191027T010000
END:STANDARD
BEGIN:DAYLIGHT
TZOFFSETFROM:+0100
TZOFFSETTO:+0200
TZNAME:CEST
DTSTART:20200329T010000
END:DAYLIGHT
BEGIN:STANDARD
TZOFFSETFROM:+0200
TZOFFSETTO:+0100
TZNAME:CET
DTSTART:20201025T010000
END:STANDARD
BEGIN:DAYLIGHT
TZOFFSETFROM:+0100
TZOFFSETTO:+0200
TZNAME:CEST
DTSTART:20210328T010000
END:DAYLIGHT
BEGIN:STANDARD
TZOFFSETFROM:+0200
TZOFFSETTO:+0100
TZNAME:CET
DTSTART:20211031T010000
END:STANDARD
END:VTIMEZONE
BEGIN:VEVENT
DTSTART;TZID=Europe/Paris:20201012T110000
DTEND;TZID=Europe/Paris:20201014T190000
DTSTAMP:20260420T195438
CREATED:20200414T084548Z
LAST-MODIFIED:20201012T094516Z
UID:10002311-1602500400-1602702000@event.dlr.de
SUMMARY:71st International Astronautical Congress (IAC) - The CyberSpace Edition
DESCRIPTION:Since its first edition in 1950\, the IAC has been THE place for all space people to come together and discuss about the latest developments in space. In these challenging times\, when physical meetings are near-impossible\, the Federation\, more than ever\, is determined to play its unifying role for the space community. And this is why we have decided to organize the 71st International Astronautical Congress\, IAC 2020\, as a Cyberspace Edition and to offer it without registration fee\, free of charge for a global community. This will allow us to also reach out to new communities and stakeholders that would normally not have the means and/or time to physically travel to an IAC. \nThe theme of the IAC 2020 – The CyberSpace Edition will indeed be about the IAF Motto: “IAF Connecting @ll Space People”. The IAF has understood that all the measures to address the COVID-19 pandemic that rely on social distancing and social isolation are placing a huge strain on communities. As the world is grappling with this massive challenge\, the role of the Federation in the space community has become of paramount importance in connecting people back together. Virtually and for free\, we will embrace resilience by being connected together. \nVisit the DLR booth 
URL:https://event.dlr.de/event/international-astronautical-congress-iac-2/
CATEGORIES:Messe,Online-Messe,Web-Konferenz
ATTACH;FMTTYPE=image/jpeg:https://event.dlr.de/wp-content/uploads/2020/04/IAC2020-Beitragsbild.jpg
END:VEVENT
END:VCALENDAR