BEGIN:VCALENDAR
VERSION:2.0
PRODID:-//DLR Event - ECPv6.15.13.1//NONSGML v1.0//EN
CALSCALE:GREGORIAN
METHOD:PUBLISH
X-WR-CALNAME:DLR Event
X-ORIGINAL-URL:https://event.dlr.de
X-WR-CALDESC:Veranstaltungen für DLR Event
REFRESH-INTERVAL;VALUE=DURATION:PT1H
X-Robots-Tag:noindex
X-PUBLISHED-TTL:PT1H
BEGIN:VTIMEZONE
TZID:Europe/Berlin
BEGIN:DAYLIGHT
TZOFFSETFROM:+0100
TZOFFSETTO:+0200
TZNAME:CEST
DTSTART:20190331T010000
END:DAYLIGHT
BEGIN:STANDARD
TZOFFSETFROM:+0200
TZOFFSETTO:+0100
TZNAME:CET
DTSTART:20191027T010000
END:STANDARD
BEGIN:DAYLIGHT
TZOFFSETFROM:+0100
TZOFFSETTO:+0200
TZNAME:CEST
DTSTART:20200329T010000
END:DAYLIGHT
BEGIN:STANDARD
TZOFFSETFROM:+0200
TZOFFSETTO:+0100
TZNAME:CET
DTSTART:20201025T010000
END:STANDARD
BEGIN:DAYLIGHT
TZOFFSETFROM:+0100
TZOFFSETTO:+0200
TZNAME:CEST
DTSTART:20210328T010000
END:DAYLIGHT
BEGIN:STANDARD
TZOFFSETFROM:+0200
TZOFFSETTO:+0100
TZNAME:CET
DTSTART:20211031T010000
END:STANDARD
END:VTIMEZONE
BEGIN:VEVENT
DTSTART;TZID=Europe/Berlin:20201015T120000
DTEND;TZID=Europe/Berlin:20201015T190000
DTSTAMP:20260420T195317
CREATED:20201001T162022Z
LAST-MODIFIED:20201001T162340Z
UID:10002315-1602763200-1602788400@event.dlr.de
SUMMARY:Careers Live 2020
DESCRIPTION:Starten Sie Ihre Mission beim DLR: auf der virtuellen Karrieremesse! \nErfahren Sie mehr über unsere Forschungsprojekte\, Arbeitswelt und Werte – und über die Menschen\, die das DLR ausmachen. Entdecken Sie\, wie viel Sie mit Ihrem Wissen bewegen können\, wenn Sie den Raum dafür bekommen: in unseren Forschungsbereichen Luftfahrt\, Raumfahrt\, Energie\, Verkehr\, Sicherheit und Digitalisierung von den Grundlagen bis zur Anwendung. \nWir sagen Ihnen\, wie Sie bei uns aus Ihren Visionen Wirklichkeit werden lassen können. Und wir haben natürlich auf Ihre Fragen zu persönlichen Einstiegs- und Entwicklungschancen beim DLR eine Antwort. Chatten Sie mit uns persönlich und nehmen Sie wichtige Einblicke und Tipps für Ihren Einstieg mit! \nMachen Sie den ersten Schritt: an unserem virtuellen DLR-Karrierestand. Hier geht’s zur Anmeldung. \nWir freuen uns auf interessante Gespräche mit Ihnen! \nWas: Careers Live 2020\nWo: online\nWann: 15. Oktober 2020 | 12:00 – 19:00 Uhr
URL:https://event.dlr.de/event/careers-live-2020/
CATEGORIES:Virtuelle Messe,Web-Konferenz
ATTACH;FMTTYPE=image/jpeg:https://event.dlr.de/wp-content/uploads/2020/10/Karrieremesse2020.jpg
END:VEVENT
END:VCALENDAR