BEGIN:VCALENDAR
VERSION:2.0
PRODID:-//DLR Event - ECPv6.15.13.1//NONSGML v1.0//EN
CALSCALE:GREGORIAN
METHOD:PUBLISH
X-ORIGINAL-URL:https://event.dlr.de
X-WR-CALDESC:Veranstaltungen für DLR Event
REFRESH-INTERVAL;VALUE=DURATION:PT1H
X-Robots-Tag:noindex
X-PUBLISHED-TTL:PT1H
BEGIN:VTIMEZONE
TZID:Europe/London
BEGIN:DAYLIGHT
TZOFFSETFROM:+0000
TZOFFSETTO:+0100
TZNAME:BST
DTSTART:20190331T010000
END:DAYLIGHT
BEGIN:STANDARD
TZOFFSETFROM:+0100
TZOFFSETTO:+0000
TZNAME:GMT
DTSTART:20191027T010000
END:STANDARD
BEGIN:DAYLIGHT
TZOFFSETFROM:+0000
TZOFFSETTO:+0100
TZNAME:BST
DTSTART:20200329T010000
END:DAYLIGHT
BEGIN:STANDARD
TZOFFSETFROM:+0100
TZOFFSETTO:+0000
TZNAME:GMT
DTSTART:20201025T010000
END:STANDARD
BEGIN:DAYLIGHT
TZOFFSETFROM:+0000
TZOFFSETTO:+0100
TZNAME:BST
DTSTART:20210328T010000
END:DAYLIGHT
BEGIN:STANDARD
TZOFFSETFROM:+0100
TZOFFSETTO:+0000
TZNAME:GMT
DTSTART:20211031T010000
END:STANDARD
END:VTIMEZONE
BEGIN:VTIMEZONE
TZID:Europe/Berlin
BEGIN:DAYLIGHT
TZOFFSETFROM:+0100
TZOFFSETTO:+0200
TZNAME:CEST
DTSTART:20190331T010000
END:DAYLIGHT
BEGIN:STANDARD
TZOFFSETFROM:+0200
TZOFFSETTO:+0100
TZNAME:CET
DTSTART:20191027T010000
END:STANDARD
BEGIN:DAYLIGHT
TZOFFSETFROM:+0100
TZOFFSETTO:+0200
TZNAME:CEST
DTSTART:20200329T010000
END:DAYLIGHT
BEGIN:STANDARD
TZOFFSETFROM:+0200
TZOFFSETTO:+0100
TZNAME:CET
DTSTART:20201025T010000
END:STANDARD
BEGIN:DAYLIGHT
TZOFFSETFROM:+0100
TZOFFSETTO:+0200
TZNAME:CEST
DTSTART:20210328T010000
END:DAYLIGHT
BEGIN:STANDARD
TZOFFSETFROM:+0200
TZOFFSETTO:+0100
TZNAME:CET
DTSTART:20211031T010000
END:STANDARD
END:VTIMEZONE
BEGIN:VEVENT
DTSTART;TZID=Europe/London:20201020T080000
DTEND;TZID=Europe/London:20201021T180000
DTSTAMP:20260420T195429
CREATED:20190805T134558Z
LAST-MODIFIED:20201015T083353Z
UID:10001922-1603180800-1603303200@event.dlr.de
SUMMARY:{:de}ASMS/SPSC 2020 (Online-Konferenz){:}{:en}ASMS/SPSC 2020 / Web-Conference{:}
DESCRIPTION:Important Announcement \nDue to the current international COVID-19 outbreak and the associated strong uncertainty concerning the possibility to travel during the next months\, the board of chairmen decided that the 10th Advanced Satellite Multimedia Systems Conference and the 16th Signal Processing for Space Communications Workshop will take place as a virtual joint event from October 20th to 21st\, 2020. \nThe conference programme has been completely reworked to fit the new format in order to offer an attractive event to all participants\, including suitable solutions to account for the time difference around the globe – a first draft is available here: preliminary programme \nThe registration is open now. \nPlease register for the virtual conference here \nWe hope you are all healthy and we will have the chance to meet online in October!!! \nThe official language of the Conference is English.
URL:https://event.dlr.de/event/asms-spsc-2020-conferences/
CATEGORIES:Web-Konferenz
ATTACH;FMTTYPE=image/jpeg:https://event.dlr.de/wp-content/uploads/2019/08/ASMS_Header_oSponsor_wegovirtual_2020-1.jpg
END:VEVENT
BEGIN:VEVENT
DTSTART;TZID=Europe/Berlin:20201020T080000
DTEND;TZID=Europe/Berlin:20201023T170000
DTSTAMP:20260420T195429
CREATED:20200902T133213Z
LAST-MODIFIED:20200902T133213Z
UID:10002313-1603180800-1603472400@event.dlr.de
SUMMARY:33rd ICTCT Conference
DESCRIPTION:33rd ICTCT Conference\n(postponed to October 2021)\nICTCT Conference – International Co-operation on Theories and Concepts in Traffic safety \nOctober 2021\nBerlin\, Germany \nDue to uncertainties related to travel restrictions\, the Steering Committee and the local organisers decided to postpone the conference to October 2021. \nICTCT is an international association aiming since 1988 at building up and sharing scientific knowledge on road safety\, with a particular interest for methods that do not only rely on crash data but also on non-crash events.\nThe association approaches safety as an integral part of the wider road traffic system\, envisaging all transport modes with a specific emphasis on vulnerable road users.\nThe ICTCT organises conferences\, courses and opportunities for knowledge transfer\, all directed to a worldwide professional audience. \n  \nYou can find more information about the ICTCT: https://www.ictct.net/ \n 
URL:https://event.dlr.de/event/33rd-ictct-conference/
CATEGORIES:Konferenz
ATTACH;FMTTYPE=image/jpeg:https://event.dlr.de/wp-content/uploads/2020/09/ICTCT2020.jpg
END:VEVENT
END:VCALENDAR