BEGIN:VCALENDAR
VERSION:2.0
PRODID:-//DLR Event - ECPv6.15.13.1//NONSGML v1.0//EN
CALSCALE:GREGORIAN
METHOD:PUBLISH
X-WR-CALNAME:DLR Event
X-ORIGINAL-URL:https://event.dlr.de
X-WR-CALDESC:Veranstaltungen für DLR Event
REFRESH-INTERVAL;VALUE=DURATION:PT1H
X-Robots-Tag:noindex
X-PUBLISHED-TTL:PT1H
BEGIN:VTIMEZONE
TZID:Europe/Berlin
BEGIN:DAYLIGHT
TZOFFSETFROM:+0100
TZOFFSETTO:+0200
TZNAME:CEST
DTSTART:20190331T010000
END:DAYLIGHT
BEGIN:STANDARD
TZOFFSETFROM:+0200
TZOFFSETTO:+0100
TZNAME:CET
DTSTART:20191027T010000
END:STANDARD
BEGIN:DAYLIGHT
TZOFFSETFROM:+0100
TZOFFSETTO:+0200
TZNAME:CEST
DTSTART:20200329T010000
END:DAYLIGHT
BEGIN:STANDARD
TZOFFSETFROM:+0200
TZOFFSETTO:+0100
TZNAME:CET
DTSTART:20201025T010000
END:STANDARD
BEGIN:DAYLIGHT
TZOFFSETFROM:+0100
TZOFFSETTO:+0200
TZNAME:CEST
DTSTART:20210328T010000
END:DAYLIGHT
BEGIN:STANDARD
TZOFFSETFROM:+0200
TZOFFSETTO:+0100
TZNAME:CET
DTSTART:20211031T010000
END:STANDARD
END:VTIMEZONE
BEGIN:VEVENT
DTSTART;TZID=Europe/Berlin:20201102T140000
DTEND;TZID=Europe/Berlin:20201104T160000
DTSTAMP:20260420T195318
CREATED:20201030T141222Z
LAST-MODIFIED:20201030T141222Z
UID:10001961-1604325600-1604505600@event.dlr.de
SUMMARY:FVEE-Jahrestagung 2020 Online
DESCRIPTION:FVEE-Jahrestagung 2020 – Forschung für den European Green Deal\nonline & kostenlos \nMit dem Green Deal will Europa bis 2050 der erste klimaneutrale Kontinent werden. Für die Transformation zu einem nachhaltigen Energie- und Wirtschaftssystem müssen die europäischen Partner gemeinsam neue Lösungen entwickeln. Auch die Forschung muss ihren Blick über die nationalen Grenzen weiten.\nDer FVEE zeigt auf seiner Jahrestagung wie die gemeinsame\, europäische Energiewende gelingen kann\, präsentiert aktuelle internationale Forschungsprojekte  und geht der Frage nach\, was die einzelnen Technologien in Europa zur Energiewende beitragen können. Darüber hinaus untersuchen die Wissenschaftlerinnen und Wissenschaftler die politischen\, ökonomischen und rechtlichen Herausforderungen. Sie stellen Chancen für eine klimaneutrale europäische Industrie vor und zeigen Szenarien für die Markt- und Kostenentwicklung nachhaltiger Technologien. \nHier gehts zur Anmeldung: https://www.fvee-event.de/front/kontakt.php
URL:https://event.dlr.de/event/fvee-jahrestagung-2020-online/
CATEGORIES:Online-Event
ATTACH;FMTTYPE=image/jpeg:https://event.dlr.de/wp-content/uploads/2020/10/Jahrestagung_FVEE2020.jpg
ORGANIZER;CN="ForschungsVerbund Erneuerbare Energien (FVEE)":MAILTO:fvee@helmholtz-berlin.de 
END:VEVENT
BEGIN:VEVENT
DTSTART;TZID=Europe/Berlin:20201103T090000
DTEND;TZID=Europe/Berlin:20201103T180000
DTSTAMP:20260420T195318
CREATED:20201001T162754Z
LAST-MODIFIED:20201001T162958Z
UID:10002316-1604394000-1604426400@event.dlr.de
SUMMARY:Online-Karrieremesse MINTmap
DESCRIPTION:Einsteigen beim DLR? Starten Sie auf der Online-Karrieremesse in unseren Orbit \nAn welchen zukunftsweisenden Themen forschen wir? Was für eine Infrastruktur bieten wir ambitionierten Nachwuchswissenschaftlerinnen und -wissenschaftlern? Wie können Sie bei uns Ihre beruflichen Träume verwirklichen? Diese und alle weiteren Fragen zum DLR beantworten wir gerne am 3. November 2020 auf der virtuellen Karrieremesse für MINT-Expertinnen und -Experten. \nInformieren Sie sich bei uns über Praktika\, Studien- und Abschlussarbeiten sowie Einstiegs- und Karrierechancen und erhalten Sie erste Einblicke in unser spannendes Arbeitsumfeld. \nSprechen Sie mit unseren Wissenschaftlerinnen und Wissenschaftlern am virtuellen DLR-Karrierestand und entdecken Sie die faszinierenden Forschungswelten des DLR. Erfahren Sie\, wie Sie an den Lösungen für die Welt von morgen mitarbeiten können. \nHier geht’s zur Anmeldung. \nWir freuen uns auf interessante Gespräche mit Ihnen! \nWas: Online-Karrieremesse MINTmap\nWo: online\nWann: 3. November 2020 | 9:00 – 18:00 Uhr
URL:https://event.dlr.de/event/mintmap/
CATEGORIES:Virtuelle Messe
ATTACH;FMTTYPE=image/jpeg:https://event.dlr.de/wp-content/uploads/2020/10/Mintmap2020.jpg
END:VEVENT
END:VCALENDAR