BEGIN:VCALENDAR
VERSION:2.0
PRODID:-//DLR Event - ECPv6.15.13.1//NONSGML v1.0//EN
CALSCALE:GREGORIAN
METHOD:PUBLISH
X-ORIGINAL-URL:https://event.dlr.de
X-WR-CALDESC:Veranstaltungen für DLR Event
REFRESH-INTERVAL;VALUE=DURATION:PT1H
X-Robots-Tag:noindex
X-PUBLISHED-TTL:PT1H
BEGIN:VTIMEZONE
TZID:Europe/Berlin
BEGIN:DAYLIGHT
TZOFFSETFROM:+0100
TZOFFSETTO:+0200
TZNAME:CEST
DTSTART:20190331T010000
END:DAYLIGHT
BEGIN:STANDARD
TZOFFSETFROM:+0200
TZOFFSETTO:+0100
TZNAME:CET
DTSTART:20191027T010000
END:STANDARD
BEGIN:DAYLIGHT
TZOFFSETFROM:+0100
TZOFFSETTO:+0200
TZNAME:CEST
DTSTART:20200329T010000
END:DAYLIGHT
BEGIN:STANDARD
TZOFFSETFROM:+0200
TZOFFSETTO:+0100
TZNAME:CET
DTSTART:20201025T010000
END:STANDARD
BEGIN:DAYLIGHT
TZOFFSETFROM:+0100
TZOFFSETTO:+0200
TZNAME:CEST
DTSTART:20210328T010000
END:DAYLIGHT
BEGIN:STANDARD
TZOFFSETFROM:+0200
TZOFFSETTO:+0100
TZNAME:CET
DTSTART:20211031T010000
END:STANDARD
END:VTIMEZONE
BEGIN:VEVENT
DTSTART;TZID=Europe/Berlin:20201105T093000
DTEND;TZID=Europe/Berlin:20201105T150000
DTSTAMP:20260420T180742
CREATED:20201104T150007Z
LAST-MODIFIED:20201104T150007Z
UID:10001962-1604568600-1604588400@event.dlr.de
SUMMARY:NEUE Wege Fachworkshop II
DESCRIPTION:Der zweite Fachworkshop fokussiert das im Forschungsprojekt „NeueWege“ und für die Themenstellungen der Niedersächsischen Landesregierung zentrale Handlungsfeld der Integration von Wasserstoff in das Gesamtenergiesystem und damit auch in den Verkehrssektor. \nIn seinem offenen Brief an Bundeswirtschaftsminister Peter Altmaier betont Umweltminister Lies: “Niedersachsen kann aufgrund seiner Lage und energiewirtschaftlichen Infrastruktur maßgeblich dazu beitragen\, sich als starker Baustein (…) für Wasserstofftechnologien und -anwendungen zu etablieren.“ Auch die Bundesregierung gibt mit der jüngst verabschiedeten Wasserstoffstrategie ein deutliches Signal\, Wasserstoff als alternativen Energieträger zu etablieren\, die Transport- und Verteilinfrastruktur weiter zu entwickeln und die nötigen Transformationsprozesse aktiv zu begleiten. \nDer Staatssekretär des Niedersächsischen Ministeriums für Umwelt\, Energie\, Bauen und Klimaschutz Frank Doods wird einleitend das Interesse und die Möglichkeiten Niedersachsens für grünen Wasserstoff als Baustein der Energiewende darlegen. Anschließend gibt Dr. Alexander Dyck mit den technisch-wissenschaftlichen Aspekten der Mobilität mit Wasserstoff einen Einblick in den Stand der Technik. Es schließt sich eine Standortbestimmung von Nicolas Iwan (H2Mobility) zur Sektorenkopplung durch Wasserstoff sowie der Einbindung von grünem Wasserstoff in den Verkehrssektor in Deutschland und Niedersachsen an. Am Beispiel des Projekts „Hyways for future“\, einem Gewinner des BMVI-Ideenwettbewerbs „HyLand-Wasserstoffregionen in Deutschland“\, wird Tobias Moldenhauer darstellen\, wie Wasserstoff erzeugt und im Verkehrssektor effektiv eingesetzt werden kann. \nIn kurzen Impulsen aus der Praxis werden im zweiten Teil des Fachworkshops Ansätze und Herausforderungen für den Einsatz von Wasserstoff auf der Straße\, der Schiene und im ÖPNV herausgegriffen. Im Rahmen des interaktiven Teils der Veranstaltung ist Zeit für einen intensiven Austausch sowie Diskussion mit dem Auditorium vorgesehen. \nFragestellungen (u. a.): \n\nWie groß sind die Kapazitäten in und für Niedersachsen für die Produktion\, Speicherung und Nutzung von Wasserstoff insgesamt und für den Verkehrssektor?\nWie kann die Distribution des Wasserstoffs in Niedersachsen und Deutschland zu welchem Zeitpunkt erfolgen?\nWelche Rolle kommt Wasserstoff gegenwärtig und zukünftig im Verkehrssektor zu?\nWelche Infrastruktur wird im Verkehrssektor benötigt?\n\nHier geht’s zur Anmeldung: https://www.dlr-oldenburg.de/#/event/9?activeTab=2
URL:https://event.dlr.de/event/neue-wege-fachworkshop-ii/
CATEGORIES:Online-Workshop
ATTACH;FMTTYPE=image/jpeg:https://event.dlr.de/wp-content/uploads/2020/11/Neue_Wege_Workshop2020.jpg
ORGANIZER;CN="DLR-Institut f%C3%BCr Vernetzte Energiesysteme e.V.":MAILTO:nadine.jacobs@dlr.de
END:VEVENT
END:VCALENDAR