BEGIN:VCALENDAR
VERSION:2.0
PRODID:-//DLR Event - ECPv6.15.13.1//NONSGML v1.0//EN
CALSCALE:GREGORIAN
METHOD:PUBLISH
X-ORIGINAL-URL:https://event.dlr.de
X-WR-CALDESC:Veranstaltungen für DLR Event
REFRESH-INTERVAL;VALUE=DURATION:PT1H
X-Robots-Tag:noindex
X-PUBLISHED-TTL:PT1H
BEGIN:VTIMEZONE
TZID:Europe/Berlin
BEGIN:DAYLIGHT
TZOFFSETFROM:+0100
TZOFFSETTO:+0200
TZNAME:CEST
DTSTART:20190331T010000
END:DAYLIGHT
BEGIN:STANDARD
TZOFFSETFROM:+0200
TZOFFSETTO:+0100
TZNAME:CET
DTSTART:20191027T010000
END:STANDARD
BEGIN:DAYLIGHT
TZOFFSETFROM:+0100
TZOFFSETTO:+0200
TZNAME:CEST
DTSTART:20200329T010000
END:DAYLIGHT
BEGIN:STANDARD
TZOFFSETFROM:+0200
TZOFFSETTO:+0100
TZNAME:CET
DTSTART:20201025T010000
END:STANDARD
BEGIN:DAYLIGHT
TZOFFSETFROM:+0100
TZOFFSETTO:+0200
TZNAME:CEST
DTSTART:20210328T010000
END:DAYLIGHT
BEGIN:STANDARD
TZOFFSETFROM:+0200
TZOFFSETTO:+0100
TZNAME:CET
DTSTART:20211031T010000
END:STANDARD
END:VTIMEZONE
BEGIN:VEVENT
DTSTART;VALUE=DATE:20201108
DTEND;VALUE=DATE:20201114
DTSTAMP:20260420T180743
CREATED:20190329T153332Z
LAST-MODIFIED:20200609T080744Z
UID:10001896-1604793600-1605311999@event.dlr.de
SUMMARY:{:de}20. Konferenz für kohärente Laser-Radar-Technologie und ihre Anwendungen{:}{:en}20th conference on coherent laser radar technology and applications{:}
DESCRIPTION:In view of the still existing COVID-19 (Coronavirus) pandemic\, the fact that there are many new legal requirements to be considered for a save realization of the CLRC 2020 in the context of Corona COVID-19\, a successful conference seems not to be possible this year. \nConsequently we came to the difficult decision to cancel the 20th CLRC! Please accept our apologies for causing any trouble to you!\nThe online registration process CLRC 2020 is now closed. \nMore information you will find here: www.dlr.de/CLRC2020
URL:https://event.dlr.de/event/20th-conference-on-coherent-laser-radar-technology-and-applications/
LOCATION:Dorint Sporthotel Garmisch-Partenkirchen\, Mittenwalder Str. 59\, Garmisch-Partenkirchen\, Bayern\, 82467\, Deutschland
CATEGORIES:Konferenz
ATTACH;FMTTYPE=image/png:https://event.dlr.de/wp-content/uploads/2019/03/CLRC-2020.png
ORGANIZER;CN="Stephan Rahm":MAILTO:Stephan.Rahm@dlr.de
END:VEVENT
END:VCALENDAR