BEGIN:VCALENDAR
VERSION:2.0
PRODID:-//DLR Event - ECPv6.15.13.1//NONSGML v1.0//EN
CALSCALE:GREGORIAN
METHOD:PUBLISH
X-ORIGINAL-URL:https://event.dlr.de
X-WR-CALDESC:Veranstaltungen für DLR Event
REFRESH-INTERVAL;VALUE=DURATION:PT1H
X-Robots-Tag:noindex
X-PUBLISHED-TTL:PT1H
BEGIN:VTIMEZONE
TZID:Europe/Berlin
BEGIN:DAYLIGHT
TZOFFSETFROM:+0100
TZOFFSETTO:+0200
TZNAME:CEST
DTSTART:20200329T010000
END:DAYLIGHT
BEGIN:STANDARD
TZOFFSETFROM:+0200
TZOFFSETTO:+0100
TZNAME:CET
DTSTART:20201025T010000
END:STANDARD
BEGIN:DAYLIGHT
TZOFFSETFROM:+0100
TZOFFSETTO:+0200
TZNAME:CEST
DTSTART:20210328T010000
END:DAYLIGHT
BEGIN:STANDARD
TZOFFSETFROM:+0200
TZOFFSETTO:+0100
TZNAME:CET
DTSTART:20211031T010000
END:STANDARD
BEGIN:DAYLIGHT
TZOFFSETFROM:+0100
TZOFFSETTO:+0200
TZNAME:CEST
DTSTART:20220327T010000
END:DAYLIGHT
BEGIN:STANDARD
TZOFFSETFROM:+0200
TZOFFSETTO:+0100
TZNAME:CET
DTSTART:20221030T010000
END:STANDARD
END:VTIMEZONE
BEGIN:VEVENT
DTSTART;TZID=Europe/Berlin:20210112T090000
DTEND;TZID=Europe/Berlin:20210113T133000
DTSTAMP:20260420T162735
CREATED:20210112T082829Z
LAST-MODIFIED:20210112T082829Z
UID:10002325-1610442000-1610544600@event.dlr.de
SUMMARY:13th European Space Conference - Hybrid
DESCRIPTION:More sessions and greater interactivity in a new studio setting\, fully broadcasted on a new online platform allowing you to benefit from this Conference wherever you are.\n\nOn the 12-13th January 2021\, Business Bridge Europe invites you to participate in the 13th European Space Conference. \nThe upcoming edition will be a special one: to embrace the changing circumstances\, the European Space Conference is going hybrid! While the physical presence will be necessarily limited to the speakers for safety reasons\, the online interactivity\, and the new opportunities that come with it\, will be limitless for every participant. \n\n\nThe 13th European Space Conference offers you two days of high-level debates between the key players of the European space domain on the most important issues of the day: \n\nSpace in the European and National Recovery Plans\nSecure public telecommunications in Europe\nResilience and critical value chains\nResearch and European space competitiveness\nSpace and defence\nSpace applications\nDigital transition\nEuropean New Space\nSpace Exploration\nInternational space cooperation and business
URL:https://event.dlr.de/event/13th-european-space-conference-hybrid/
CATEGORIES:Web-Konferenz
ATTACH;FMTTYPE=image/jpeg:https://event.dlr.de/wp-content/uploads/2021/01/13thEuropean_Space_Conference.jpg
END:VEVENT
END:VCALENDAR