BEGIN:VCALENDAR
VERSION:2.0
PRODID:-//DLR Event - ECPv6.15.13.1//NONSGML v1.0//EN
CALSCALE:GREGORIAN
METHOD:PUBLISH
X-ORIGINAL-URL:https://event.dlr.de
X-WR-CALDESC:Veranstaltungen für DLR Event
REFRESH-INTERVAL;VALUE=DURATION:PT1H
X-Robots-Tag:noindex
X-PUBLISHED-TTL:PT1H
BEGIN:VTIMEZONE
TZID:Europe/Berlin
BEGIN:DAYLIGHT
TZOFFSETFROM:+0100
TZOFFSETTO:+0200
TZNAME:CEST
DTSTART:20230326T010000
END:DAYLIGHT
BEGIN:STANDARD
TZOFFSETFROM:+0200
TZOFFSETTO:+0100
TZNAME:CET
DTSTART:20231029T010000
END:STANDARD
BEGIN:DAYLIGHT
TZOFFSETFROM:+0100
TZOFFSETTO:+0200
TZNAME:CEST
DTSTART:20240331T010000
END:DAYLIGHT
BEGIN:STANDARD
TZOFFSETFROM:+0200
TZOFFSETTO:+0100
TZNAME:CET
DTSTART:20241027T010000
END:STANDARD
BEGIN:DAYLIGHT
TZOFFSETFROM:+0100
TZOFFSETTO:+0200
TZNAME:CEST
DTSTART:20250330T010000
END:DAYLIGHT
BEGIN:STANDARD
TZOFFSETFROM:+0200
TZOFFSETTO:+0100
TZNAME:CET
DTSTART:20251026T010000
END:STANDARD
END:VTIMEZONE
BEGIN:VEVENT
DTSTART;VALUE=DATE:20241206
DTEND;VALUE=DATE:20241207
DTSTAMP:20260420T071223
CREATED:20240222T214852Z
LAST-MODIFIED:20240222T214852Z
UID:10002048-1733443200-1733529599@event.dlr.de
SUMMARY:{:de}9. Humanphysiologischer Workshop{:}{:en}9th Human Physiology Workshop{:}
DESCRIPTION:Der Humanphysiologie-Workshop (HPW) richtet sich an junge Wissenschaftlerinnen und Wissenschaftler und bietet ihnen ein Forum\, in dem sie „neue“ Themen und Daten vorstellen und diskutieren können. Die HPW-Veranstaltungen sollen Diskussionen anregen und ermöglichen\, mehr über die verschiedenen Organsysteme des menschlichen Körpers und deren Interaktion miteinander zu erfahren. Ziel ist es\, ein Forschungsnetzwerk zu unterstützen\, das Wissenschaftlerinnen und Wissenschaftler auf dem Gebiet der Humanphysiologie aus- und weiterbilden kann. \nRelevante Themen sind unter anderem: \n\nLuft- und Raumfahrtmedizin\nExtreme Umgebungen\nTraining\nStressoren und Verhalten\n\nHintergrund: Der Mensch hat sich als körperlich aktive Spezies im Schwerkraftfeld der Erde entwickelt. Infolgedessen benötigt unser Körper ein relativ hohes Maß an körperlicher Aktivität und mechanischer Belastung\, und diese Reize sind für die Gesundheit unerlässlich. Der Mensch hat außerdem bewiesen\, dass er sich an ein breites Spektrum von Klimazonen und Lebensräumen anpassen kann\, das von polaren Bedingungen bis zu tropischen Zonen\, von subaquatischen Umgebungen bis zu großen Höhen und sogar bis zum Weltraum reicht. Diese Anpassungsreaktionen wirken sich im Allgemeinen auf den menschlichen Körper als integriertes System aus\, und spezifische Krankheiten\, bei denen ein bestimmter Anpassungsmechanismus gestört ist\, können einen vertieften Einblick in die systematische Physiologie und Biologie des menschlichen Körpers vermitteln.
URL:https://event.dlr.de/event/9-humanphysiologischer-workshop/
LOCATION::envihab\, DLR Köln\, Linder Höhe\, Köln\, 51147\, Deutschland
CATEGORIES:Workshop
ATTACH;FMTTYPE=image/jpeg:https://event.dlr.de/wp-content/uploads/2024/02/admin-ajax.jpg
ORGANIZER;CN="{%3Ade}Institut f%C3%BCr Luft- und Raumfahrtmedizin{%3A}{%3Aen}Institute of Aerospace Medicine{%3A}":MAILTO:info-me@dlr.de
GEO:50.8510192;7.1120182
X-APPLE-STRUCTURED-LOCATION;VALUE=URI;X-ADDRESS=:envihab DLR Köln Linder Höhe Köln 51147 Deutschland;X-APPLE-RADIUS=500;X-TITLE=Linder Höhe:geo:7.1120182,50.8510192
END:VEVENT
END:VCALENDAR