BEGIN:VCALENDAR
VERSION:2.0
PRODID:-//DLR Event - ECPv6.15.13.1//NONSGML v1.0//EN
CALSCALE:GREGORIAN
METHOD:PUBLISH
X-ORIGINAL-URL:https://event.dlr.de
X-WR-CALDESC:Veranstaltungen für DLR Event
REFRESH-INTERVAL;VALUE=DURATION:PT1H
X-Robots-Tag:noindex
X-PUBLISHED-TTL:PT1H
BEGIN:VTIMEZONE
TZID:Europe/Berlin
BEGIN:DAYLIGHT
TZOFFSETFROM:+0100
TZOFFSETTO:+0200
TZNAME:CEST
DTSTART:20240331T010000
END:DAYLIGHT
BEGIN:STANDARD
TZOFFSETFROM:+0200
TZOFFSETTO:+0100
TZNAME:CET
DTSTART:20241027T010000
END:STANDARD
BEGIN:DAYLIGHT
TZOFFSETFROM:+0100
TZOFFSETTO:+0200
TZNAME:CEST
DTSTART:20250330T010000
END:DAYLIGHT
BEGIN:STANDARD
TZOFFSETFROM:+0200
TZOFFSETTO:+0100
TZNAME:CET
DTSTART:20251026T010000
END:STANDARD
BEGIN:DAYLIGHT
TZOFFSETFROM:+0100
TZOFFSETTO:+0200
TZNAME:CEST
DTSTART:20260329T010000
END:DAYLIGHT
BEGIN:STANDARD
TZOFFSETFROM:+0200
TZOFFSETTO:+0100
TZNAME:CET
DTSTART:20261025T010000
END:STANDARD
END:VTIMEZONE
BEGIN:VEVENT
DTSTART;TZID=Europe/Berlin:20250308T083000
DTEND;TZID=Europe/Berlin:20250308T160000
DTSTAMP:20260419T152820
CREATED:20250116T120237Z
LAST-MODIFIED:20250121T100810Z
UID:10002089-1741422600-1741449600@event.dlr.de
SUMMARY:{:de}4. Fortbildung für Lehrkräfte VBIO-NRW: Ökosystem Erde: Mensch-Umwelt-Interaktion im 21. Jahrhundert{:}{:en}4th advanced training course for teachers VBIO-NRW: Ecosystem Earth: Human-Environment Interaction in the 21st Century{:}
DESCRIPTION:Fortbildung für Lehrkräfte VBIO-NRW: Ökosystem Erde: Mensch-Umwelt-Interaktion im 21. Jahrhundert \n Am 8. März 2025 findet die 4. Fortbildung des VBIO-NRW in Zusammenarbeit mit der Deutschen Physiologischen Gesellschaft (DPG)\, der Gesellschaft für Ökologie (GfÖ) und dem DLR-Institut für Luft- und Raumfahrtmedizin in Köln statt. In der luft- und raumfahrtmedizinischen Forschungseinrichtung :envihab werden verschiedene Vorträge zu den Auswirkungen von Umweltstressoren gehalten. Die Teilnehmenden erarbeiten im Anschluss Lehrmaterialien und diskutieren diese. \nZum Inhalt der Veranstaltung: \nIm Zeitalter des Anthropozäns müssen wir uns mit vielen durch den Menschen verursachten Umwelt-Veränderungen auseinandersetzen\, die erhebliche Konsequenzen für biologische\, geologische und atmosphärische Prozesse auf der Erde haben. Neue Technologien und auch der Blick aus dem Weltall ermöglichen uns\, Veränderungen festzustellen und die Auswirkungen von Umweltstressoren nachzuweisen. Exemplarisch gehen die Vorträge auf einige Phänomene ein: So wird die enorme Leistung der Vögel bei ihren Wanderungen beleuchtet und wie Waldökosysteme in Mitteleuropa bewirtschaftet werden und welche Folgen auf die biologische Vielfalt damit verbunden sind. Ebenso werden die Auswirkungen auf den Menschen betrachtet\, denn er unterliegt lebenslang dem Einfluss einer Vielzahl von Umweltfaktoren und reagiert auf diese mit ihm eigenen Regelmechanismen\, aber auch mit Krankheit. \nAnmeldung und weitere Informationen
URL:https://event.dlr.de/event/4-fortbildung-fuer-lehrkraefte-vbio-nrw-oekosystem-erde-mensch-umwelt-interaktion-im-21-jahrhundert/
LOCATION::envihab\, DLR Köln\, Linder Höhe\, Köln\, 51147\, Deutschland
CATEGORIES:Workshop
ATTACH;FMTTYPE=image/jpeg:https://event.dlr.de/wp-content/uploads/2025/01/apollo_17_blue_marble_photo_dec_7_1972_as17-148-22727-e1737028869471.jpeg
ORGANIZER;CN="{%3Ade}Institut f%C3%BCr Luft- und Raumfahrtmedizin{%3A}{%3Aen}Institute of Aerospace Medicine{%3A}":MAILTO:info-me@dlr.de
GEO:50.8510192;7.1120182
X-APPLE-STRUCTURED-LOCATION;VALUE=URI;X-ADDRESS=:envihab DLR Köln Linder Höhe Köln 51147 Deutschland;X-APPLE-RADIUS=500;X-TITLE=Linder Höhe:geo:7.1120182,50.8510192
END:VEVENT
END:VCALENDAR