BEGIN:VCALENDAR
VERSION:2.0
PRODID:-//DLR Event - ECPv6.15.13.1//NONSGML v1.0//EN
CALSCALE:GREGORIAN
METHOD:PUBLISH
X-WR-CALNAME:DLR Event
X-ORIGINAL-URL:https://event.dlr.de
X-WR-CALDESC:Veranstaltungen für DLR Event
REFRESH-INTERVAL;VALUE=DURATION:PT1H
X-Robots-Tag:noindex
X-PUBLISHED-TTL:PT1H
BEGIN:VTIMEZONE
TZID:Europe/Berlin
BEGIN:DAYLIGHT
TZOFFSETFROM:+0100
TZOFFSETTO:+0200
TZNAME:CEST
DTSTART:20190331T010000
END:DAYLIGHT
BEGIN:STANDARD
TZOFFSETFROM:+0200
TZOFFSETTO:+0100
TZNAME:CET
DTSTART:20191027T010000
END:STANDARD
BEGIN:DAYLIGHT
TZOFFSETFROM:+0100
TZOFFSETTO:+0200
TZNAME:CEST
DTSTART:20200329T010000
END:DAYLIGHT
BEGIN:STANDARD
TZOFFSETFROM:+0200
TZOFFSETTO:+0100
TZNAME:CET
DTSTART:20201025T010000
END:STANDARD
BEGIN:DAYLIGHT
TZOFFSETFROM:+0100
TZOFFSETTO:+0200
TZNAME:CEST
DTSTART:20210328T010000
END:DAYLIGHT
BEGIN:STANDARD
TZOFFSETFROM:+0200
TZOFFSETTO:+0100
TZNAME:CET
DTSTART:20211031T010000
END:STANDARD
END:VTIMEZONE
BEGIN:VEVENT
DTSTART;VALUE=DATE:20201031
DTEND;VALUE=DATE:20201103
DTSTAMP:20260420T163221
CREATED:20181121T095038Z
LAST-MODIFIED:20200819T082425Z
UID:10001878-1604102400-1604361599@event.dlr.de
SUMMARY:{:de}36th Space Symposium 2020{:}{:en}35th Space Symposium{:}
DESCRIPTION:Das jährlich stattfindende Space Symposium in Colorado Springs ist das größte Aerospace Symposium in Amerika. Neben einer großen Auswahl diverser politischer und wissenschaftlicher Panels aus allen Fachbereichen findet eine hochrangige Industrie- und Technologiemesse statt\, die den führenden Vertretern aus Industrie- und Wissenschaft eine einzigartige Möglichkeit zum Networking und Marketing eröffnet. \nDas DLR wird auch in 2020 mit dem Vorstand auf diesen Panels vertreten und stellt in einem Space Pavillion des Symposiums gemeinsam mit deutschen KMUs und weiteren führenden anderen internationalen Partnern seine wissenschaftlichen Highlights aus dem Technologiemarketing vor.
URL:https://event.dlr.de/event/35th-space-symposium/
LOCATION:The Broadmore\, 1 Lake Avenue\, Colorado Springs\, CO80906\, Vereinigte Staaten
CATEGORIES:Symposium
ATTACH;FMTTYPE=image/jpeg:https://event.dlr.de/wp-content/uploads/2018/11/36th_Space-Symposium.jpg
GEO:38.791226;-104.8501007
X-APPLE-STRUCTURED-LOCATION;VALUE=URI;X-ADDRESS=The Broadmore 1 Lake Avenue Colorado Springs CO80906 Vereinigte Staaten;X-APPLE-RADIUS=500;X-TITLE=1 Lake Avenue:geo:-104.8501007,38.791226
END:VEVENT
BEGIN:VEVENT
DTSTART;TZID=Europe/Berlin:20201102T140000
DTEND;TZID=Europe/Berlin:20201104T160000
DTSTAMP:20260420T163221
CREATED:20201030T141222Z
LAST-MODIFIED:20201030T141222Z
UID:10001961-1604325600-1604505600@event.dlr.de
SUMMARY:FVEE-Jahrestagung 2020 Online
DESCRIPTION:FVEE-Jahrestagung 2020 – Forschung für den European Green Deal\nonline & kostenlos \nMit dem Green Deal will Europa bis 2050 der erste klimaneutrale Kontinent werden. Für die Transformation zu einem nachhaltigen Energie- und Wirtschaftssystem müssen die europäischen Partner gemeinsam neue Lösungen entwickeln. Auch die Forschung muss ihren Blick über die nationalen Grenzen weiten.\nDer FVEE zeigt auf seiner Jahrestagung wie die gemeinsame\, europäische Energiewende gelingen kann\, präsentiert aktuelle internationale Forschungsprojekte  und geht der Frage nach\, was die einzelnen Technologien in Europa zur Energiewende beitragen können. Darüber hinaus untersuchen die Wissenschaftlerinnen und Wissenschaftler die politischen\, ökonomischen und rechtlichen Herausforderungen. Sie stellen Chancen für eine klimaneutrale europäische Industrie vor und zeigen Szenarien für die Markt- und Kostenentwicklung nachhaltiger Technologien. \nHier gehts zur Anmeldung: https://www.fvee-event.de/front/kontakt.php
URL:https://event.dlr.de/event/fvee-jahrestagung-2020-online/
CATEGORIES:Online-Event
ATTACH;FMTTYPE=image/jpeg:https://event.dlr.de/wp-content/uploads/2020/10/Jahrestagung_FVEE2020.jpg
ORGANIZER;CN="ForschungsVerbund Erneuerbare Energien (FVEE)":MAILTO:fvee@helmholtz-berlin.de 
END:VEVENT
BEGIN:VEVENT
DTSTART;TZID=Europe/Berlin:20201103T090000
DTEND;TZID=Europe/Berlin:20201103T180000
DTSTAMP:20260420T163221
CREATED:20201001T162754Z
LAST-MODIFIED:20201001T162958Z
UID:10002316-1604394000-1604426400@event.dlr.de
SUMMARY:Online-Karrieremesse MINTmap
DESCRIPTION:Einsteigen beim DLR? Starten Sie auf der Online-Karrieremesse in unseren Orbit \nAn welchen zukunftsweisenden Themen forschen wir? Was für eine Infrastruktur bieten wir ambitionierten Nachwuchswissenschaftlerinnen und -wissenschaftlern? Wie können Sie bei uns Ihre beruflichen Träume verwirklichen? Diese und alle weiteren Fragen zum DLR beantworten wir gerne am 3. November 2020 auf der virtuellen Karrieremesse für MINT-Expertinnen und -Experten. \nInformieren Sie sich bei uns über Praktika\, Studien- und Abschlussarbeiten sowie Einstiegs- und Karrierechancen und erhalten Sie erste Einblicke in unser spannendes Arbeitsumfeld. \nSprechen Sie mit unseren Wissenschaftlerinnen und Wissenschaftlern am virtuellen DLR-Karrierestand und entdecken Sie die faszinierenden Forschungswelten des DLR. Erfahren Sie\, wie Sie an den Lösungen für die Welt von morgen mitarbeiten können. \nHier geht’s zur Anmeldung. \nWir freuen uns auf interessante Gespräche mit Ihnen! \nWas: Online-Karrieremesse MINTmap\nWo: online\nWann: 3. November 2020 | 9:00 – 18:00 Uhr
URL:https://event.dlr.de/event/mintmap/
CATEGORIES:Virtuelle Messe
ATTACH;FMTTYPE=image/jpeg:https://event.dlr.de/wp-content/uploads/2020/10/Mintmap2020.jpg
END:VEVENT
BEGIN:VEVENT
DTSTART;VALUE=DATE:20201104
DTEND;VALUE=DATE:20201105
DTSTAMP:20260420T163221
CREATED:20200731T171407Z
LAST-MODIFIED:20221017T170540Z
UID:10001955-1604448000-1604534399@event.dlr.de
SUMMARY:Online-Symposium "Der Zug zur Digitalisierung"
DESCRIPTION:Zur DER ZUG ZUR DIGITALISIERUNG Sonderseite \nOnline-Symposium „Der Zug zur Digitalisierung“\nDas Deutsche Zentrum für Luft- und Raumfahrt (DLR) forscht seit über 20 Jahren im Bereich Schienenverkehr und richtet seine wissenschaftliche Arbeit immer eng verzahnt mit Industrie und Politik an den aktuellen Herausforderungen aus. Ob automatisiertes Fahren\, prädikative Instandhaltung oder intelligenter Gütertransport – gemeinsam liefern wir richtungsweisende Forschungsergebnisse und betrachten die relevanten gesellschaftlichen\, ökologischen und ökonomischen Aspekte des Schienenverkehrs und seine Integration in das gesamte Mobilitätssystem. \nZur Präsentation und Diskussion ausgewählter Forschungsergebnisse möchten wir Sie herzlich zum Symposium\n„Der Zug zur Digitalisierung“ einladen. \nWann?                 Mittwoch\, 4. November 2020 \nWo?                      Digital (Einen Link zum Einwählen werden Sie bei Anmeldung ca. 2 Wochen vor der Veranstaltung erhalten.) \nAuf dem Symposium werden DLR-Wissenschaftlerinnen und -Wissenschaftler mit Partnern aus der Bahnindustrie live den Stand der gemeinsamen Forschung zum Thema Digitalisierung vorstellen und mit Ihnen diskutieren. Darüber hinaus werden wir Ihnen die Umsetzung unserer Ergebnisse in die Praxis zeigen. Die Veranstaltung wird von allen DLR-Instituten\, die im Bereich Bahnforschung arbeiten\, ausgerichtet. \nDie Veranstaltung ist kostenfrei. \nBitte melden Sie sich bis zum 21. Oktober 2020 hier an.
URL:https://event.dlr.de/event/symposium-der-zug-zur-digitalisierung/
CATEGORIES:Online-Event,Symposium
ATTACH;FMTTYPE=image/jpeg:https://event.dlr.de/wp-content/uploads/2020/07/Zug_zur_Digitalisierung_Fotoband_V2.jpg
END:VEVENT
BEGIN:VEVENT
DTSTART;TZID=Europe/Berlin:20201105T093000
DTEND;TZID=Europe/Berlin:20201105T150000
DTSTAMP:20260420T163221
CREATED:20201104T150007Z
LAST-MODIFIED:20201104T150007Z
UID:10001962-1604568600-1604588400@event.dlr.de
SUMMARY:NEUE Wege Fachworkshop II
DESCRIPTION:Der zweite Fachworkshop fokussiert das im Forschungsprojekt „NeueWege“ und für die Themenstellungen der Niedersächsischen Landesregierung zentrale Handlungsfeld der Integration von Wasserstoff in das Gesamtenergiesystem und damit auch in den Verkehrssektor. \nIn seinem offenen Brief an Bundeswirtschaftsminister Peter Altmaier betont Umweltminister Lies: “Niedersachsen kann aufgrund seiner Lage und energiewirtschaftlichen Infrastruktur maßgeblich dazu beitragen\, sich als starker Baustein (…) für Wasserstofftechnologien und -anwendungen zu etablieren.“ Auch die Bundesregierung gibt mit der jüngst verabschiedeten Wasserstoffstrategie ein deutliches Signal\, Wasserstoff als alternativen Energieträger zu etablieren\, die Transport- und Verteilinfrastruktur weiter zu entwickeln und die nötigen Transformationsprozesse aktiv zu begleiten. \nDer Staatssekretär des Niedersächsischen Ministeriums für Umwelt\, Energie\, Bauen und Klimaschutz Frank Doods wird einleitend das Interesse und die Möglichkeiten Niedersachsens für grünen Wasserstoff als Baustein der Energiewende darlegen. Anschließend gibt Dr. Alexander Dyck mit den technisch-wissenschaftlichen Aspekten der Mobilität mit Wasserstoff einen Einblick in den Stand der Technik. Es schließt sich eine Standortbestimmung von Nicolas Iwan (H2Mobility) zur Sektorenkopplung durch Wasserstoff sowie der Einbindung von grünem Wasserstoff in den Verkehrssektor in Deutschland und Niedersachsen an. Am Beispiel des Projekts „Hyways for future“\, einem Gewinner des BMVI-Ideenwettbewerbs „HyLand-Wasserstoffregionen in Deutschland“\, wird Tobias Moldenhauer darstellen\, wie Wasserstoff erzeugt und im Verkehrssektor effektiv eingesetzt werden kann. \nIn kurzen Impulsen aus der Praxis werden im zweiten Teil des Fachworkshops Ansätze und Herausforderungen für den Einsatz von Wasserstoff auf der Straße\, der Schiene und im ÖPNV herausgegriffen. Im Rahmen des interaktiven Teils der Veranstaltung ist Zeit für einen intensiven Austausch sowie Diskussion mit dem Auditorium vorgesehen. \nFragestellungen (u. a.): \n\nWie groß sind die Kapazitäten in und für Niedersachsen für die Produktion\, Speicherung und Nutzung von Wasserstoff insgesamt und für den Verkehrssektor?\nWie kann die Distribution des Wasserstoffs in Niedersachsen und Deutschland zu welchem Zeitpunkt erfolgen?\nWelche Rolle kommt Wasserstoff gegenwärtig und zukünftig im Verkehrssektor zu?\nWelche Infrastruktur wird im Verkehrssektor benötigt?\n\nHier geht’s zur Anmeldung: https://www.dlr-oldenburg.de/#/event/9?activeTab=2
URL:https://event.dlr.de/event/neue-wege-fachworkshop-ii/
CATEGORIES:Online-Workshop
ATTACH;FMTTYPE=image/jpeg:https://event.dlr.de/wp-content/uploads/2020/11/Neue_Wege_Workshop2020.jpg
ORGANIZER;CN="DLR-Institut f%C3%BCr Vernetzte Energiesysteme e.V.":MAILTO:nadine.jacobs@dlr.de
END:VEVENT
BEGIN:VEVENT
DTSTART;VALUE=DATE:20201108
DTEND;VALUE=DATE:20201114
DTSTAMP:20260420T163221
CREATED:20190329T153332Z
LAST-MODIFIED:20200609T080744Z
UID:10001896-1604793600-1605311999@event.dlr.de
SUMMARY:{:de}20. Konferenz für kohärente Laser-Radar-Technologie und ihre Anwendungen{:}{:en}20th conference on coherent laser radar technology and applications{:}
DESCRIPTION:In view of the still existing COVID-19 (Coronavirus) pandemic\, the fact that there are many new legal requirements to be considered for a save realization of the CLRC 2020 in the context of Corona COVID-19\, a successful conference seems not to be possible this year. \nConsequently we came to the difficult decision to cancel the 20th CLRC! Please accept our apologies for causing any trouble to you!\nThe online registration process CLRC 2020 is now closed. \nMore information you will find here: www.dlr.de/CLRC2020
URL:https://event.dlr.de/event/20th-conference-on-coherent-laser-radar-technology-and-applications/
LOCATION:Dorint Sporthotel Garmisch-Partenkirchen\, Mittenwalder Str. 59\, Garmisch-Partenkirchen\, Bayern\, 82467\, Deutschland
CATEGORIES:Konferenz
ATTACH;FMTTYPE=image/png:https://event.dlr.de/wp-content/uploads/2019/03/CLRC-2020.png
ORGANIZER;CN="Stephan Rahm":MAILTO:Stephan.Rahm@dlr.de
END:VEVENT
BEGIN:VEVENT
DTSTART;TZID=Europe/Berlin:20201110T080000
DTEND;TZID=Europe/Berlin:20201112T170000
DTSTAMP:20260420T163221
CREATED:20200706T095657Z
LAST-MODIFIED:20201014T170846Z
UID:10001950-1604995200-1605200400@event.dlr.de
SUMMARY:European Rotors 2020
DESCRIPTION:Die Messe wurde auf den 16. bis 18. November 2021 verschoben. Mehr Informationen dazu finden Sie hier.\n\n  \nEUROPEAN ROTORS – neue und einzigartige Helikopter-Messe in Köln\n\nNeues Messeformat für die europäische Rotorcraft-Industrie und weitere internationale Aussteller sowie Sicherheitskonferenz – Kooperation zwischen der European Helicopter Association (EHA) und der Europäischen Agentur für Flugsicherheit (EASA) – Beteiligung der globalen Marktführer \nZum ersten Mal bündeln die European Helicopter Association (EHA) und die Europäische Agentur für Flugsicherheit (EASA) ihre Kräfte\, um der internationalen Rotorcraft-Community ein einzigartiges Veranstaltungsformat anzubieten. Getreu dem Motto „If you are rotors – we got it!“ wird die neue Veranstaltung vom 10.–12. November 2020 in der Koelnmesse eine globale Netzwerkplattform für die Helikopterbranche schaffen. In diesem Rahmen wird auch das renommierte EASA-Rotorcraft- und VTOL-Symposium stattfinden. Die Abkürzung VTOL steht für „vertical take-off and landing“\, also senkrechtes Starten und Landen\, und umfasst hauptsächlich neue\, innovative Entwicklungen bei Elektro- und Hybrid-Fluggeräten\, die hochgradig autonom funktionieren und eine bedeutende Rolle für die Entwicklung des gesamten Sektors spielen – indem sie Helikopter-Missionen ergänzen oder als eigenständige neue Form der Mobilität in der Luft.
URL:https://event.dlr.de/event/european-rotors-2020/
LOCATION:Messe Köln\, Messeplatz 1\, Köln\, 50679\, Deutschland
CATEGORIES:Konferenz
ATTACH;FMTTYPE=image/jpeg:https://event.dlr.de/wp-content/uploads/2020/07/European_Rotors_2020.jpg
END:VEVENT
BEGIN:VEVENT
DTSTART;TZID=Europe/Berlin:20201112T180000
DTEND;TZID=Europe/Berlin:20201112T230000
DTSTAMP:20260420T163221
CREATED:20201026T081452Z
LAST-MODIFIED:20201026T081452Z
UID:10001957-1605204000-1605222000@event.dlr.de
SUMMARY:DLR-Jahresempfang Paris 2020
DESCRIPTION:Der DLR Jahresempfang in Paris wurde auf Grund der aktuellen Situation abgesagt.
URL:https://event.dlr.de/event/dlr-jahresempfang-paris-2020/
LOCATION:DLR-Büro Paris\, 17\, avenue de Saxe\, Paris\, 75007\, Frankreich
CATEGORIES:Event
END:VEVENT
BEGIN:VEVENT
DTSTART;VALUE=DATE:20201117
DTEND;VALUE=DATE:20201120
DTSTAMP:20260420T163221
CREATED:20190726T082420Z
LAST-MODIFIED:20201015T082230Z
UID:10001920-1605571200-1605830399@event.dlr.de
SUMMARY:Space Tech Expo Europe 2020
DESCRIPTION:Die Space Tech Expo Europe 2020 wurde verschoben. Weitere Informationen finden Sie hier.\nDie alle zwei Jahre stattfindende Space Tech Expo Bremen ist Messe und Konferenz rund um Raumfahrt und richtet sich an Entscheider\, Ingenieure\, Einkäufer und Hersteller in der zivilen\, militärischen und kommerziellen Raumfahrt. Die reine Fachbesucher-Messe versteht sich als Marktplatz für Design\, Herstellung und Tests von Raumfahrzeugen\, Satelliten\, Trägerraketen\, und anderen für den Space-Bereich relevanten Technologien; sie bringt Business\, Technologie und Innovation unter einem Dach zusammen. Mehr als 300 nationale und internationale Unternehmen präsentieren ihre Produkte und Innovationen in den Bereichen Raumfahrttechnik/ Raumfahrtindustrie. \nDie Messe stellt eine wichtige Plattform dar\, auf der nationale\, aber auch internationale Unternehmen der Branche ihre Neuheiten und Innovationen präsentieren.
URL:https://event.dlr.de/event/space-tech-expo-europe-2019/
LOCATION:Messe Bremen\, Findorffstraße 101\, Bremen\, 28215\, Deutschland
CATEGORIES:Messe
ATTACH;FMTTYPE=image/jpeg:https://event.dlr.de/wp-content/uploads/2019/07/Space_Tech_Europe_2020.jpg
END:VEVENT
BEGIN:VEVENT
DTSTART;TZID=Europe/Berlin:20201124T120000
DTEND;TZID=Europe/Berlin:20201124T200000
DTSTAMP:20260420T163221
CREATED:20200706T102426Z
LAST-MODIFIED:20201120T150107Z
UID:10001951-1606219200-1606248000@event.dlr.de
SUMMARY:Berlin Aviation Summit 2020 Online
DESCRIPTION:The 2nd Berlin Aviation Summit 2020: Aviation for the FUTURE – Change is NOW!\n\n24 November 2020 \nThe 2nd Berlin Aviation Summit is a joint event of the German Aerospace Industries Association (BDLI) and the German Aerospace Center (DLR). It is part of the 8th European Aeronautics Days (#AeroDays2020)\, the leading event in aviation research and innovation\, a platform to share and review the latest developments in aeronautics and air transport across the European Union. Under the patronage of the European Commission and the Federal Republic of Germany\, which will hold the EU Council presidency in the second half of 2020\, the summit convenes decision-makers to discuss the future of aeronautics and global air transport. \nJoin the auditorium and shape the future of aviation with your ideas! By invitation only & Chatham House Rules! \nClick here to register: https://registration.aerodays.eu/front/index_bas.php
URL:https://event.dlr.de/event/berlin-aviation-summit-2020/
CATEGORIES:Online-Messe
ATTACH;FMTTYPE=image/jpeg:https://event.dlr.de/wp-content/uploads/2020/07/BAS2020.jpg
END:VEVENT
BEGIN:VEVENT
DTSTART;TZID=Europe/Berlin:20201125T104500
DTEND;TZID=Europe/Berlin:20201126T180000
DTSTAMP:20260420T163221
CREATED:20201026T092908Z
LAST-MODIFIED:20201112T145818Z
UID:10001958-1606301100-1606413600@event.dlr.de
SUMMARY:AeroDays 2020 Forum Online
DESCRIPTION:# AeroDays2020 Forum\nAviation for the FUTURE – Change is NOW! \n25-26 November 2020 \nThe innovation platform #AeroDays2020 FORUM aims to provide feasible technological solutions for the strategies discussed at the #BAS2020. By concentrating on research\, technology and innovation as enablers of climate neutrality\, environmental protection and industrial leadership\, the talks and panel discussions at the FORUM will address the industry’s most urgent – and fascinating – issues. The #AeroDays2020 FORUM will present senior executives from different units of the European Commission discussing the future of aviation and the implementation of EU policy priorities\, e.g. the European Green Deal\, with leading representatives from the aviation industry and research. The dynamic talks and panel discussions at the #AeroDays2020 FORUM will be open to all visitors and serve as a platform for the dissemination and implementation of world-leading EU projects and technical programmes based on the Horizon 2020 framework. \n#AeroDays2020 is the major aviation research event of the European Commission in 2020. Compared to previous AeroDays\, this year’s conference appears in a completely new format – close to the translation of research and technology into real industry products and right in the center of the professional public. Originally\, it was planned to hold #AeroDays2020 in the run-up to the German EU Council Presidency as part of the aviation trade fair Innovation and Leadership in Aerospace (ILA) Berlin in May 2020. The measures made necessary by COVID-19 led to the #AeroDays2020 being moved to the city center of Berlin in the fall of 2020. \n\nPlease note: Participation in the #AeroDays2020 FORUM is open to all visitors and invites them to an online dialogue. \nClick here to register: https://registration.aerodays.eu/front/index_forum.php
URL:https://event.dlr.de/event/aerodays2020-forum/
CATEGORIES:Online-Event
END:VEVENT
BEGIN:VEVENT
DTSTART;TZID=Europe/Berlin:20201130T160000
DTEND;TZID=Europe/Berlin:20201130T180000
DTSTAMP:20260420T163221
CREATED:20200210T145532Z
LAST-MODIFIED:20201109T084531Z
UID:10001942-1606752000-1606759200@event.dlr.de
SUMMARY:Wissenschaftliches Kolloquium 2020: „Das Meteorologische Observatorium Hohenpeißenberg und der Beitrag seiner langen Messreihen zur Dokumentation des Klimawandels“(OP)
DESCRIPTION:Referent:\nHr. Ulf Köhler \, Deutscher Wetterdienst\, Hohenpeißenberg \nThema:\n„Das Meteorologische Observatorium Hohenpeißenberg und der Beitrag seiner langen Messreihen zur Dokumentation des Klimawandels“ \nOrt:\nRMC (Geb. 135)\, Vortragsraum\, EG\, DLR Oberpfaffenhoffen
URL:https://event.dlr.de/event/wissenschaftliches-kolloquium-2020-das-meteorologische-observatorium-hohenpeissenberg-und-der-beitrag-seiner-langen-messreihen-zur-dokumentation-des-klimawandelsop/
LOCATION:DLR-Standort Oberpfaffenhofen\, Münchener Straße 20\, Weßling\, 82234\, Deutschland
CATEGORIES:Symposium
ATTACH;FMTTYPE=image/jpeg:https://event.dlr.de/wp-content/uploads/2020/02/Bild_Jahresprogramm_OP_2020.jpg
ORGANIZER;CN="Dr. Jutta Graf":MAILTO:jutta.graf@dlr.de
GEO:48.0851227;11.277114
X-APPLE-STRUCTURED-LOCATION;VALUE=URI;X-ADDRESS=DLR-Standort Oberpfaffenhofen Münchener Straße 20 Weßling 82234 Deutschland;X-APPLE-RADIUS=500;X-TITLE=Münchener Straße 20:geo:11.277114,48.0851227
END:VEVENT
END:VCALENDAR