BEGIN:VCALENDAR
VERSION:2.0
PRODID:-//DLR Event - ECPv6.15.13.1//NONSGML v1.0//EN
CALSCALE:GREGORIAN
METHOD:PUBLISH
X-ORIGINAL-URL:https://event.dlr.de
X-WR-CALDESC:Veranstaltungen für DLR Event
REFRESH-INTERVAL;VALUE=DURATION:PT1H
X-Robots-Tag:noindex
X-PUBLISHED-TTL:PT1H
BEGIN:VTIMEZONE
TZID:Europe/Berlin
BEGIN:DAYLIGHT
TZOFFSETFROM:+0100
TZOFFSETTO:+0200
TZNAME:CEST
DTSTART:20200329T010000
END:DAYLIGHT
BEGIN:STANDARD
TZOFFSETFROM:+0200
TZOFFSETTO:+0100
TZNAME:CET
DTSTART:20201025T010000
END:STANDARD
BEGIN:DAYLIGHT
TZOFFSETFROM:+0100
TZOFFSETTO:+0200
TZNAME:CEST
DTSTART:20210328T010000
END:DAYLIGHT
BEGIN:STANDARD
TZOFFSETFROM:+0200
TZOFFSETTO:+0100
TZNAME:CET
DTSTART:20211031T010000
END:STANDARD
BEGIN:DAYLIGHT
TZOFFSETFROM:+0100
TZOFFSETTO:+0200
TZNAME:CEST
DTSTART:20220327T010000
END:DAYLIGHT
BEGIN:STANDARD
TZOFFSETFROM:+0200
TZOFFSETTO:+0100
TZNAME:CET
DTSTART:20221030T010000
END:STANDARD
END:VTIMEZONE
BEGIN:VEVENT
DTSTART;VALUE=DATE:20210503
DTEND;VALUE=DATE:20210506
DTSTAMP:20260419T214752
CREATED:20210121T094303Z
LAST-MODIFIED:20210121T094303Z
UID:10003372-1620000000-1620259199@event.dlr.de
SUMMARY:SpaceOps 2021 - Virtual Edition
DESCRIPTION:Die internationale Raumfahrtbetreiber-Konferenz SpaceOps ist ein technisches Forum für Alle\, die in Raumfahrtmissionen eingebunden sind. Seit der Gründung im Jahr 1990 wird SpaceOps im Zwei-Jahres-Rhythmus in wechselnden Ländern durchgeführt. Auch die 16. Ausgabe ist ein Diskussionsforum für aktuelle Prinzipien\, Methoden und Werkzeuge des Raumfahrtbetriebes. SpaceOps bietet Managern und Technikern die Gelegenheit zur Intensivierung des Austausches über alle Aspekte des Raumfahrtbetriebes\, darunter astronautische Raumfahrt\, Robotik\, Missionen in niedriger Erdumlaufbahn und im Weltraum.
URL:https://event.dlr.de/event/spaceops-2021-virtual-edition/
CATEGORIES:Web-Konferenz
ATTACH;FMTTYPE=image/jpeg:https://event.dlr.de/wp-content/uploads/2021/01/SpaceOps2021.jpg
END:VEVENT
BEGIN:VEVENT
DTSTART;TZID=Europe/Berlin:20210518T080000
DTEND;TZID=Europe/Berlin:20210521T170000
DTSTAMP:20260419T214752
CREATED:20201207T092837Z
LAST-MODIFIED:20201207T092837Z
UID:10002323-1621324800-1621616400@event.dlr.de
SUMMARY:Big Data from Space 2021
DESCRIPTION:The BiDS 2021 Conference is co-organised by the European Space Agency (ESA)\, the Joint Research Centre (JRC) of the European Commission\, and the European Union Satellite Centre (SatCen). While BiDS 2021 has moved to an on-line conference\, this edition benefits from the support of the Romanian Space Agency (ROSA). \nProgramme Highlights\n\n\n\nOpening Session\n2 Keynote speeches per day\n3 Thematic sessions per day\n2 Networking breaks per day for group discussion on to be proposed topics\ne-posters visible during the entire conference\nClosing session\n\n\n\n\n\nFull programme will be made available on 14 April 2021. \nPlease click here to register for the 2021 Big Data from Space Conference.
URL:https://event.dlr.de/event/big-data-from-space-2021/
CATEGORIES:Online-Event
ATTACH;FMTTYPE=image/jpeg:https://event.dlr.de/wp-content/uploads/2020/12/Big_Data2020.jpg
END:VEVENT
BEGIN:VEVENT
DTSTART;TZID=Europe/Berlin:20210518T090000
DTEND;TZID=Europe/Berlin:20210518T180000
DTSTAMP:20260419T214752
CREATED:20210323T163346Z
LAST-MODIFIED:20210323T163346Z
UID:10001966-1621328400-1621360800@event.dlr.de
SUMMARY:7. Nationale Konferenz Satellitenkommunikation 2021 (virtuell)
DESCRIPTION:18. Mai 2021 – Virtuell \n#digital #vernetzt #krisenfest \nDie nationale Konferenz „Satellitenkommunikation in Deutschland“ findet am 18. Mai 2021 bereits zum siebten Mal statt. \nGerade in diesen durch Krisen geprägten Zeiten bietet die Konferenz als virtuelle Fachtagung weiterhin eine Plattform für den intensiven fachlichen Austausch.\nFührende Vertreter aus Industrie\, Forschung und von öffentlichen Auftraggebern werden über die Satellitenkommunikation als Inkubator für die Informationsgesellschaft von Morgen diskutieren. \nEs sind Fachvorträge und Podiumsdiskussionen zu den Beiträgen der Satellitenkommunikation zur digitalen und vernetzten Gesellschaft sowie zur krisenfesten\, sicheren Kommunikation geplant. Neben der Rolle des Satelliten zur Breibandversorgung und für den Mobilfunk (5G/6G) stehen behördliche Kommunikationsanwendungen\, Quantenkommunikation und die europäische Konnektivitätsinitiative aus deutscher Sicht\, sowie die Folgen der Pandemie auf industrielle Strukturen im Fokus der aktuellen Diskussion. \nEs besteht die Möglichkeit Vorschläge zu Kurzvorträgen einzureichen\, die einen Bezug insbesondere zu den Schwerpunktthemen #digital\, #vernetzt #krisenfest haben. Die Auswahl der exzellentesten Vorschläge zur Aufnahme in das Konferenzprogramm erfolgt durch das DLR. \nZusätzlich wird die Möglichkeit bestehen\, die Themen in Form einer virtuellen Ausstellung zu begleiten sowie Möglichkeiten zum Networking zu nutzen. \nAnmeldung
URL:https://event.dlr.de/event/7-nationale-konferenz-satellitenkommunikation-2021-virtuell/
CATEGORIES:Web-Konferenz
ATTACH;FMTTYPE=image/jpeg:https://event.dlr.de/wp-content/uploads/2021/03/DeSK-Flyer_Grafik_wmd_B2_neu_20201215_B-002.jpg
END:VEVENT
BEGIN:VEVENT
DTSTART;TZID=Europe/Berlin:20210518T093000
DTEND;TZID=Europe/Berlin:20210518T163000
DTSTAMP:20260419T214752
CREATED:20210506T080037Z
LAST-MODIFIED:20210506T080037Z
UID:10001970-1621330200-1621355400@event.dlr.de
SUMMARY:konaktiva Karrieremesse
DESCRIPTION:Ihr Start beim DLR – holen Sie sich alle Infos für Ihren Weg in die Forschung \nAn unserem virtuellen Messestand auf der konaktiva tauchen Sie ein in unsere faszinierende Welt der Spitzenforschung. Holen Sie sich alle Infos zum Einstieg beim DLR und chatten Sie mit unseren Mitarbeiterinnen und Mitarbeitern! \nOb Luftfahrt\, Raumfahrt\, Energie\, Verkehr\, Sicherheit oder Digitalisierung: Entdecken Sie\, wie viel Sie mit Ihrem Fachwissen bei uns bewegen können. Und wie Sie bei uns Ihre beruflichen Visionen und Träume verwirklichen können. \nMit dabei: Kolleginnen und Kollegen des Instituts für Softwaretechnologie\, des Instituts für Kommunikation und Navigation\, der Einrichtung Raumflugbetrieb und Astronautentraining\, der Deutschen Raumfahrtagentur und der Personalbetreuung. \nDas digitale Messeformat findet online statt: Der Zugang ist nach einer kurzen Registrierung kostenfrei und zeitlich flexibel für alle interessierten Teilnehmerinnen und Teilnehmer offen. \nWir freuen uns auf Sie! \n\nWas: virtuelle Karrieremesse konaktiva der TU Darmstadt\nWo: online\nWann: 18. Mai 2021 | 9:30 – 16:30 Uhr
URL:https://event.dlr.de/event/konaktiva-karrieremesse/
LOCATION:Online\, Deutschland
CATEGORIES:Online-Messe
ATTACH;FMTTYPE=image/jpeg:https://event.dlr.de/wp-content/uploads/2021/05/Konaktive2021.jpg
ORGANIZER;CN="TU Darmstadt":MAILTO:info@konaktiva-darmstadt.de
END:VEVENT
BEGIN:VEVENT
DTSTART;TZID=Europe/Berlin:20210519T130000
DTEND;TZID=Europe/Berlin:20210520T140000
DTSTAMP:20260419T214752
CREATED:20201001T163608Z
LAST-MODIFIED:20210506T082846Z
UID:10002317-1621429200-1621519200@event.dlr.de
SUMMARY:VDI nachrichten Recruiting Tag 2021 Online
DESCRIPTION:Ready for Takeoff? Entdecken Sie das DLR auf der Online-Karrieremesse für (IT-)Ingenieurinnen und Ingenieure! \nAuf der virtuellen Karrieremesse für (IT-)Ingenieurinnen und Ingenieure lernen Sie unser Forschungszentrum besser kennen und erfahren mehr zu aktuellen Jobangeboten. Holen Sie sich alle Infos zum Einstieg beim DLR und chatten Sie mit unseren Mitarbeiterinnen und Mitarbeitern! \nInformieren Sie sich an unserem digitalen Messestand über die Forschungsprojekte und Arbeitswelten des DLR. Mit dabei sind Kolleginnen und Kollegen des Galileo Kompetenzzentrums\, des Instituts für Kommunikation und Navigation und der Deutschen Raumfahrtagentur. \nDas digitale Messeformat findet online statt: Der Zugang ist nach einer kurzen Registrierung kostenfrei und zeitlich flexibel für alle interessierten Teilnehmerinnen und Teilnehmer offen. \nWir freuen uns auf Sie! \n  \nWas: VDI virtuelle Karrieremesse für (IT-)Ingenieurinnen und Ingenieure\, Young Professionals und Professionals\nWo: online\nWann: 19. Mai 2021 | 13:00 – 18:00 Uhr | 20. Mai 2021 | 9:00 – 14:00 Uhr
URL:https://event.dlr.de/event/vdi-nachrichten-recruiting-tag-2020-online/
CATEGORIES:Virtuelle Messe
ATTACH;FMTTYPE=image/jpeg:https://event.dlr.de/wp-content/uploads/2020/10/vdi_recruiting_tag2021.jpg
END:VEVENT
BEGIN:VEVENT
DTSTART;TZID=Europe/Berlin:20210526T110000
DTEND;TZID=Europe/Berlin:20210526T115000
DTSTAMP:20260419T214752
CREATED:20210520T090554Z
LAST-MODIFIED:20210520T090554Z
UID:10001974-1622026800-1622029800@event.dlr.de
SUMMARY:Virtuelle Eröffnung des DLR-Instituts für Solar-Terrestrische Physik\, Neustrelitz
DESCRIPTION:Das Deutsche Zentrum für Luft- und Raumfahrt (DLR) eröffnet am Mittwoch\, 26. Mai 2021\, sein neues Institut für Solar-Terrestrische Physik in Neustrelitz (Mecklenburg-Vorpommern). \nDas Institut für Solar-Terrestrische Physik beschäftigt sich mit den Wechselwirkungen zwischen der Sonnenaktivität und dem Erdsystem. Sonnenstürme können die Kommunikations- und Navigationssatelliten in unserem Orbit sowie wichtige technische Infrastrukturen am Boden oder in der Luft beschädigen oder sogar ausfallen lassen. Dieses Phänomen wird als Weltraumwetter bezeichnet. Ziel der Forschung ist\, das Weltraumwetter zeitnah\, genau und zuverlässig zu beobachten und schließlich vorherzusagen. Dies kommt der Sicherheit von Infrastrukturen im All\, aber zum Beispiel auch von Stromnetzen auf der Erde zugute. \nNach den Grußworten stellt sich das Institut vor. Außerdem gibt es eine Diskussionsrunde zur Bedeutung der Weltraumwetter-Forschung für die Gesellschaft\, die Forschungslandschaft und den Standort Neustrelitz. \nDie Teilnahme ist nur mit einer persönlichen Einladung möglich.
URL:https://event.dlr.de/event/virtuelle-eroeffnung-des-dlr-instituts-fuer-solar-terrestrische-physik-neustrelitz/
LOCATION:Online\, Deutschland
ORGANIZER;CN="Deutsches Zentrum f%C3%BCr Luft- und Raumfahrt e.V.":MAILTO:Bernhard.Milow@DLR.de
END:VEVENT
BEGIN:VEVENT
DTSTART;TZID=Europe/Berlin:20210527T110000
DTEND;TZID=Europe/Berlin:20210527T120000
DTSTAMP:20260419T214752
CREATED:20210512T134946Z
LAST-MODIFIED:20210521T105629Z
UID:10001971-1622113200-1622116800@event.dlr.de
SUMMARY:Virtuelle Eröffnung des DLR-Instituts für Quantentechnologien\, Ulm
DESCRIPTION:Ob globale Kommunikation oder zuverlässige Navigation per Satellit – viele Raumfahrt-Anwendungen sind auf hochpräzise Instrumente angewiesen. Technologien auf Basis quantenmechanischer Effekte ermöglichen bisher unerreichte Genauigkeiten. Das Institut für Quantentechnologien des Deutschen Zentrums für Luft- und Raumfahrt (DLR) entwickelt solche Präzisionsinstrumente und bringt sie zusammen mit der Industrie zur Prototyp-Reife. Das Institut mit Sitz in Ulm schlägt damit eine Brücke zwischen Grundlagenforschung und Anwendung. \nAm 27. Mai 2021 (11-12 Uhr) weiht das DLR mit Gästen aus Politik\, Wirtschaft und Forschung das Institut für Quantentechnologien ein. Auf Grußworte aus der Bundes- und Landespolitik folgt ein interaktiver Einblick in die Schwerpunkte des Instituts und eine kurze Diskussionsrunde widmet sich der Zukunft der Quantentechnologien. \nDie Teilnahme ist nur mit einer persönlichen Einladung möglich.
URL:https://event.dlr.de/event/virtuelle-eroeffnung-des-dlr-instituts-fuer-quantentechnologien-ulm/
CATEGORIES:Online-Event
ORGANIZER;CN="Deutsches Zentrum f%C3%BCr Luft- und Raumfahrt (DLR)":MAILTO:event@dlr.de
END:VEVENT
BEGIN:VEVENT
DTSTART;TZID=Europe/Berlin:20210528T110000
DTEND;TZID=Europe/Berlin:20210528T121500
DTSTAMP:20260419T214752
CREATED:20210521T104102Z
LAST-MODIFIED:20210521T104551Z
UID:10001975-1622199600-1622204100@event.dlr.de
SUMMARY:Virtuelle Eröffnung des DLR-Instituts für Maritime Energiesysteme\, Geesthacht
DESCRIPTION:Das Deutsche Zentrum für Luft- und Raumfahrt (DLR) eröffnet am Freitag\, 28. Mai 2021\, sein neues Institut für Maritime Energiesysteme in Geesthacht (Schleswig-Holstein). \nDas DLR-Institut für Maritime Energiesysteme entwickelt Lösungen für die Dekarbonisierung der Schifffahrt\, die in Kooperation mit der Industrie in die Praxis überführt werden. Im Fokus der Entwicklung stehen zum Beispiel Brennstoffzellensysteme und alternative Treibstoffe. Die Wissenschaftlerinnen und Wissenschaftler betrachten das gesamte Energiesystem an Bord\, einschließlich der Versorgung mit Strom\, Wärme und Kälte. \nNach den Grußworten gibt es zwei kurze Diskussionsrunden zu den Innovationen\, die eine emissionsärmere Schifffahrt ermöglichen sollen. Es geht auch um die Herausforderungen\, vor denen die maritime Wirtschaft steht\, um die internationalen Ziele zur Reduktion von Emissionen zu erreichen. Außerdem stellt sich das Institut vor. \nDie Teilnahme ist nur mit einer persönlichen Einladung möglich.
URL:https://event.dlr.de/event/virtuelle-eroeffnung-des-dlr-instituts-fuer-maritime-energiesysteme-geesthacht/
LOCATION:Online\, Deutschland
END:VEVENT
END:VCALENDAR