BEGIN:VCALENDAR
VERSION:2.0
PRODID:-//DLR Event - ECPv6.15.13.1//NONSGML v1.0//EN
CALSCALE:GREGORIAN
METHOD:PUBLISH
X-WR-CALNAME:DLR Event
X-ORIGINAL-URL:https://event.dlr.de
X-WR-CALDESC:Veranstaltungen für DLR Event
REFRESH-INTERVAL;VALUE=DURATION:PT1H
X-Robots-Tag:noindex
X-PUBLISHED-TTL:PT1H
BEGIN:VTIMEZONE
TZID:Europe/Berlin
BEGIN:DAYLIGHT
TZOFFSETFROM:+0100
TZOFFSETTO:+0200
TZNAME:CEST
DTSTART:20210328T010000
END:DAYLIGHT
BEGIN:STANDARD
TZOFFSETFROM:+0200
TZOFFSETTO:+0100
TZNAME:CET
DTSTART:20211031T010000
END:STANDARD
BEGIN:DAYLIGHT
TZOFFSETFROM:+0100
TZOFFSETTO:+0200
TZNAME:CEST
DTSTART:20220327T010000
END:DAYLIGHT
BEGIN:STANDARD
TZOFFSETFROM:+0200
TZOFFSETTO:+0100
TZNAME:CET
DTSTART:20221030T010000
END:STANDARD
BEGIN:DAYLIGHT
TZOFFSETFROM:+0100
TZOFFSETTO:+0200
TZNAME:CEST
DTSTART:20230326T010000
END:DAYLIGHT
BEGIN:STANDARD
TZOFFSETFROM:+0200
TZOFFSETTO:+0100
TZNAME:CET
DTSTART:20231029T010000
END:STANDARD
END:VTIMEZONE
BEGIN:VEVENT
DTSTART;VALUE=DATE:20220404
DTEND;VALUE=DATE:20220408
DTSTAMP:20260420T185851
CREATED:20211221T143010Z
LAST-MODIFIED:20220322T142825Z
UID:10003390-1649030400-1649375999@event.dlr.de
SUMMARY:37th Space Symposium 2022
DESCRIPTION:Das jährlich stattfindende Space Symposium in Colorado Springs ist das größte Aerospace Symposium in Amerika. Neben einer großen Auswahl politischer und wissenschaftlicher Panels aus allen Fachbereichen findet eine hochrangige Industrie- und Technologiemesse statt\, die den führenden Vertretern aus Industrie- und Wissenschaft eine einzigartige Möglichkeit zum Networking und Marketing eröffnet. \nWeitere Informationen finden Sie hier.
URL:https://event.dlr.de/event/space-symposium-2022/
LOCATION:The Broadmore\, 1 Lake Avenue\, Colorado Springs\, CO80906\, Vereinigte Staaten
CATEGORIES:Ausstellung,Symposium
ATTACH;FMTTYPE=image/jpeg:https://event.dlr.de/wp-content/uploads/2021/12/37th-Masthead.jpg
GEO:38.791226;-104.8501007
X-APPLE-STRUCTURED-LOCATION;VALUE=URI;X-ADDRESS=The Broadmore 1 Lake Avenue Colorado Springs CO80906 Vereinigte Staaten;X-APPLE-RADIUS=500;X-TITLE=1 Lake Avenue:geo:-104.8501007,38.791226
END:VEVENT
BEGIN:VEVENT
DTSTART;TZID=Europe/Berlin:20220404T080000
DTEND;TZID=Europe/Berlin:20220408T170000
DTSTAMP:20260420T185851
CREATED:20220124T111242Z
LAST-MODIFIED:20220124T111351Z
UID:10001990-1649059200-1649437200@event.dlr.de
SUMMARY:EPIC-ELECTRIC PROPULSION INNOVATION & COMPETITIVENESS 2022
DESCRIPTION:EPIC-ELECTRIC PROPULSION INNOVATION & COMPETITIVENESS\nWORKSHOP 2022 \nElectric propulsion is considered by European stakeholders as a strategic technology to improve European competitiveness in space. The European Commission has launched the Strategic Research Cluster (SRC) „Electric Propulsion in Space and Station Keeping“ under the Horizon 2020 program. The goal of the SRC is to enable advances in electric propulsion in Europe. The Program Support Activity (PSA) EPIC is supporting the European Commission in this effort. \nThe EPIC consortium is pleased to announce that the EPIC Workshop 2022 on SRC H2020 „Space Electric Propulsion“ activities will be held at the German Aerospace Center in Cologne. Following the workshop\, a Lecture Series with relevant presentations in the field of space electric propulsion is planned. Furthermore\, there will be the opportunity for start-ups to enter into discussion with representatives from industry and institutional bodies.\n\nThe EPIC Workshop 2022 will take place at the DLR site in Cologne-Porz\, Germany\, at the Casino from 4 April to 8 April 2022. The EPIC 2022 workshop is as a hybrid format. \nThe activities of the EPIC consortium will be presented to the EP community and stakeholders and the latest developments in EP technology in Europe will be collected and evaluated. The preliminary program will be published and will include the following contents. \nPreliminary content of the EPIC Workshop 2022 includes: \nProgress and activities of the EPIC consortium.\nIncremental Projects: Objectives\, proposed approach\, team\, progress\, and deliverables\nDisruptive Projects: Goals\, proposed approach\, team\, progress\, and final deliverables\nRoundtable and Stakeholder Interaction on Satellite Constellation\, CubeSats\, and Electric Propulsion (invited speakers).\nLecture Series featuring new developments in EP technologies\, promising thrusters\, and cross-cutting technologies (open to speakers)\nStartup Session in the fields of electric propulsion \nConsortium speakers will present Horizon 2020 Electric Propulsion SRC activities to the EP community and stakeholders and are seeking speakers to assess the latest EP technology developments in Europe. Conditions of participation\, all other information and registration can be found on the EPIC homepage.
URL:https://event.dlr.de/event/epic-electric-propulsion-innovation-competitiveness-2022/
LOCATION:Geb. 53\, Casino\, DLR Cologne\, Linder Höhe\, Köln\, 51147\, Deutschland
CATEGORIES:Workshop
ATTACH;FMTTYPE=image/png:https://event.dlr.de/wp-content/uploads/2022/01/EPIC_BESL_Header.png
ORGANIZER;CN="Andres L%C3%BCdeke":MAILTO:epic.workshop@dlr.de
END:VEVENT
BEGIN:VEVENT
DTSTART;TZID=Europe/Berlin:20220414T180000
DTEND;TZID=Europe/Berlin:20220707T190000
DTSTAMP:20260420T185851
CREATED:20220328T082610Z
LAST-MODIFIED:20220328T082655Z
UID:10003397-1649959200-1657220400@event.dlr.de
SUMMARY:Space Forum Lampoldshausen
DESCRIPTION:Wir laden Sie herzlich zum Space Forum Lampoldshausen ein!\nDie nächsten Veranstaltungen finden vom 14.04. – 07.07.2022 zu Themen aus allen Bereichen der Raumfahrt\, vom Raumtransport bis zur Erkundung des Weltalls statt. \nDarüber hinaus wird der Technologietransfer aus der Raumfahrt für die Anwendung von Wasserstofftechnologien im Rahmen der Energiewende thematisiert. \nAlle weiteren Informationen werden kontinuierlich auf dieser Website ergänzt. \nVeranstaltungsort:\nOnline-Konferenztool Alfaview \nVorträge:\n\n1. Was haben Raketen\, Tiefseeströmungen und Waldbrände gemeinsam?\n(Prof. Dr. Daniel Banuti\, University of New Mexico) – 14. April 2022 | 18 Uhr \n2. Stand und Perspektive der Fusionsforschung: Welchen Beitrag kann die Fusionsforschung perspektivisch zur Energieversorgung leisten?\n(Dr. Michael Börner\, DLR-Institut für Raumfahrtantriebe) – 05. Mai 2022 | 18 Uhr\n \n3. Leben im All – wo und wie suchen wir danach?\n(Prof. Dr. Jean-Pierre Paul de Vera\, DLR) – 02. Juni 2022 | 18 Uhr \n4. Weltraummüll\n(Dr.-Ing. Carsten Wiedemann\, TU Braunschweig) – 07. Juli 2022 | 18 Uhr\n \nAnmeldung:\nBitte melden Sie sich bei Interesse über den folgenden Link: dlr.expert/sfl für eine oder mehrere Veranstaltungen des Space Forum Lampoldshausen an. \nDie Teilnahme am Space Forum Lampoldshausen ist kostenlos. Die Anmeldung ist bis jeweils 2 Tage vor der Veranstaltung möglich. \nSie haben sich angemeldet. Wie geht es nun weiter?\nNach erfolgter Registrierung erhalten Sie eine schriftliche Bestätigung\, die gleichzeitig die Login-Daten für das Konferenztool beinhaltet. \nVeranstalter:\nHerr Prof. Dr. Michael Oschwald // michael.oschwald@dlr.de \nDLR-Institut für Raumfahrtantriebe
URL:https://event.dlr.de/event/space-forum-lampoldshausen/
LOCATION:Online\, Deutschland
CATEGORIES:Vortrag
ATTACH;FMTTYPE=image/png:https://event.dlr.de/wp-content/uploads/2022/03/Bild2.png
ORGANIZER;CN="DLR Institut f%C3%BCr Raumfahrtantriebe":MAILTO:info-la[a]dlr.de
END:VEVENT
BEGIN:VEVENT
DTSTART;TZID=Europe/Berlin:20220426T153000
DTEND;TZID=Europe/Berlin:20220607T170000
DTSTAMP:20260420T185851
CREATED:20201216T102440Z
LAST-MODIFIED:20230417T084005Z
UID:10002324-1650987000-1654621200@event.dlr.de
SUMMARY:DLR Astroseminar 2022
DESCRIPTION:Wir laden Sie herzlich ein zum Astroseminar 2022!\nDie Astroseminar Veranstaltungen 2022 finden jeweils Dienstagsnachmittags im Zeitraum 26.04. – 07.06. 2022 zum Thema „Schwarze Löcher – dunkle Fallen der Raumzeit“ statt. \nVeranstaltungsorte:\n \nA) \nDeutsches Zentrum für Luft- und Raumfahrt e.V.\nLindner Höhe\n51147 Köln\nGebäude 53 (Casino)\, 1. Etage\, großer Saal \nDie Vorträge am 26.4.2022\, 10.5.2022\, 17.5.2022\, 24.5.2022 und 7.6.2022 finden am DLR Standort Köln-Porz als Präsenzveranstaltung mit reduzierter Teilnehmendenzahl statt.\nWir werden diese Vorträge aber auch streamen. Der Livestream ermöglicht es Ihnen flexibel von zuhause aus quasi in Echtzeit an den Astroseminar-Vorträgen 2022\, ggf. gemeinsam mit Familienmitgliedern\, teilzunehmen.\nAlle weiteren Informationen zur Veranstaltungsserie Astroseminar 2022 finden Sie auf der Webseite Astroseminar 2022 – Präsenzveranstaltung (dlr.expert) \nB) \nUniversität zu Köln\nGebäude 322: Chemische Institute\nErdgeschoss\, Kurt-Alder-Hörsaal\nGreinstraße 4-6\, 50939 Köln \nDer zweite Vortrag der Reihe\, in dem der Nobelpreisträger Herr Professor Genzel am 3. Mai über seine Arbeiten zum Schwarzen Loch im Zentrum der Milchstraße berichten wird\, konnte dankenswerterweise in den Kurt-Alder-Hörsaal des Chemischen Instituts der Universität zu Köln verlegt werden. Dieser Vortrag wird nicht gestreamt. Alle Infos dazu finden Sie hier. \nAlle Vorträge des Astroseminars 2022 im Überblick: \nVorträge: \nThemen- und Terminübersicht Astroseminar 2022 \n1) \nVon Einstein bis Hawking und Penrose – die Physik der Schwarzen Löcher \nDr. Andreas Müller\, Spektrum Verlag\, Heidelberg \nVeranstaltungsort: DLR Köln Porz\, Gebäude 53\, großer Saal \nDienstag\, 26. April 2022\, 15:30-17:00 Uhr \n2) \nDas Schwarze Loch im galaktischen Zentrum – ein Testobjekt der Allgemeinen\nRelativitätstheorie \nNobelpreisträger Prof. Dr. Reinhard Genzel\, \nMPI für extraterrestrische Physik\, Garching \nVeranstaltungsort: Universität zu Köln\, Kurt-Alder-Hörsaal \nDienstag\, 03. Mai 2022\, 15:15-17:00 Uhr\nAn diesem Vortrag ist keine Teilnahme per Live-Stream möglich!  \n3) \nDie Bedeutung primordialer Schwarzer Löcher in der Kosmologie \nProf. Dr. Hans-Joachim Blome\, Fachhochschule Aachen \nVeranstaltungsort: DLR Köln Porz\, Gebäude 53\, Großer Saal \nDienstag\, 17. Mai 2022\, 15:30-17:00 Uhr \n4) \nWie das zentrale Schwarze Loch in Messier 87 „sichtbar“ wurde \nProf. Dr. Heino Falcke\, Universität Nijmegen\, NL \nVeranstaltungsort: DLR Köln Porz\, Gebäude 53\, Großer Saal \nFreitag\, 20. Mai 2022\, 15:30-17:00 Uhr \n5) \nGravitationswellen – wenn stellare Schwarze Löcher verschmelzen \nProf. Dr. Karsten Danzmann\, Albert-Einstein-Institut\, Potsdam \nVeranstaltungsort: DLR Köln Porz\, Gebäude 53\, Großer Saal \nDienstag\, 24. Mai 2022\, 15:30-17:00 Uhr \n6) \nDas Extremly Large Telescope und seine Rolle bei der Erforschung\nSchwarzer Löcher \nProf. Dr. Jochen Liske\, Universität Hamburg u. Sternwarte Bergedorf \nVeranstaltungsort: DLR Köln Porz\, Gebäude 53\, Großer Saal \nDienstag\, 07. Juni 2022\, 15:30-17:00 Uhr \nAnmeldung: \nBitte melden Sie sich bei Interesse über die Webseite Astroseminar 2022 für eine oder mehrere Veranstaltungen des Astroseminars 2022 an. Die verfügbaren Plätze für die Präsenzteilnahme werden nach dem Prinzip first come\, first served vergeben. Alternativ können Sie sich auch telefonisch unter 02203 601-2316 anmelden. Das DLR-Astroseminar selber ist eintrittsfrei. \n  \nVeranstalter: \nDLR-Kommunikation und DLR-Raumfahrtmanagement \nHerr Dr. Manfred Gaida\nManfred.Gaida@dlr.de \nAnsprechpartnerin in der organisatorischen Planung: \nDLR-Veranstaltungsmanagementservice\nFrau Rebecca Bartkowski\nTel: +49 2203 601 2316  Email: Rebecca.Bartkowski@dlr.de \nZur Anmeldung \nDie Website zur Präsenzanmeldung lautet: https://dlr.expert/astroseminar2022-praesenz \nDie Website zur Streamteilnahme lautet: https://dlr.expert/astroseminar2022-stream
URL:https://event.dlr.de/event/astroseminar-2022/
LOCATION:DLR-Standort Köln\, Hauptverwaltung\, Linder Höhe \, Köln\, 51147\, Deutschland
CATEGORIES:Seminar
ORGANIZER;CN="Dr. Manfred Gaida":MAILTO:Manfred.Gaida@dlr.de
GEO:50.8510192;7.1120182
X-APPLE-STRUCTURED-LOCATION;VALUE=URI;X-ADDRESS=DLR-Standort Köln Hauptverwaltung Linder Höhe  Köln 51147 Deutschland;X-APPLE-RADIUS=500;X-TITLE=Linder Höhe:geo:7.1120182,50.8510192
END:VEVENT
END:VCALENDAR