BEGIN:VCALENDAR
VERSION:2.0
PRODID:-//DLR Event - ECPv6.15.13.1//NONSGML v1.0//EN
CALSCALE:GREGORIAN
METHOD:PUBLISH
X-ORIGINAL-URL:https://event.dlr.de
X-WR-CALDESC:Veranstaltungen für DLR Event
REFRESH-INTERVAL;VALUE=DURATION:PT1H
X-Robots-Tag:noindex
X-PUBLISHED-TTL:PT1H
BEGIN:VTIMEZONE
TZID:Europe/Berlin
BEGIN:DAYLIGHT
TZOFFSETFROM:+0100
TZOFFSETTO:+0200
TZNAME:CEST
DTSTART:20220327T010000
END:DAYLIGHT
BEGIN:STANDARD
TZOFFSETFROM:+0200
TZOFFSETTO:+0100
TZNAME:CET
DTSTART:20221030T010000
END:STANDARD
BEGIN:DAYLIGHT
TZOFFSETFROM:+0100
TZOFFSETTO:+0200
TZNAME:CEST
DTSTART:20230326T010000
END:DAYLIGHT
BEGIN:STANDARD
TZOFFSETFROM:+0200
TZOFFSETTO:+0100
TZNAME:CET
DTSTART:20231029T010000
END:STANDARD
BEGIN:DAYLIGHT
TZOFFSETFROM:+0100
TZOFFSETTO:+0200
TZNAME:CEST
DTSTART:20240331T010000
END:DAYLIGHT
BEGIN:STANDARD
TZOFFSETFROM:+0200
TZOFFSETTO:+0100
TZNAME:CET
DTSTART:20241027T010000
END:STANDARD
END:VTIMEZONE
BEGIN:VEVENT
DTSTART;VALUE=DATE:20230414
DTEND;VALUE=DATE:20231009
DTSTAMP:20260420T140753
CREATED:20220718T085418Z
LAST-MODIFIED:20230417T081728Z
UID:10001999-1681430400-1696809599@event.dlr.de
SUMMARY:Bundesgartenschau (BUGA) 2023
DESCRIPTION:U-Shift: Mobilität für lebenswerte Städte \nMit dem U-Shift zeigt das DLR auf der Bundesgartenschau 2023 (BUGA23) ein futuristisches Fahrzeugkonzept\, das die Welt des urbanen Personen- und Gütertransports völlig neugestaltet. Das U-Shift besteht aus zwei Komponenten: Die Hightech zum Fahren befindet sich im U-förmigen Driveboard. Dieser autonom fahrende Untersatz nimmt unterschiedliche Transportkapseln auf\, um Personen oder Güter zu befördern. \nDie Besucherinnen und Besucher der BUGA 23 erleben am DLR-Pavillon live die ersten Prototypen des U-Shift im Forschungsbetrieb. Alle sind eingeladen\, die DLR-Mobilitätsforschung kennenzulernen\, mitzumachen und so die Zukunft mitzugestalten. \nDie BUGA23 in Mannheim findet an 178 Tagen vom 14. April bis 8. Oktober 2023 statt. \nDie aktuelle Pressemitteilung des DLR zur BUGA finden sie hier.
URL:https://event.dlr.de/event/bundesgartenschau-buga-2023/
LOCATION:Spinelli-Gelände Mannheim\, Spinelliplatz 4\, Mannheim\, Mannheim\, 68259\, Deutschland
CATEGORIES:Ausstellung
ATTACH;FMTTYPE=image/png:https://event.dlr.de/wp-content/uploads/2022/07/BUGA23_Emailbanner_final.png
ORGANIZER;CN="Dr.-Ing. Marco M%C3%BCnster":MAILTO:Marco.Muenster@dlr.de
END:VEVENT
BEGIN:VEVENT
DTSTART;TZID=Europe/Berlin:20231005T170000
DTEND;TZID=Europe/Berlin:20231005T170000
DTSTAMP:20260420T140753
CREATED:20230615T074117Z
LAST-MODIFIED:20230623T100135Z
UID:10003443-1696525200-1696525200@event.dlr.de
SUMMARY:Space Forum Lampoldshausen 2023
DESCRIPTION:Wir laden Sie herzlich zum Space Forum Lampoldshausen ein! \nDie nächsten Veranstaltungen finden vom 06.07. – 07.12.2023 zu Themen aus allen Bereichen der Raumfahrt\, vom Raumtransport bis zur Erkundung des Weltalls statt. \nDarüber hinaus wird der Technologietransfer aus der Raumfahrt für die Anwendung von Wasserstofftechnologien im Rahmen der Energiewende thematisiert. \nAlle weiteren Informationen werden kontinuierlich auf dieser Website ergänzt. \nVorträge: \n12. Juli 2023 | 17:00 – Hydrogen – Space is not the Limit (Dr. Gerald Hagemann\, ArianeGroup) \n7. September 2023 |17:00 – Theodore von Kármán. Luftfahrtwissenschaften im Zeitalter der Extreme (Prof. Dr. Christian Kehrt\, TU Braunschweig) \n5. Oktober 2023 | 17:00 – Satelliten der 2. Generation (Dr. Andreas Rees\, Dr. Peter Troche\, TESAT\, Backnang Galileo) \n2. November 2023 | 17:00 – Der Mond\, unser Nachbar im All (Rolf Hempel\, DLR\, Institut für Softwaretechnologie) \n7. Dezember 2023 | 17:00 – Die Rocket Factory Augsburg (Dr. Stefan Brieschenk\, Rocket Factory Augsburg) \nAnmeldung: \nBitte Interesse können Sie sich hier für eine oder mehrere Veranstaltungen des Space Forum Lampoldshausen anmelden. \nDie Teilnahme ist kostenlos. Die Anmeldung ist bis jeweils 10 Tage vor der Veranstaltung möglich. \nSie haben sich angemeldet. Wie geht es nun weiter? \nNach erfolgter Registrierung erhalten Sie eine schriftliche Bestätigung\, die gleichzeitig die Login-Daten für das Konferenztool beinhaltet.
URL:https://event.dlr.de/event/space-forum-lampoldshausen-4/2023-10-05/
LOCATION:Space Forum LA / Online Konferenztool
CATEGORIES:Vortrag,Web-Konferenz
ATTACH;FMTTYPE=image/png:https://event.dlr.de/wp-content/uploads/2023/06/Space-Forum_LA_2023.png
ORGANIZER;CN="DLR Institut f%C3%BCr Raumfahrtantriebe":MAILTO:info-la[a]dlr.de
END:VEVENT
BEGIN:VEVENT
DTSTART;VALUE=DATE:20231010
DTEND;VALUE=DATE:20231012
DTSTAMP:20260420T140753
CREATED:20230914T101946Z
LAST-MODIFIED:20230914T130556Z
UID:10002040-1696896000-1697068799@event.dlr.de
SUMMARY:Quantum Effects 2023
DESCRIPTION:Mit mittlerweile neun Hardware- und sieben Software- und Anwendungsprojekten haben wir mit unserem DLR Innovationszentrum Ulm einen starken Quantencomputing-Standort im süddeutschen Raum aufgebaut. Auf der Quantum Effects zeigen wir zusammen mit dem DLR-Institut für Quantentechnologien\, dem DLR-Institut für KI-Sicherheit und dem DLR-Institut für Technische Thermodynamik\, wie wir das Ökosystem Quantencomputing aus Ulm heraus mitgestalten und warum es sich lohnt\, als Industrieunternehmen\, Start-up sowie als Expertin oder Experte ein Teil der DLR Quantencomputing-Initiative zu werden. \nSie finden das DLR als Hauptaussteller in Halle 2\, Stand 2A34\, und als Mitaussteller bei QuantumBW\, ebenfalls in Halle 2\, Stand 2D15.
URL:https://event.dlr.de/event/quantum-effects-2023/
LOCATION:Messe Stuttgart\, Messepiazza 1\, Stuttgart\, 70629\, Deutschland
CATEGORIES:Messe,Konferenz
ATTACH;FMTTYPE=image/png:https://event.dlr.de/wp-content/uploads/2023/09/QuantumEffects2023-4.png
ORGANIZER;CN="Felix Knoke":MAILTO:Felix.Knoke@dlr.de
END:VEVENT
BEGIN:VEVENT
DTSTART;TZID=Europe/Berlin:20231010T100000
DTEND;TZID=Europe/Berlin:20231010T123000
DTSTAMP:20260420T140753
CREATED:20230907T150441Z
LAST-MODIFIED:20230907T150441Z
UID:10002039-1696932000-1696941000@event.dlr.de
SUMMARY:Future Innovators –  Module 1: Introduction to Entrepreneurship
DESCRIPTION:Das Team der DLR_Startup Factory und des DESY Start-up-Office starten das Programm „Future Innovators – A Helmholtz Transfer Academy“. Du bist Wissenschaftlerin oder Wissenschaftler\, arbeitest in spannenden Forschungsprojekten und möchtest herausfinden\, wie viel Anwendungspotenzial darin steckt? Deine Ideen sollen die Welt von morgen mitgestalten? Wäre Gründen für dich interessant? Was bedeutet das überhaupt? Finde die Antworten bei Future Innovators. \nIn den drei Modulen der Future Innovators bringen wir dir das unternehmerische Mindset nahe und zeigen dir\, welche unternehmerischen Kompetenzen du mit uns dafür entwickeln kannst. Mehr aus den eigenen Ideen machen: Das geht beispielsweise über Transferprojekte\, Ausgründungen oder auch Kooperationen mit der Wirtschaft. \nDie Voranmeldung für das Modul 1 Introduction to Entrepreneurship ist ab sofort unter register@future-innovators.de möglich. \nAnmeldefrist ist der 22. September 2023. \nDas Modul 1 findet an drei Terminen auf Englisch statt; Einführung\, Kennenlern- und Netzwerkevent in Präsenz (2\,5h)\, sowie zwei halbtägige Online-Veranstaltungen. Die Details zu Modul 1 findest du in der FachinformationVeranstaltungsdetails_Save the Date Future Innovators. Weitere Informationen zu Future Innovators – A Helmholtz Transfer  Academy findest du in der Allgemeine InformationFuture Innovators – A Helmholtz Transfer Academy – Mach mehr aus deiner Forschung! \nTag 1:\n10. Oktober 2023 von 10:00 Uhr bis 12:30 Uhr\nHybrides Meet-and-Greet-Event.\nUnsere Einführungsveranstaltung findet gleichzeitig im DLR in Köln sowie im DESY in Hamburg statt. \nTag 2:\n24. Oktober 2023 von 10:00 Uhr bis 15:30 Uhr\nOnline-Workshop: Innovate with Empathy \nTag 3:\n14. November 2023 von 10:00 Uhr bis 12:30 Uhr\nOnline-Workshop: Ideation
URL:https://event.dlr.de/event/future-innovators-module-1-introduction-to-entrepreneurship/
LOCATION:DLR Köln + DESY Hamburg
CATEGORIES:Konferenz
ATTACH;FMTTYPE=image/png:https://event.dlr.de/wp-content/uploads/2023/09/Future-Innovators-2023.png
ORGANIZER;CN="Benjamin Wang":MAILTO:benjamin.wang@dlr.de
END:VEVENT
BEGIN:VEVENT
DTSTART;TZID=Europe/Berlin:20231012T180000
DTEND;TZID=Europe/Berlin:20231012T220000
DTSTAMP:20260420T140753
CREATED:20230830T110621Z
LAST-MODIFIED:20230830T110621Z
UID:10003450-1697133600-1697148000@event.dlr.de
SUMMARY:Vortragsabend Innovationsmanagement - DLR und Institut für KI-Sicherheit
DESCRIPTION:Innovationsmanagement beim DLR und die Vorstellung des neuen Instituts für KI-Sicherheit: \nDie Gemeinsamkeit der Mitglieder des Arbeitskreises Innovationsmanagement ist ihre Begeisterung für Technik und Innovation. Inhaltlich bewegen sich die Themen um Technologien\, Innovationsprozesse und neue Geschäftsmodelle. Dazu treffen sich die Mitglieder in der Regel zu zwei bis drei Veranstaltungen pro Jahr im Großraum Ulm\, um von den Besten zu lernen und den Erfahrungsaustausch der Teilnehmenden zu fördern.\nAgenda für den Vortragsabend beim DLR Institut für KI-Sicherheit in Ulm: \n\nBegrüßung und Vorstellung der Teilnehmer durch Prof. Dr. Frank Köster\, Gründungsdirektor des Instituts für KI-Sicherheit und Prof. Dr. Christian Greiner\, Arbeitskreis für Innovationsmanagement\nVortrag Innovationsmanagement beim DLR\, Rainer Schüller-Fengler\, Wirtschaftskooperation & Innovation Management\nVortrag Vorstellung Institut für KI-Sicherheit\, Prof. Dr. Frank Köster\nAnschließend Get Together
URL:https://event.dlr.de/event/vortragsabend-innovationsmanagement-dlr-und-institut-fuer-ki-sicherheit/
LOCATION:DLR Ulm\, Wilhelm-Runge-Str. 10\, Ulm\, 89081\, Deutschland
CATEGORIES:Vortrag
ATTACH;FMTTYPE=image/jpeg:https://event.dlr.de/wp-content/uploads/2023/08/AK-Innovationsmanagement-28.08.23-1.jpg
ORGANIZER;CN="Helen Schilcher":MAILTO:Helen.Schilcher@dlr.de
END:VEVENT
BEGIN:VEVENT
DTSTART;TZID=Europe/Berlin:20231020T140000
DTEND;TZID=Europe/Berlin:20231020T153000
DTSTAMP:20260420T140753
CREATED:20230526T080853Z
LAST-MODIFIED:20230526T080853Z
UID:10003439-1697810400-1697815800@event.dlr.de
SUMMARY:{:de}MASCOT on asteroid Ryugu –  Linking remote sensing and returned  sample analysis with a small lander{:}{:en}MASCOT on asteroid Ryugu –  Linking remote sensing and returned  sample analysis with a small lander{:}
DESCRIPTION:MASCOT is a 30 cm x 30 cm x 20 cm small lander that was deployed onto the surface of asteroid Ryugu in October 2018 by JAXA’s Hayabusa2 mission. There\, it operated for 17 hours and collected valuable data using its camera\, radiometer and magnetometer. The presentation summarizes the findings of MASCOT on the surface of Ryugu and sets the results into context with remote sensing observations by the Hayabusa2 spacecraft and the recently returned samples from Ryugu to Earth. \nTeilnahme auch online: Pexip Infinity Connect v3 (dlr.de)
URL:https://event.dlr.de/event/mascot-on-asteroid-ryugu-linking-remote-sensing-and-returned-sample-analysis-with-a-small-lander/
LOCATION:Institut für Raumfahrtsysteme\, Robert Hooke Str. 7\, Bremen\, 28359\, Deutschland
CATEGORIES:Vortrag,Webinar
END:VEVENT
BEGIN:VEVENT
DTSTART;TZID=Europe/Berlin:20231021T090000
DTEND;TZID=Europe/Berlin:20231021T190000
DTSTAMP:20260420T140753
CREATED:20230920T112126Z
LAST-MODIFIED:20230920T112434Z
UID:10002041-1697878800-1697914800@event.dlr.de
SUMMARY:Space Creator Day 2023
DESCRIPTION:Das größte Meet & Greet Event der europäischen Raumfahrt-Community geht in die zweite Runde! Nach der erfolgreichen Erstauflage 2022 heißt es in diesem Jahr: „All engines running!“ Der Space Creator Day bietet euch viel Platz\, mehr Abwechslung und noch mehr #teamspace. Freut euch auf Space Creator aus aller Welt\, Space Tech-Unternehmen und Raumfahrtinstititionen. Außerdem erwarten euch spannende Sessions\, interessante Workshops und vieles mehr. \nWie auch im letzten Jahr findet der Space Creator Day auf dem Gelände des Technik Museums Speyer statt. \nTriff das DLR auf dem Space Creator Day 2023 \nDeutsches Zentrum für Luft- & Raumfahrt – Space Creator Day
URL:https://event.dlr.de/event/space-creator-day-2023/
LOCATION:Technik Museum Speyer\, Am Technik Museum 1\, Speyer\, 67346\, Deutschland
ATTACH;FMTTYPE=image/jpeg:https://event.dlr.de/wp-content/uploads/2023/09/SpaceCreatorDay2023.jpg
ORGANIZER;CN="{%3Ade}Petra Scholz{%3A}{%3Aen}Petra Scholz{%3A}":MAILTO:event@dlr.de
END:VEVENT
END:VCALENDAR