BEGIN:VCALENDAR
VERSION:2.0
PRODID:-//DLR Event - ECPv6.15.13.1//NONSGML v1.0//EN
CALSCALE:GREGORIAN
METHOD:PUBLISH
X-ORIGINAL-URL:https://event.dlr.de
X-WR-CALDESC:Veranstaltungen für DLR Event
REFRESH-INTERVAL;VALUE=DURATION:PT1H
X-Robots-Tag:noindex
X-PUBLISHED-TTL:PT1H
BEGIN:VTIMEZONE
TZID:Europe/Berlin
BEGIN:DAYLIGHT
TZOFFSETFROM:+0100
TZOFFSETTO:+0200
TZNAME:CEST
DTSTART:20230326T010000
END:DAYLIGHT
BEGIN:STANDARD
TZOFFSETFROM:+0200
TZOFFSETTO:+0100
TZNAME:CET
DTSTART:20231029T010000
END:STANDARD
BEGIN:DAYLIGHT
TZOFFSETFROM:+0100
TZOFFSETTO:+0200
TZNAME:CEST
DTSTART:20240331T010000
END:DAYLIGHT
BEGIN:STANDARD
TZOFFSETFROM:+0200
TZOFFSETTO:+0100
TZNAME:CET
DTSTART:20241027T010000
END:STANDARD
BEGIN:DAYLIGHT
TZOFFSETFROM:+0100
TZOFFSETTO:+0200
TZNAME:CEST
DTSTART:20250330T010000
END:DAYLIGHT
BEGIN:STANDARD
TZOFFSETFROM:+0200
TZOFFSETTO:+0100
TZNAME:CET
DTSTART:20251026T010000
END:STANDARD
END:VTIMEZONE
BEGIN:VEVENT
DTSTART;TZID=Europe/Berlin:20240307T170000
DTEND;TZID=Europe/Berlin:20240307T200000
DTSTAMP:20260421T001440
CREATED:20231212T085933Z
LAST-MODIFIED:20231212T085933Z
UID:10003459-1709830800-1709841600@event.dlr.de
SUMMARY:Space Forum Lampoldshausen 2024
DESCRIPTION:Wir laden Sie herzlich zum Space Forum Lampoldshausen ein! \nDie nächsten Veranstaltungen finden vom 01.02. – 06.06.2024 zu Themen aus allen Bereichen der Raumfahrt\, vom Raumtransport bis zur Erkundung des Weltalls statt. \nDarüber hinaus wird der Technologietransfer aus der Raumfahrt für die Anwendung von Wasserstofftechnologien im Rahmen der Energiewende thematisiert. \nAlle weiteren Informationen werden kontinuierlich auf dieser Website ergänzt. \nVorträge: \n\n01. Februar 2024 | 17:00 – Der Beitrag von ArianeGroup zu den Artemis-Missionen\n(Dimitri Telischkin\, ArianeGroup)\n07. März 2024 | 17:00 – Tests der Ariane-6-Oberstufe in Lampoldshausen\n(Anja Frank\, DLR-Institut für Raumfahrtantriebe)\n04. April 2024 | 17:00 – Test Engineering Liquid Propulsion bei ArianeGroup: Wie wir die Triebwerke der Ariane-Raketen und künftiger Raumfahrzeuge testen\n(Dr. Stefan Gröning\, ArianeGroup)\n02. Mai 2024 | 17:00 – Verflüssigung von Wasserstoff durch magnetisches Kühlen\n(Dr. Tino Gottschall\, Dresden High Magnetic Field\, Helmholtz-Zentrum Dresden-Rossendorf)\n06. Juni 2024 | 17:00 – Der Höhenweltrekord für studentische Hybridraketen\n(Julian Dobusch\, HyEnd Universität Stuttgart)\n\nAnmeldung: \nBitte melden Sie sich bei Interesse über den folgenden Link für eine oder mehrere Veranstaltungen des Space Forum Lampoldshausen an: Space Forum Lampoldshausen 2024 (dlr.expert) \nDie Teilnahme ist kostenlos. Die Anmeldung ist bis jeweils 10 Tage vor der Veranstaltung möglich. \nSie haben sich angemeldet. Wie geht es nun weiter? \nNach erfolgter Registrierung erhalten Sie eine schriftliche Bestätigung\, die gleichzeitig die Login-Daten für das Konferenztool beinhaltet.
URL:https://event.dlr.de/event/space-forum-lampoldshausen-2024/2024-03-07/
LOCATION:Space Forum LA / Online Konferenztool
CATEGORIES:Vortrag,Web-Konferenz
ATTACH;FMTTYPE=image/png:https://event.dlr.de/wp-content/uploads/2023/06/Space-Forum_LA_2023.png
ORGANIZER;CN="DLR Institut f%C3%BCr Raumfahrtantriebe":MAILTO:info-la[a]dlr.de
END:VEVENT
BEGIN:VEVENT
DTSTART;TZID=Europe/Berlin:20240319T093000
DTEND;TZID=Europe/Berlin:20240321T173000
DTSTAMP:20260421T001440
CREATED:20240202T112915Z
LAST-MODIFIED:20240202T112915Z
UID:10002046-1710840600-1711042200@event.dlr.de
SUMMARY:{:de}Airspace World 2024{:}{:en}Airspace World 2024{:}
DESCRIPTION:Die Airspace World ist die weltweit größte Veranstaltung im Bereich Flugführung und -sicherung. Vom 19. bis 21. März kombiniert sie in Genf eine grosse Ausstellung mit einer Konferenz. Mehrere tausend Fachbesucher aus aller Welt nutzen die Gelegenheit\, sich über die neuesten Trends und Entwicklungen in diesem Bereich zu informieren. Das DLR ist mit mehreren Forschungsexponaten vertreten: am Stand D34. \nDas Institut für Flugführung zeigt gemeinsam mit dem Netherlands Aerospace Laboratory (NLR) aktuelle Forschungsprojekte zum Luftverkehrsmanagement der Zukunft. \nIm Mittelpunkt stehen in diesem Jahr die Themen „Digitaler Lotse und klimaoptimierte Flugrouten“\, „Virtueller Tower“ und „Integration von Raumfahrzeugen in das bestehende Luftverkehrssystem“.
URL:https://event.dlr.de/event/airspace-world-2024/
LOCATION:PALEXPO\, Rte François-Peyrot 30\, Genf\, Genf\, 1218 Le Grand-Saconnex\, Schweiz
CATEGORIES:Messe,Ausstellung,Event
ATTACH;FMTTYPE=image/jpeg:https://event.dlr.de/wp-content/uploads/2024/02/Airspace-World-2024_banner2-300x157-1.jpg
ORGANIZER;CN="{%3Ade}Michael Drews{%3A}{%3Aen}Michael Drews{%3A}":MAILTO:michael.drews@dlr.de
END:VEVENT
BEGIN:VEVENT
DTSTART;VALUE=DATE:20240320
DTEND;VALUE=DATE:20240321
DTSTAMP:20260421T001440
CREATED:20240118T102100Z
LAST-MODIFIED:20240118T102100Z
UID:10003464-1710892800-1710979199@event.dlr.de
SUMMARY:Symposium on Electrochemical Energy Technology
DESCRIPTION:SCOPE\nRenewable energy sources are the key to the decarbonisation of society. New solutions are needed to bring together power generation\, hydrogen and storage.The Symposium on Electrochemical Energy Technology (SEET) focuses on cutting-edge topics in the field of electrochemical energy technology – fuel cells – water electrolysis – rechargeable batteries. These technologies are considered key to the success of the energy transition based on renewable energies sources. \nThe specific topics are addressed from the perspective of industry and academia\, thus providing a comprehensive view and strengthening the interaction between academia and industry. \nFocus in 2024 – Reduction of Critical Materials\nThe functionality and performance of fuel cells\, electrolyzers and batteries are highly dependent on critical raw materials (CRMs). Examples of CRMs are Platinum Group Metals (PGMs) or Rare Earth Elements (REEs). These are economically and strategically important for the European (and global) economy\, but their supply is at high risk. \nIn addition\, the EU is facing potential restrictions on per- and polyfluorinated alkyl substances (PFAS). Circular methods and processes are needed\, as well as the development of new materials and optimized designs that will increase durability\, performance and reliability\, while decreasing dependency on critical materials. \nThe specific topics are addressed from the perspective of industry and academia\, thus providing a comprehensive view and strengthening the interaction between academia and industry. \nThree sessions on fuel cells\, electrolyzers and batteries will be on the agenda. \nIt would be a pleasure to welcome you at DLR Stuttgart.
URL:https://event.dlr.de/event/symposium-on-electrochemical-energy-technology/
LOCATION:DLR Stuttgart\, Building A\, Seminar room: Gräfin von Linden (Hörsaal)\, Pfaffenwaldring 38-40\, Stuttgart\, Baden-Württemberg\, 70569\, Deutschland
CATEGORIES:Symposium
END:VEVENT
BEGIN:VEVENT
DTSTART;TZID=Europe/Berlin:20240327T140000
DTEND;TZID=Europe/Berlin:20240327T160000
DTSTAMP:20260421T001440
CREATED:20240313T095540Z
LAST-MODIFIED:20240313T095721Z
UID:10002053-1711548000-1711555200@event.dlr.de
SUMMARY:{:de}Die wundersame Welt der Quanten{:}{:en}The wondrous world of quanta{:}
DESCRIPTION:„Die wundersame Welt der Quanten“ – Frühjahrsakademie dreht sich um moderne Physik\n\nMagnetresonanztomografie oder GPS-Navigation beruhen auf quantenmechanischen Funktionen. Doch die Quantenmechanik soll in Zukunft auch abhörsichere Kommunikation und hochsensible Sensoren ermöglichen. Mit ihrer Pionierforschung in der Quantenwissenschaft spielt die Universität Ulm dabei eine zentrale Rolle. \nVorführungen\, Exponate\, Labor-Führungen\nSchauen\, staunen\, ausprobieren – mit Wissenschaftler*innen ins Gespräch kommen! \nWeitere Informationen \n•             Tunneleffekt in der Fluoreszenzmikroskopie\n•             Laborführungen am Institut für Quantenoptik\n•             Miniaturisierte Quantensysteme – auf dem Weg in die Anwendung\n•             Quantenkoffer – Erleben und begreifen Sie 100 Jahre Quantenphysik!\n•             Quantensensor-Demonstrator\n•             Fallen für ultrakalte Atome und Moleküle\n•             Virtuelle Labortouren\n•             Besuch der Core Facility Experimentelle Humane MRT\n•             QML-Optimierungslandschaft
URL:https://event.dlr.de/event/die-wundersame-welt-der-quanten/
LOCATION:Forum der Universität Ulm\, Albert Einstein Allee 11\, Ulm\, Ulm\, 89081\, Deutschland
ATTACH;FMTTYPE=image/jpeg:https://event.dlr.de/wp-content/uploads/2024/03/image-2000-880eb0a82dce7886f3a7d03bdaab7580.jpeg
END:VEVENT
END:VCALENDAR