BEGIN:VCALENDAR
VERSION:2.0
PRODID:-//DLR Event - ECPv6.15.13.1//NONSGML v1.0//EN
CALSCALE:GREGORIAN
METHOD:PUBLISH
X-ORIGINAL-URL:https://event.dlr.de
X-WR-CALDESC:Veranstaltungen für DLR Event
REFRESH-INTERVAL;VALUE=DURATION:PT1H
X-Robots-Tag:noindex
X-PUBLISHED-TTL:PT1H
BEGIN:VTIMEZONE
TZID:Europe/Berlin
BEGIN:DAYLIGHT
TZOFFSETFROM:+0100
TZOFFSETTO:+0200
TZNAME:CEST
DTSTART:20230326T010000
END:DAYLIGHT
BEGIN:STANDARD
TZOFFSETFROM:+0200
TZOFFSETTO:+0100
TZNAME:CET
DTSTART:20231029T010000
END:STANDARD
BEGIN:DAYLIGHT
TZOFFSETFROM:+0100
TZOFFSETTO:+0200
TZNAME:CEST
DTSTART:20240331T010000
END:DAYLIGHT
BEGIN:STANDARD
TZOFFSETFROM:+0200
TZOFFSETTO:+0100
TZNAME:CET
DTSTART:20241027T010000
END:STANDARD
BEGIN:DAYLIGHT
TZOFFSETFROM:+0100
TZOFFSETTO:+0200
TZNAME:CEST
DTSTART:20250330T010000
END:DAYLIGHT
BEGIN:STANDARD
TZOFFSETFROM:+0200
TZOFFSETTO:+0100
TZNAME:CET
DTSTART:20251026T010000
END:STANDARD
END:VTIMEZONE
BEGIN:VEVENT
DTSTART;TZID=Europe/Berlin:20240502T170000
DTEND;TZID=Europe/Berlin:20240502T200000
DTSTAMP:20260421T195331
CREATED:20231212T085933Z
LAST-MODIFIED:20231212T085933Z
UID:10003461-1714669200-1714680000@event.dlr.de
SUMMARY:Space Forum Lampoldshausen 2024
DESCRIPTION:Wir laden Sie herzlich zum Space Forum Lampoldshausen ein! \nDie nächsten Veranstaltungen finden vom 01.02. – 06.06.2024 zu Themen aus allen Bereichen der Raumfahrt\, vom Raumtransport bis zur Erkundung des Weltalls statt. \nDarüber hinaus wird der Technologietransfer aus der Raumfahrt für die Anwendung von Wasserstofftechnologien im Rahmen der Energiewende thematisiert. \nAlle weiteren Informationen werden kontinuierlich auf dieser Website ergänzt. \nVorträge: \n\n01. Februar 2024 | 17:00 – Der Beitrag von ArianeGroup zu den Artemis-Missionen\n(Dimitri Telischkin\, ArianeGroup)\n07. März 2024 | 17:00 – Tests der Ariane-6-Oberstufe in Lampoldshausen\n(Anja Frank\, DLR-Institut für Raumfahrtantriebe)\n04. April 2024 | 17:00 – Test Engineering Liquid Propulsion bei ArianeGroup: Wie wir die Triebwerke der Ariane-Raketen und künftiger Raumfahrzeuge testen\n(Dr. Stefan Gröning\, ArianeGroup)\n02. Mai 2024 | 17:00 – Verflüssigung von Wasserstoff durch magnetisches Kühlen\n(Dr. Tino Gottschall\, Dresden High Magnetic Field\, Helmholtz-Zentrum Dresden-Rossendorf)\n06. Juni 2024 | 17:00 – Der Höhenweltrekord für studentische Hybridraketen\n(Julian Dobusch\, HyEnd Universität Stuttgart)\n\nAnmeldung: \nBitte melden Sie sich bei Interesse über den folgenden Link für eine oder mehrere Veranstaltungen des Space Forum Lampoldshausen an: Space Forum Lampoldshausen 2024 (dlr.expert) \nDie Teilnahme ist kostenlos. Die Anmeldung ist bis jeweils 10 Tage vor der Veranstaltung möglich. \nSie haben sich angemeldet. Wie geht es nun weiter? \nNach erfolgter Registrierung erhalten Sie eine schriftliche Bestätigung\, die gleichzeitig die Login-Daten für das Konferenztool beinhaltet.
URL:https://event.dlr.de/event/space-forum-lampoldshausen-2024/2024-05-02/
LOCATION:Space Forum LA / Online Konferenztool
CATEGORIES:Vortrag,Web-Konferenz
ATTACH;FMTTYPE=image/png:https://event.dlr.de/wp-content/uploads/2023/06/Space-Forum_LA_2023.png
ORGANIZER;CN="DLR Institut f%C3%BCr Raumfahrtantriebe":MAILTO:info-la[a]dlr.de
END:VEVENT
BEGIN:VEVENT
DTSTART;VALUE=DATE:20240511
DTEND;VALUE=DATE:20240513
DTSTAMP:20260421T195331
CREATED:20240412T114458Z
LAST-MODIFIED:20240412T114458Z
UID:10003471-1715385600-1715558399@event.dlr.de
SUMMARY:{:de}Kinder- und Familienfestival Stuttgart{:}{:en}Stuttgart Children's and Family Festival{:}
DESCRIPTION:Bild: © agentur kmr \nAm 11. und 12. Mai 2024 findet in der Stuttgarter Innenstadt das Stuttgarter Kinder‐ und Familienfestivals statt. Ein kostenfreies und vielfältiges Angebot lockt Groß und Klein auf den Schlossplatz und in den oberen Schlossgarten rund um den Eckensee um das 20-jährige Jubiläum gemeinsam mit uns zu feiern. Zwei Tage lang können kleine und große Abenteuerlustige\, Sportskanonen\, kreative Köpfe und Wissensdurstige unter rund 90 Freizeitangeboten aus den Themenbereichen Kreativität\, Spiel\, Sport\, Gesundheit & Ernährung\, Wissen & Technik oder Aktion & Abenteuer auswählen. Hier heißt es dann für die Besucher ausprobieren\, spielen\, stöbern\, forschen und Neues kennenlernen.
URL:https://event.dlr.de/event/kinder-und-familienfestival-stuttgart/
LOCATION:Stuttgart Schlossplatz\, Schlossplatz\, Stuttgart\, 70173\, Deutschland
CATEGORIES:Event
ATTACH;FMTTYPE=image/jpeg:https://event.dlr.de/wp-content/uploads/2024/04/Logo_2024_rgb_klein.jpg
ORGANIZER;CN="Landeshauptstadt Stuttgart":MAILTO:post@stuttgart.de
END:VEVENT
BEGIN:VEVENT
DTSTART;TZID=Europe/Berlin:20240513T130000
DTEND;TZID=Europe/Berlin:20240515T170000
DTSTAMP:20260421T195331
CREATED:20240418T120447Z
LAST-MODIFIED:20240624T072554Z
UID:10003472-1715605200-1715792400@event.dlr.de
SUMMARY:SUMO Konferenz 2024
DESCRIPTION:Verkehrssimulationen sind sowohl für Forschende als auch für PraktikerInnen auf dem Gebiet des Verkehrs von immenser Bedeutung. Eclipse SUMO (Simulation of Urban MObility) bietet eine breite Palette von Verkehrsplanungs- und Simulationsanwendungen. Eclipse SUMO ist eine Toolsuite\, die den Import und die Anreicherung von Straßennetzen\, die Generierung und Zuweisung von Nachfrage und eine hochmoderne mikroskopische Verkehrssimulation umfasst\, die in der Lage ist\, private und öffentliche Verkehrsmittel sowie personenbasierte Reiseketten zu simulieren. \nAls Open Source ist Eclipse SUMO bereit\, neue Verhaltensmodelle zu implementieren oder die Simulation über verschiedene Programmierumgebungen fernzusteuern. Diese und andere Funktionen machen Eclipse SUMO zu einer der am häufigsten verwendeten Open-Source-Verkehrssimulationen mit einer großen und internationalen Benutzergemeinschaft. \nDer Schwerpunkt der Konferenz liegt auf der Präsentation neuer und einzigartiger Ergebnisse auf dem Gebiet der Mobilitätssimulation und -modellierung unter Verwendung offen zugänglicher Tools und Daten. Wir erwarten eine große Vielfalt an Forschungsthemen und Nutzungsansätzen. \nBesuchen Sie die Website der Konferenz hier: https://www.eclipse.dev/sumo/conference/  \nÖffnungszeiten: \nMontag\, 13.05.: von 13 – 17 Uhr \nDienstag\, 14.05.: von 9 – 17 Uhr \nMittwoch\, 15.05.: von 9 – 15 Uhr \nAnmeldungen sind bis zum 30.4. möglich:\nhttps://sumo2024.welcome-manager.de/ \nWir freuen uns darauf\, Sie in Berlin zu sehen!\nBitte kontaktieren Sie bei Fragen gern das Konferenzteam per E-Mail unter: sumo-conference@dlr.de
URL:https://event.dlr.de/event/sumo-konferenz-2024/
LOCATION:DLR-Institut für Verkehrssystemtechnik\, Rutherfordstr. 2\, Berlin\, 12489\, Deutschland
CATEGORIES:Web-Konferenz
ATTACH;FMTTYPE=image/jpeg:https://event.dlr.de/wp-content/uploads/2024/04/SUMO_Conference_2024_Header_1200x400.jpg
ORGANIZER;CN="Dr. Robert Hilbrich":MAILTO:sumo-conference@dlr.de
END:VEVENT
BEGIN:VEVENT
DTSTART;VALUE=DATE:20240514
DTEND;VALUE=DATE:20240516
DTSTAMP:20260421T195331
CREATED:20240301T084456Z
LAST-MODIFIED:20240301T084456Z
UID:10002051-1715644800-1715817599@event.dlr.de
SUMMARY:DLR Bauteilekonferenz 2024
DESCRIPTION:Die diesjährige Bauteilekonferenz findet am 14.-15.05.2024 in Kamp-Lintfort statt. Die jährlich stattfindende DLR-Bauteilekonferenz ist Informations- und Austauschplattform für Experten im Bereich elektrischer\, elektronischer und elektromechanischer (EEE-) Bauteile für Raumfahrtanwendungen. Neben einem abwechslungsreichen Programm mit Fachvorträgen und Diskussionsrunden\, erwartet die Besucher auch viel Gelegenheit zum persönlichen Austausch. Die Ausrichtung der Konferenz erfolgt in diesem Jahr mit freundlicher Unterstützung der Firma IMST GmbH. \nAuf der integrierten Hausmesse werden von den Herstellern ihre neuesten Entwicklungen ausgestellt. Interessierte Firmen und Organisationen\, die sich dem Konferenzpublikum präsentieren möchten\, können hier nach Voranmeldung einen Stand beziehen. Die Bewerbungsfrist für die Abstracts und Ausstellung endet am 28. Februar 2024. \nMit diesem Community-Meeting möchten wir den Austausch und die Vernetzung der Akteure in Deutschland im Bereich EEE-Bauteile vorantreiben und stärken. \nWeiterführende Informationen finden Sie auf der Veranstaltungs-Website. \nWir freuen uns Sie an unserer Konferenz begrüßen zu dürfen.
URL:https://event.dlr.de/event/dlr-bauteilekonferenz-2024/
LOCATION:Wellings Parkhotel\, Neuendickstraße 96\, Kamp-Lintfort\, 47475
CATEGORIES:Ausstellung,Konferenz
ATTACH;FMTTYPE=image/jpeg:https://event.dlr.de/wp-content/uploads/2024/03/Bauteilekonferenz-2024-1.jpg
ORGANIZER;CN="Deutsche Raumfahrtagentur im DLR":MAILTO:EEE-Bauteile@dlr.de
END:VEVENT
BEGIN:VEVENT
DTSTART;VALUE=DATE:20240515
DTEND;VALUE=DATE:20240518
DTSTAMP:20260421T195331
CREATED:20240405T120830Z
LAST-MODIFIED:20240405T120830Z
UID:10003467-1715731200-1715990399@event.dlr.de
SUMMARY:Greentech Festival 2024
DESCRIPTION:Gemeinsam für den transformativen Wandel: Während des GREENTECH FESTIVAL in Berlin kommen vom 15. – 17. Mai 2024 auf dem Messegelände Berlin erneut alle zusammen\, die etwas verändern wollen.  Drei Tage lang dreht sich alles um die neusten Technologien für einen nachhaltigen Lebensstil.  \nEs treffen sich Menschen\, Organisationen und Unternehmen aus aller Welt\, um zusammen Wege aus der Klimakrise zu diskutieren und voranzutreiben. Das Festival bietet einen Raum zum gegenseitigen Austausch und Inspiration und ist unter dem gleichen Namen eine globale Plattform. Das GREENTECH FESTIVAL will nicht nur möglichst viele Menschen mit grünen Technologien und Ideen für ein nachhaltiges Leben begeistern\, sondern sie gleichzeitig dazu animieren\, selbst zu handeln. Im Ausstellungsbereich des GREENTECH FESTIVAL werden umweltschonende Technologien\, Dienstleistungen und Produkte einem an Umweltschutz interessierten Publikum präsentiert. Auf der Konferenz des Festivals werden fortschrittliche Lösungsansätze vorgestellt und diskutiert. Der Green Award prämiert die innovativsten Projekte und Ideengeber. \nDa darf das DLR natürlich nicht fehlen. Wie im letzten Jahr sind wir wieder beim GREENTECH FESTIVAL in Berlin vertreten\, sowohl als Jury-Mitglied für die Preisverleihung als auch als Austeller und Informations- und Impulsgeber. 
URL:https://event.dlr.de/event/greentech-festival-2024/
LOCATION:Messe Berlin GmbH\, Messedamm 22 \, Berlin\, 14055\, Deutschland
CATEGORIES:Ausstellung,Event
ATTACH;FMTTYPE=image/jpeg:https://event.dlr.de/wp-content/uploads/2024/04/GF2024.jpg
ORGANIZER;CN="Philipp Bergeron":MAILTO:Philipp.Bergeron@dlr.de
GEO:52.5037118;13.2734518
X-APPLE-STRUCTURED-LOCATION;VALUE=URI;X-ADDRESS=Messe Berlin GmbH Messedamm 22  Berlin 14055 Deutschland;X-APPLE-RADIUS=500;X-TITLE=Messedamm 22:geo:13.2734518,52.5037118
END:VEVENT
BEGIN:VEVENT
DTSTART;VALUE=DATE:20240528
DTEND;VALUE=DATE:20240530
DTSTAMP:20260421T195331
CREATED:20240405T072942Z
LAST-MODIFIED:20240405T072942Z
UID:10003465-1716854400-1717027199@event.dlr.de
SUMMARY:Workshop on Model-Based Space Systems and Software Engineering (MBSE2024)
DESCRIPTION:MBSE2024 Workshop\nIn co-operation with the European Space Agency (ESA)\, the German Aerospace Centre (DLR) is organising a two-day workshop on Model-Based Space Systems and Software Engineering (MBSE2024) from Tue 28 May to Wed 29 May 2024 hosted in Bremen (Germany). \nThe workshops of this successful series is attended by both practitioners from space agencies and European space industry (primes and their suppliers)\, and researchers in applied model-based techniques\, allowing for multi-facetted exchange and knowledge transfer. \nThe workshop is organized under guidance of the MB4SE advisory group (https://mb4se.esa.int)\, which was initiated by the European Space Agency and consists of members of the national space agencies and the large-scale integrators in the ESA member states. The goal of MB4SE is to grow and strengthen the European space systems engineering community and to actively work together to promote and deploy model-based engineering in European space projects. This is achieved through organizing community building events\, with focus on knowledge sharing\, harmonization of research and development activities\, the creation and maintenance of a space systems ontology and alignment on data governance policies and their implementations. \nThe symposium will include invited talks/keynotes\, participant oral and poster presentations and interactive discussion sessions. A thematically linked hackathon will be organized in parallel. Information about the hackathon can be found here: MBSE 2024 Hackathon or downloaded here: Hackathon MBSE 2024 (pdf) \nDATES\nRegistration is possible only via the registration facility on this website. \nRegistration opens on 11 March 2024. \nRegistration will finally close for all regular participants and students on 15 May 2024. \nAfter 15 May 2024\, registration is no longer possible. If there is a special case of exception\, please send your e-mail request to the organization office VMSSupport@dlr.de
URL:https://event.dlr.de/event/workshop-on-model-based-space-systems-and-software-engineering-mbse2024/
LOCATION:Dorint Bremen City\, Hillmannplatz 20\, Bremen\, 28195
CATEGORIES:Workshop
ATTACH;FMTTYPE=image/jpeg:https://event.dlr.de/wp-content/uploads/2024/04/headerImagePath_dlr_1_en.jpg
ORGANIZER;CN="Caroline Lange":MAILTO:mbse2024@dlr.de
END:VEVENT
END:VCALENDAR