BEGIN:VCALENDAR
VERSION:2.0
PRODID:-//DLR Event - ECPv6.15.13.1//NONSGML v1.0//EN
CALSCALE:GREGORIAN
METHOD:PUBLISH
X-WR-CALNAME:DLR Event
X-ORIGINAL-URL:https://event.dlr.de
X-WR-CALDESC:Veranstaltungen für DLR Event
REFRESH-INTERVAL;VALUE=DURATION:PT1H
X-Robots-Tag:noindex
X-PUBLISHED-TTL:PT1H
BEGIN:VTIMEZONE
TZID:Europe/Berlin
BEGIN:DAYLIGHT
TZOFFSETFROM:+0100
TZOFFSETTO:+0200
TZNAME:CEST
DTSTART:20230326T010000
END:DAYLIGHT
BEGIN:STANDARD
TZOFFSETFROM:+0200
TZOFFSETTO:+0100
TZNAME:CET
DTSTART:20231029T010000
END:STANDARD
BEGIN:DAYLIGHT
TZOFFSETFROM:+0100
TZOFFSETTO:+0200
TZNAME:CEST
DTSTART:20240331T010000
END:DAYLIGHT
BEGIN:STANDARD
TZOFFSETFROM:+0200
TZOFFSETTO:+0100
TZNAME:CET
DTSTART:20241027T010000
END:STANDARD
BEGIN:DAYLIGHT
TZOFFSETFROM:+0100
TZOFFSETTO:+0200
TZNAME:CEST
DTSTART:20250330T010000
END:DAYLIGHT
BEGIN:STANDARD
TZOFFSETFROM:+0200
TZOFFSETTO:+0100
TZNAME:CET
DTSTART:20251026T010000
END:STANDARD
END:VTIMEZONE
BEGIN:VEVENT
DTSTART;VALUE=DATE:20241104
DTEND;VALUE=DATE:20241108
DTSTAMP:20260420T071226
CREATED:20241028T082600Z
LAST-MODIFIED:20241028T082600Z
UID:10002082-1730678400-1731023999@event.dlr.de
SUMMARY:{:de}European Rotors 2024{:}{:en}European Rotors 2024{:}
DESCRIPTION:Im Rahmen der europäischen Hubschrauber-Leitmesse European Rotors 2024 in Amsterdam präsentiert das DLR aktuelle Forschungsthemen. \nBesuchen Sie den DLR-Stand in Halle 8 | Stand 1039
URL:https://event.dlr.de/event/european-rotors-2024/
LOCATION:RAI Amsterdam Convention Centre\, Europaplein 24\, Amsterdam\, 1078\, Niederlande
CATEGORIES:Messe
ATTACH;FMTTYPE=image/png:https://event.dlr.de/wp-content/uploads/2023/02/european-rotors-2023.png
ORGANIZER;CN="{%3Ade}DLR-Veranstaltungsmanagement{%3A}{%3Aen}Klaus Gering{%3A}":MAILTO:event@dlr.de
END:VEVENT
BEGIN:VEVENT
DTSTART;TZID=Europe/Berlin:20241105T090000
DTEND;TZID=Europe/Berlin:20241105T180000
DTSTAMP:20260420T071226
CREATED:20240603T131320Z
LAST-MODIFIED:20240603T131320Z
UID:10002064-1730797200-1730829600@event.dlr.de
SUMMARY:{:de}Raumfahrtkonferenz 2024{:}{:en}Space Conference 2024{:}
DESCRIPTION:Wir laden Sie dieses Jahr wieder herzlich zur Raumfahrtkonferenz in das Haus der Wirtschaft in Stuttgart ein. Die diesjährige Konferenz steht unter dem Thema „VON DER WIRTSCHAFT IN DIE RAUMFAHRT UND ZURÜCK“. Die Integration branchenfremder Technologien revolutioniert die Raumfahrtindustrie. Sie erweitert die Grenzen des traditionellen Sektors und bezieht Firmen aus nicht-raumfahrtbezogenen Bereichen mit ein. Gleichzeitig kann auch der Non-Space-Sektor von Erkenntnissen aus der Raumfahrtbranche profitieren. Wir laden Sie herzlich ein\, Teil dieser aufregenden Zukunft zu werden. Engagieren Sie sich im Dialog\, bringen Sie Ihre Ideen ein und entdecken Sie neue Möglichkeiten der Zusammenarbeit. \nDie Website wird nach und nach mit Informationen ergänzt. Die Registrierung wird voraussichtlich ab Anfang August möglich sein. Merken Sie sich jetzt schon einmal die Teilnahme an der Raumfahrtkonferenz 2024 vor!
URL:https://event.dlr.de/event/raumfahrtkonferenz-2024-2/
LOCATION:Haus der Wirtschaft\, Willi-Bleicher-Str. 19\, Stuttgart\, Baden-Württemberg\, 70174\, Deutschland
CATEGORIES:Ausstellung,Event,Konferenz,Kongress
ATTACH;FMTTYPE=image/jpeg:https://event.dlr.de/wp-content/uploads/2024/06/RFK2024-Header-DLR-Eventkal-2.jpg
GEO:48.779166;9.172868
X-APPLE-STRUCTURED-LOCATION;VALUE=URI;X-ADDRESS=Haus der Wirtschaft Willi-Bleicher-Str. 19 Stuttgart Baden-Württemberg 70174 Deutschland;X-APPLE-RADIUS=500;X-TITLE=Willi-Bleicher-Str. 19:geo:9.172868,48.779166
END:VEVENT
BEGIN:VEVENT
DTSTART;TZID=Europe/Berlin:20241106T093000
DTEND;TZID=Europe/Berlin:20241106T163000
DTSTAMP:20260420T071226
CREATED:20240828T093808Z
LAST-MODIFIED:20240828T093808Z
UID:10002075-1730885400-1730910600@event.dlr.de
SUMMARY:{:de}Entdecke das DLR auf der Firmenkontaktmesse bonding Aachen{:}{:en}Discover DLR at the job fair{:}
DESCRIPTION:Besuche uns auf der Firmenkontaktmesse bonding an der RWTH Aachen! Am Karrierestand des DLR tauchst du ein in unsere faszinierenden Forschungswelten und erhältst von unseren Wissenschaftlerinnen und Wissenschaftlern aus erster Hand exklusive Einblicke in dein zukünftiges Arbeitsumfeld. \nEinige DLR-Institute und Einrichtungen informieren dich außerdem über Praktika\, Studien- und Abschlussarbeiten sowie Einstiegs- und Karrierechancen. Für fest Entschlossene bieten wir selbstverständlich topaktuelle Stellenangebote und geben gerne Tipps für eine erfolgreiche Bewerbung beim DLR. \nWir freuen uns darauf dich kennen zu lernen! \nWas: Firmenkontaktmesse bonding in Aachen\nWann: 06. November 2024 | 2. Messetag | 9:30-16:30 Uhr
URL:https://event.dlr.de/event/entdecke-das-dlr-auf-der-firmenkontaktmesse-bonding-aachen/
LOCATION:Bendplatz Aachen\, Kühlwetterstraße\, Aachen\, 52072\, Deutschland
CATEGORIES:Messe
ATTACH;FMTTYPE=image/jpeg:https://event.dlr.de/wp-content/uploads/2019/05/Bonding_Logo_16_9_l.jpg
END:VEVENT
BEGIN:VEVENT
DTSTART;TZID=Europe/Berlin:20241112T093000
DTEND;TZID=Europe/Berlin:20241112T163000
DTSTAMP:20260420T071226
CREATED:20240918T092714Z
LAST-MODIFIED:20240918T092714Z
UID:10003489-1731403800-1731429000@event.dlr.de
SUMMARY:{:de}DLR auf der bonding in Kaiserslautern 2024{:}{:en}DLR at the job fair in Kaiserslautern 2024{:}
DESCRIPTION:Copyright: bonding-studenteninitiative e.V. \nDas DLR erforschen: Einblicke\, Kontakte und alle Infos zum Einstieg \nIn welchen Forschungsgebieten außer Luft- und Raumfahrt ist das DLR tätig? Wie kannst du an den Lösungen für die Welt von morgen mitarbeiten? Und wie kannst du bei uns deine beruflichen Visionen und Träume realisieren? Wir gehen nicht nur den brennenden gesellschaftlichen Fragen der Zukunft nach\, wir beantworten auch alle Fragen von interessierten Studierenden\, Absolventinnen und Absolventen zum Einstieg beim DLR. \nAuf der Firmenkontaktmesse bonding in Kaiserslautern lernst du an unserem Karrierestand unsere Kolleginnen und Kollegen kennen und tauchst ein in die faszinierende Welt der Forschung. \nEntdecke uns – und deine berufliche Zukunft. Wir freuen uns auf interessante Gespräche mit dir! \nWas: Firmenkontaktmesse bonding in Kaiserslautern\nWann: 12. November 2024 | 2. Messetag | 9:30-16:30 Uhr
URL:https://event.dlr.de/event/dlr-auf-der-bonding-in-kaiserslautern-2024/
LOCATION:Technische Universität Kaiserlautern\, Gottlieb-Daimler-Straße 47\, Kaiserslautern\, 67663 \, Deutschland
CATEGORIES:Messe
ATTACH;FMTTYPE=image/jpeg:https://event.dlr.de/wp-content/uploads/2019/05/Bonding_Logo_16_9_l.jpg
END:VEVENT
BEGIN:VEVENT
DTSTART;TZID=Europe/Berlin:20241113T100000
DTEND;TZID=Europe/Berlin:20241114T160000
DTSTAMP:20260420T071226
CREATED:20240508T091728Z
LAST-MODIFIED:20240508T091728Z
UID:10003474-1731492000-1731600000@event.dlr.de
SUMMARY:Unternehmenstag 2024 an der Hochschule Bonn-Rhein-Sieg
DESCRIPTION:Seit 2001 veranstaltet die Hochschule Bonn-Rhein-Sieg am Campus Sankt Augustin die Karrieremesse für Studierende\, Absolvierende und Young Professionals.\nJedes Jahr treffen rund 150 ausstellende Unternehmen auf talentierte Nachwuchskräfte aus der Region\, um frühzeitig zukünftige Fach- und Führungskräfte für sich zu gewinnen.\nNeben dem direkten Berufseinstieg stehen Praktika\, Praxissemester\, Abschlussarbeiten\, aber auch mögliche Kooperationen in der angewandten Forschung und Entwicklung mit der Hochschule im Fokus.\nOb namhafter Konzern\, regional bekanntes mittelständisches Unternehmen oder innovatives Start-up. Auf dem Unternehmenstag können Sie sich als attraktiven Arbeitgeber positionieren und Ihr Image nachhaltig stärken.\n\nNeben den prominent platzierten Messeständen in der Hochschulstraße des Campus Sankt Augustin gibt es ein umfangreiches kostenloses Rahmenprogramm für die Besuchenden.
URL:https://event.dlr.de/event/unternehmenstag-2024-an-der-hochschule-bonn-rhein-sieg/
LOCATION:Hochschule Bonn-Rhein-Sieg\, Grantham-Allee 20\, Sankt Augustin\, 53757 \, Deutschland
CATEGORIES:Messe
ATTACH;FMTTYPE=image/png:https://event.dlr.de/wp-content/uploads/2024/05/Screenshot.png
END:VEVENT
BEGIN:VEVENT
DTSTART;VALUE=DATE:20241118
DTEND;VALUE=DATE:20241123
DTSTAMP:20260420T071226
CREATED:20241108T115411Z
LAST-MODIFIED:20241108T134817Z
UID:10003497-1731888000-1732319999@event.dlr.de
SUMMARY:KI Biennale 2024
DESCRIPTION:KI Biennale 2024: Eine Woche voller Innovation und Zukunft. \nDie Stiftung Zollverein und der Digital Campus Zollverein laden Sie herzlich zur KI Biennale ein!\nVon Montag\, 18. bis Freitag\, 22. November 2024 werden täglich von 8 – 17 Uhr unter dem Motto „KI als Schlüssel zur Transformation: Zukunft neu denken“ praxisnahe und greifbare Lösungen präsentiert. Entdecken Sie konkrete Anwendungsbeispiele und Use Cases\, die die Chancen und Herausforderungen von Künstlicher Intelligenz in den Bereichen Gesundheit\, Energie\, Kunst und gesellschaftlicher Transformation aufzeigen. Seien Sie dabei und tauchen Sie ein in die Welt der KI – dort\, wo Zukunft gestaltet wird! \nKI Summit im Rahmen der KI Biennale\, 19.11.2024\, 09:00 – 18:00 Uhr\nBei unserem KI Summit werden mit führenden Experten:innen die Potenziale und Herausforderungen von Künstlicher Intelligenz für Wirtschaft und Gesellschaft beleuchten. Das Programm umfasst Vorträge\, praxisnahe Einblicke und Diskussionen zu ethischen Fragen\, Regulierung und innovativen Anwendungsfällen. \nBeiträge Institut für KI-Sicherheit am 19.11.2024 im Rahmen des KI Summit auf der KI Biennale: \n15:15h\nSession: Architektur\, Sicherheit und Vertrauenswürdigkeit\n„Abgesicherte KI mit Anwendungsbeispielen aus Industrie und Forschung.“\nDr. Arne Raulf / Leiter Algorithmen & Hybride Lösungen / Institut für KI-Sicherheit\nAuftritt mit Telepräsenzroboter. Der Demonstrator zeigt eine Objekterkennung\, die in der Zusammenarbeit von Menschen und KI eingesetzt werden kann. \n17:00h\nPaneldiskussion: „Technischer Fortschritt und gesellschaftliche Folgen – Wie erreichen wir eine vertrauenswürdige KI?“ \n– Julia Eisentraut\, Sprecherin für Digitalisierung\, Wissenschaft\, Datenschutz und Weiterbildung\, MdL\n– Dr. Jan Hofmann\, Leiter des AI Competence Center (AICC)\, Deutsche Telekom\n– Dr. Cedric Janowicz\, Leiter Gesellschaften der Zukunft\, DLR Projektträger\n– Dr. Arne Raulf\, Leiter Algorithmen & Hybride Lösungen\, Institut für KI-Sicherheit\n– Moderation: Prof. Frank Köster\, Leiter Institut KI-Sicherheit \nThema: KI ist in nahezu allen Bereichen unseres Lebens angekommen – Chatbots\, Gesichtserkennung und generative Tools sind kaum noch wegzudenken. Wie können wir sicherstellen\, dass diese Technologien nicht nur leistungsfähig\, sondern auch vertrauenswürdig sind? Wie können wir die Entwicklung und den Einsatz von KI so gestalten\, dass er ethischen und gesellschaftlichen Werten entspricht?
URL:https://event.dlr.de/event/ki-biennale-2024/
LOCATION:Zeche Zollverein\, Essen\, Gelsenkirchener Straße 181\, Essen\, Nordrhein-Westfalen\, 45309\, Deutschland
CATEGORIES:Event,Konferenz
ATTACH;FMTTYPE=image/png:https://event.dlr.de/wp-content/uploads/2024/11/KI-Summit-e1731066630506.png
END:VEVENT
BEGIN:VEVENT
DTSTART;VALUE=DATE:20241119
DTEND;VALUE=DATE:20241122
DTSTAMP:20260420T071226
CREATED:20241028T084124Z
LAST-MODIFIED:20241028T103639Z
UID:10002083-1731974400-1732233599@event.dlr.de
SUMMARY:Space Tech Expo Europe 2024
DESCRIPTION:Die seit 2017 in Bremen regelmäßig stattfindende Space Tech Expo Europe ist Messe und Konferenz rund um Raumfahrt und richtet sich an Entscheider\, Ingenieure\, Einkäufer und Hersteller in der zivilen\, militärischen und kommerziellen Raumfahrt. Diese reine Fachbesucher-Messe versteht sich als Marktplatz für Design\, Herstellung und Tests von Raumfahrzeugen\, Satelliten\, Trägerraketen\, und anderen für den Space-Bereich relevanten Technologien; sie bringt Business\, Technologie und Innovation unter einem Dach zusammen. Mehr als 300 nationale und internationale Unternehmen präsentieren ihre Produkte und Innovationen in den Bereichen Raumfahrttechnik/ Raumfahrtindustrie. \nBesuchen Sie den DLR Stand in Halle 5 | Stand J28
URL:https://event.dlr.de/event/space-tech-expo-europe-2024/
LOCATION:Messe Bremen\, Findorffstraße 101\, Bremen\, 28215\, Deutschland
CATEGORIES:Messe
ATTACH;FMTTYPE=image/jpeg:https://event.dlr.de/wp-content/uploads/2023/03/BRE-logo.jpg
ORGANIZER;CN="{%3Ade}DLR-Veranstaltungsmanagement{%3A}{%3Aen}Klaus Gering{%3A}":MAILTO:event@dlr.de
END:VEVENT
BEGIN:VEVENT
DTSTART;TZID=Europe/Berlin:20241121T110000
DTEND;TZID=Europe/Berlin:20241121T153000
DTSTAMP:20260420T071226
CREATED:20240528T200734Z
LAST-MODIFIED:20240528T200734Z
UID:10002061-1732186800-1732203000@event.dlr.de
SUMMARY:{:de}Career Day Ulm - Die Karrierebörse der Fakultät für Ingenieurwissenschaften\, Informatik und Psychologie{:}{:en}Career Day Ulm - The career fair of the Faculty of Engineering\, Computer Science and Psychology{:}
DESCRIPTION:Der Arbeitskreis Industriekontakte (AKIK) und die Fakultät für Ingenieurwissenschaften\, Informatik und Psychologie der Universität Ulm planen am 21. November 2024 zum 25. Mal in Folge den Career Day\, eine Firmenkontaktmesse für Studierende der Elektrotechnik\, Informatik\, Physik und angrenzender Fachbereiche zu veranstalten. Im Rahmen des Career Days möchten wir in einer offenen Atmosphäre Kontakte zwischen Unternehmen der elektrotechnischen und informationstechnischen Industrie und den Studierenden vermitteln. \nDie Studierenden der Elektrotechnik kommen aus den Bereichen Automatisierungs- und Energietechnik\, Kommunikations- und Systemtechnik\, Mikroelektronik und Informationssystemtechnik. Außerdem erwarten wir Studierende der Informatik\, Medieninformatik\, Software Engineering\, Physik und Halbleiterphysik\, sowie Studierende der internationalen Studiengänge Advanced Materials\, Communications Technology\, Computational Science and Engineering und Energy Science and Technology. \nDie folgenden DLR-Institute werden sich mit Ihrer Arbeit und Angeboten zum Recruiting dort präsentieren: Institut für KI-Sicherheit\, Institut für Quantentechnologien\, Institut für Technische Thermodynamik\, Quantencomputing-Initiative.
URL:https://event.dlr.de/event/career-day-ulm-die-karriereboerse-der-fakultaet-fuer-ingenieurwissenschaften-informatik-und-psychologie/
LOCATION:Forum der Universität Ulm\, Albert Einstein Allee 11\, Ulm\, Ulm\, 89081\, Deutschland
ORGANIZER;CN="Universit%C3%A4t Ulm":MAILTO:careerday@uni-ulm.de
END:VEVENT
BEGIN:VEVENT
DTSTART;TZID=Europe/Berlin:20241128T100000
DTEND;TZID=Europe/Berlin:20241129T160000
DTSTAMP:20260420T071226
CREATED:20240828T091602Z
LAST-MODIFIED:20240828T091602Z
UID:10002073-1732788000-1732896000@event.dlr.de
SUMMARY:{:de}Nationaler Absolventenkongress 2024{:}{:en}National Graduate Convention 2024{:}
DESCRIPTION:Einsteigen beim DLR? Starte auf der Kölnmesse in unseren Orbit \nAuf dem Nationalen Absolventenkongress informieren sich Studierende\, Absolventen und Young Professionals über interessante Arbeitgeber\, Karrierewege und verschiedene Einstiegsmöglichkeiten. Mit dabei: das Deutsche Zentrum für Luft- und Raumfahrt (DLR)! \nMit seinen faszinierenden Forschungsprojekten\, einer einzigartigen Infrastruktur sowie seiner familienfreundlichen Arbeitswelt möchte das DLR weiter hoch qualifizierte Nachwuchskräfte gewinnen. \nAn unserem Karrierestand geben dir unsere Mitarbeiterinnen und Mitarbeiter exklusive Einblicke in die Arbeitswelt des DLR. Wir informieren dich außerdem über Praktika\, Studien- und Abschlussarbeiten sowie Einstiegs- und Karrierechancen. \nWir freuen uns auf dich! \nWas: Nationaler Absolventenkongress\nWann: 28.-29. November 2024
URL:https://event.dlr.de/event/nationaler-absolventenkongress-2024/
LOCATION:Messe Köln\, Messeplatz 1\, Köln\, 50679\, Deutschland
CATEGORIES:Messe
ATTACH;FMTTYPE=image/png:https://event.dlr.de/wp-content/uploads/2023/10/nationaler-absolventenkongress-koeln_600x340.png
END:VEVENT
END:VCALENDAR