BEGIN:VCALENDAR
VERSION:2.0
PRODID:-//DLR Event - ECPv6.15.13.1//NONSGML v1.0//EN
CALSCALE:GREGORIAN
METHOD:PUBLISH
X-ORIGINAL-URL:https://event.dlr.de
X-WR-CALDESC:Veranstaltungen für DLR Event
REFRESH-INTERVAL;VALUE=DURATION:PT1H
X-Robots-Tag:noindex
X-PUBLISHED-TTL:PT1H
BEGIN:VTIMEZONE
TZID:Europe/Berlin
BEGIN:DAYLIGHT
TZOFFSETFROM:+0100
TZOFFSETTO:+0200
TZNAME:CEST
DTSTART:20200329T010000
END:DAYLIGHT
BEGIN:STANDARD
TZOFFSETFROM:+0200
TZOFFSETTO:+0100
TZNAME:CET
DTSTART:20201025T010000
END:STANDARD
BEGIN:DAYLIGHT
TZOFFSETFROM:+0100
TZOFFSETTO:+0200
TZNAME:CEST
DTSTART:20210328T010000
END:DAYLIGHT
BEGIN:STANDARD
TZOFFSETFROM:+0200
TZOFFSETTO:+0100
TZNAME:CET
DTSTART:20211031T010000
END:STANDARD
BEGIN:DAYLIGHT
TZOFFSETFROM:+0100
TZOFFSETTO:+0200
TZNAME:CEST
DTSTART:20220327T010000
END:DAYLIGHT
BEGIN:STANDARD
TZOFFSETFROM:+0200
TZOFFSETTO:+0100
TZNAME:CET
DTSTART:20221030T010000
END:STANDARD
END:VTIMEZONE
BEGIN:VEVENT
DTSTART;TZID=Europe/Berlin:20210610T110000
DTEND;TZID=Europe/Berlin:20210611T150000
DTSTAMP:20260420T023243
CREATED:20200331T091854Z
LAST-MODIFIED:20210517T144500Z
UID:10002310-1623322800-1623423600@event.dlr.de
SUMMARY:Zu Gast beim Bundespräsidenten: die Woche der Umwelt (digital)
DESCRIPTION:Bundespräsident Frank-Walter Steinmeier und die Deutsche Bundesstiftung Umwelt (DBU) laden herzlich ein zur digitalen Woche der Umwelt. Unter dem Motto „So geht Zukunft!“ erwarten Sie am 10. und 11. Juni 2021 spannende Diskussionen und ein attraktives Fachprogramm zu wichtigen Zukunftsfragen. \nUnter 440 Bewerbern wurde das DLR wurde mit den Projekten „Ich entlaste Städte: Lastenrad-Test“ und „Wärmespeicher – Ein sauberer Weg aus der Kohle? Drittes Leben für Kraftwerke“ von einer Fachjury ausgewählt. \nWeitere Informationen finden Sie hier.
URL:https://event.dlr.de/event/woche-der-umwelt/
LOCATION:Schloss Bellevue\, Spreeweg 1\, Berlin\, Berlin\, 10557\, Deutschland
CATEGORIES:Online-Event
ORGANIZER;CN="Irina Schuh":MAILTO:irina.schuh@dlr.de
END:VEVENT
END:VCALENDAR