BEGIN:VCALENDAR
VERSION:2.0
PRODID:-//DLR Event - ECPv6.15.13.1//NONSGML v1.0//EN
CALSCALE:GREGORIAN
METHOD:PUBLISH
X-WR-CALNAME:DLR Event
X-ORIGINAL-URL:https://event.dlr.de
X-WR-CALDESC:Veranstaltungen für DLR Event
REFRESH-INTERVAL;VALUE=DURATION:PT1H
X-Robots-Tag:noindex
X-PUBLISHED-TTL:PT1H
BEGIN:VTIMEZONE
TZID:Europe/Berlin
BEGIN:DAYLIGHT
TZOFFSETFROM:+0100
TZOFFSETTO:+0200
TZNAME:CEST
DTSTART:20200329T010000
END:DAYLIGHT
BEGIN:STANDARD
TZOFFSETFROM:+0200
TZOFFSETTO:+0100
TZNAME:CET
DTSTART:20201025T010000
END:STANDARD
BEGIN:DAYLIGHT
TZOFFSETFROM:+0100
TZOFFSETTO:+0200
TZNAME:CEST
DTSTART:20210328T010000
END:DAYLIGHT
BEGIN:STANDARD
TZOFFSETFROM:+0200
TZOFFSETTO:+0100
TZNAME:CET
DTSTART:20211031T010000
END:STANDARD
BEGIN:DAYLIGHT
TZOFFSETFROM:+0100
TZOFFSETTO:+0200
TZNAME:CEST
DTSTART:20220327T010000
END:DAYLIGHT
BEGIN:STANDARD
TZOFFSETFROM:+0200
TZOFFSETTO:+0100
TZNAME:CET
DTSTART:20221030T010000
END:STANDARD
END:VTIMEZONE
BEGIN:VEVENT
DTSTART;TZID=Europe/Berlin:20210614T080000
DTEND;TZID=Europe/Berlin:20210614T170000
DTSTAMP:20260420T023251
CREATED:20210426T134614Z
LAST-MODIFIED:20210426T134614Z
UID:10001969-1623657600-1623690000@event.dlr.de
SUMMARY:European Workshop on Maritime Systems Resilience and Security (MARESEC 2021)
DESCRIPTION:The first European Workshop on Maritime Systems Resilience and Security (MARESEC 2021) is dedicated to the research on Resilience\, Security\, Technology and related Ethical\, Legal\, and Social Aspects (ELSA) in the context of Maritime Systems\, including (Offshore/Onshore) Infrastructures\, Navigation and Shipping\, Autonomous Systems\, etc. The intention of this workshop is to bring together researchers to present new results and ongoing projects as well as to exchange experiences and explore possible cooperation. \nThe workshop will be held as a Virtual Event on June 14\, 2021. \n  \nThe topics of interest include\, but are not limited to:\n(a more detailed list can be found in the call for papers section) \n\n\n\n\nResilience\, Safety and Security\n•   Critical Infrastructure Resilience\n•   Resilience Assessment\n•   Resilience-by-design\n•   Safety Assessment / Engineering\n•   Security Assessment / Engineering\n\nMaritime Security Technologies\n•  Active Imaging\n•   Cyber-Security\n•   Machine Learning / AI\n•   Multi-sensor Networks\n•   Sensors & Instruments\n•   Situational Awareness\n•   Technology Testing\n\nEthical\, Legal\, Social Aspects (ELSA)\n•  Regulating emerging technologies\nin the maritime domain\n•  Human (and societal) aspects of security\n•  Ethics in the security domain
URL:https://event.dlr.de/event/european-workshop-on-maritime-systems-resilience-and-security-maresec-2021/
LOCATION:virtual event
CATEGORIES:Workshop
ORGANIZER;CN="Frank Sill Torres":MAILTO:maresec@dlr.de
END:VEVENT
BEGIN:VEVENT
DTSTART;TZID=Europe/Berlin:20210617T090000
DTEND;TZID=Europe/Berlin:20210617T130000
DTSTAMP:20260420T023251
CREATED:20210512T141557Z
LAST-MODIFIED:20210512T141557Z
UID:10001972-1623920400-1623934800@event.dlr.de
SUMMARY:24th Cologne Solar Colloquium
DESCRIPTION:24th Cologne Solar Colloquium: Solar process heat for the energy transition – Today’s technology and future perspectives \nThis year’s Cologne Solar Colloquium focusses on process heat applications in different temperature ranges. Concentrating solar thermal systems are particularly well suited to supply industry and households with large amounts of heat in the temperature range between 80 and 400 degrees Celsius. High-temperature solar process heat above 400 degrees can be a source of energy for CO2-free industry processes\, for the splitting of hydrogen from water and to produce synthetic fuels. \nSpeakers from research and industry will give an overview on recent developments and on current and future fields of application. \nThe colloquium will be held in English. Participation is free of charge. \nMore information and programme: DLR – Institute of Solar Research – 24th Cologne Solar Colloquium | 2021 \nOnline-registration will be possible as of 17 May.
URL:https://event.dlr.de/event/24th-cologne-solar-colloquium/
CATEGORIES:Online-Event
ATTACH;FMTTYPE=image/jpeg:https://event.dlr.de/wp-content/uploads/2021/05/Sonnenkolloquium2021.jpg
ORGANIZER;CN="Elke Reuschenbach":MAILTO:elke.reuschenbach@dlr.de
END:VEVENT
BEGIN:VEVENT
DTSTART;TZID=Europe/Berlin:20210618T143000
DTEND;TZID=Europe/Berlin:20210618T153000
DTSTAMP:20260420T023251
CREATED:20210518T144353Z
LAST-MODIFIED:20210521T104204Z
UID:10001973-1624026600-1624030200@event.dlr.de
SUMMARY:Hereon\, DLR und Stadt Geesthacht: Mit Wasserstoff in die Zukunft
DESCRIPTION:Mit Wasserstoff geht’s in Richtung Zukunft – auch im schleswig-holsteinischen Geesthacht. Vor Ort forschen das Deutsche Zentrum für Luft- und Raumfahrt und das Helmholtz-Zentrum Hereon an der effizienten\, sicheren und klimafreundlichen Erzeugung\, Transport\, Speicherung und Nutzung des Energieträgers H2. Auch die Stadt Geesthacht selbst ist Vorreiter in Sachen Wasserstoff: An der Elbe soll ein Wasserstoff-Hub inklusive Hafen und Tankstelle entstehen. \nAm Freitag\, den 18. Juni\, laden DLR\, Hereon und die Stadt Geesthacht gemeinsam zum virtuellen Event ein: \nNach einem kurzen Grußwort von Norbert Brackmann\, dem Koordinator der Bundesregierung für die maritime Wirtschaft\, zeigen wir die Wasserstoffforschung auf dem Campus. Anschließend wird diskutiert und erklärt: Thomas Klassen (Institutsleiter Wasserstofftechnologie\, Hereon)\, Alexander Dyck (Institutsleiter Maritime Energiesysteme (komm.)\, DLR) und Olaf Schulze (Bürgermeister Stadt Geesthacht) sprechen live darüber\, welche Pläne die Stadt Geesthacht hat und berichten von aktuellen Wasserstoffprojekten. Anschließend ist die Runde für Fragen geöffnet. \nWir freuen uns auf viele Zuschauer und eine rege Beteiligung! \nDer Link zum Event folgt in Kürze.
URL:https://event.dlr.de/event/hereon-dlr-und-stadt-geesthacht-mit-wasserstoff-in-die-zukunft/
LOCATION:Online\, Deutschland
CATEGORIES:Online-Event
END:VEVENT
END:VCALENDAR