BEGIN:VCALENDAR
VERSION:2.0
PRODID:-//DLR Event - ECPv6.15.13.1//NONSGML v1.0//EN
CALSCALE:GREGORIAN
METHOD:PUBLISH
X-ORIGINAL-URL:https://event.dlr.de
X-WR-CALDESC:Veranstaltungen für DLR Event
REFRESH-INTERVAL;VALUE=DURATION:PT1H
X-Robots-Tag:noindex
X-PUBLISHED-TTL:PT1H
BEGIN:VTIMEZONE
TZID:Europe/Berlin
BEGIN:DAYLIGHT
TZOFFSETFROM:+0100
TZOFFSETTO:+0200
TZNAME:CEST
DTSTART:20200329T010000
END:DAYLIGHT
BEGIN:STANDARD
TZOFFSETFROM:+0200
TZOFFSETTO:+0100
TZNAME:CET
DTSTART:20201025T010000
END:STANDARD
BEGIN:DAYLIGHT
TZOFFSETFROM:+0100
TZOFFSETTO:+0200
TZNAME:CEST
DTSTART:20210328T010000
END:DAYLIGHT
BEGIN:STANDARD
TZOFFSETFROM:+0200
TZOFFSETTO:+0100
TZNAME:CET
DTSTART:20211031T010000
END:STANDARD
BEGIN:DAYLIGHT
TZOFFSETFROM:+0100
TZOFFSETTO:+0200
TZNAME:CEST
DTSTART:20220327T010000
END:DAYLIGHT
BEGIN:STANDARD
TZOFFSETFROM:+0200
TZOFFSETTO:+0100
TZNAME:CET
DTSTART:20221030T010000
END:STANDARD
END:VTIMEZONE
BEGIN:VEVENT
DTSTART;VALUE=DATE:20210622
DTEND;VALUE=DATE:20210625
DTSTAMP:20260420T023243
CREATED:20210607T135833Z
LAST-MODIFIED:20210607T135833Z
UID:10003377-1624320000-1624579199@event.dlr.de
SUMMARY:{:de}EMEA 2021 - Workshop on Ion Exchange Membranes for Energy Applications{:}{:en}EMEA 2021 - Workshop on Ion Exchange Membranes for Energy Applications{:}
DESCRIPTION:Material developments and ion exchange membrane based systems for energy applications will be discussed by representatives from research and industry with the focus set on anion exchange membranes. In addition to invited and contributed talks a poster exhibition offers scientists and especially young researchers and students the opportunity to present their work. A price for the best poster will be awarded. An open “coffee-table” will provide additional opportunities for lively scientific exchange in a familiar atmosphere. \nAlso this year\, the EMEA organisation team was able to attract top-class speakers from the field of alkaline ion exchange membranes for energy applications.
URL:https://event.dlr.de/event/emea-2021-workshop-on-ion-exchange-membranes-for-energy-applications/
LOCATION:Online\, Deutschland
CATEGORIES:Online-Workshop
ATTACH;FMTTYPE=image/jpeg:https://event.dlr.de/wp-content/uploads/2021/06/Lgog_EMEA2021_500-weisspx.jpg
ORGANIZER;CN="EMEA Workshop 2021":MAILTO:emea@dlr.de
END:VEVENT
BEGIN:VEVENT
DTSTART;TZID=Europe/Berlin:20210622T080000
DTEND;TZID=Europe/Berlin:20210624T170000
DTSTAMP:20260420T023243
CREATED:20210622T102204Z
LAST-MODIFIED:20210622T102204Z
UID:10003382-1624348800-1624554000@event.dlr.de
SUMMARY:Workshop on Ion Exchange Membranes for Energy Applications
DESCRIPTION:Welcome to EMEA2021 online!\n70 participants from 20 countries made the last EMEA-workshop in June 2019 a success. The coming online EMEA2021 Workshop will be the 8th workshop in this series. Material developments and ion exchange membrane based systems for energy applications will be discussed by representatives from research and industry with the focus set on anion exchange membranes. In addition to invited and contributed talks a poster exhibition offers scientists and especially young researchers and students the opportunity to present their work. A price for the best poster will be awarded. An open “coffee-table” will provide additional opportunities for lively scientific exchange in a familiar atmosphere. \nAlso this year\, the EMEA organisation team was able to attract top-class speakers from the field of alkaline ion exchange membranes for energy applications. \nInvited Speakers \nJohn Varcoe (University of Surrey\, UK)\nChulsung Bae (Rensselaer Polytechnic Institute\, USA)\nDario Dekel (Technion-Israel Institute of Technology)\nNanwen Li (Chinese Academy of Sciences\, China)\nKenji Miyatake (University of Yamanashi\, Japan)\nWilliam Mustain (University of South Carolina\, USA)\nJan-Justus Schmidt (Enapter\, Germany)\nMiles Page (Hydrolite\, Israel)\nYuseung Kim (Los Alamos National Laboratory\, USA)\nPatric Jannasch (Lund University\, Sweden) \nAll lectures will be available from June 15th\, 2021 under the tab Virtual platform.
URL:https://event.dlr.de/event/workshop-on-ion-exchange-membranes-for-energy-applications/
LOCATION:virtual event
END:VEVENT
END:VCALENDAR