BEGIN:VCALENDAR
VERSION:2.0
PRODID:-//DLR Event - ECPv6.15.13.1//NONSGML v1.0//EN
CALSCALE:GREGORIAN
METHOD:PUBLISH
X-WR-CALNAME:DLR Event
X-ORIGINAL-URL:https://event.dlr.de
X-WR-CALDESC:Veranstaltungen für DLR Event
REFRESH-INTERVAL;VALUE=DURATION:PT1H
X-Robots-Tag:noindex
X-PUBLISHED-TTL:PT1H
BEGIN:VTIMEZONE
TZID:Europe/Berlin
BEGIN:DAYLIGHT
TZOFFSETFROM:+0100
TZOFFSETTO:+0200
TZNAME:CEST
DTSTART:20200329T010000
END:DAYLIGHT
BEGIN:STANDARD
TZOFFSETFROM:+0200
TZOFFSETTO:+0100
TZNAME:CET
DTSTART:20201025T010000
END:STANDARD
BEGIN:DAYLIGHT
TZOFFSETFROM:+0100
TZOFFSETTO:+0200
TZNAME:CEST
DTSTART:20210328T010000
END:DAYLIGHT
BEGIN:STANDARD
TZOFFSETFROM:+0200
TZOFFSETTO:+0100
TZNAME:CET
DTSTART:20211031T010000
END:STANDARD
BEGIN:DAYLIGHT
TZOFFSETFROM:+0100
TZOFFSETTO:+0200
TZNAME:CEST
DTSTART:20220327T010000
END:DAYLIGHT
BEGIN:STANDARD
TZOFFSETFROM:+0200
TZOFFSETTO:+0100
TZNAME:CET
DTSTART:20221030T010000
END:STANDARD
END:VTIMEZONE
BEGIN:VEVENT
DTSTART;TZID=Europe/Berlin:20210628T090000
DTEND;TZID=Europe/Berlin:20210628T170000
DTSTAMP:20260420T023249
CREATED:20210618T085025Z
LAST-MODIFIED:20210618T085025Z
UID:10003378-1624870800-1624899600@event.dlr.de
SUMMARY:Helmholtz-Symposium „Forschungsinfrastrukturen der Zukunft“
DESCRIPTION:Erstklassige Forschung braucht einzigartige Infrastrukturen. Sie helfen\, die Grenzen des Wissens zu verschieben und wissenschaftliche Fortschritte zu erzielen. Deshalb entwickelt\, baut und betreibt Helmholtz große Forschungsanlagen – vom Forschungsschiff über den Supercomputer bis zum Teilchenbeschleuniger. Sie werden jedes Jahr von tausenden Wissenschaftler:innen aus der ganzen Welt genutzt. \nSo wie wir unser Forschungsportfolio laufend erweitern\, ändert sich auch der Bedarf an Großgeräten und modernen Forschungsanlagen. Deshalb will Helmholtz in neue Forschungsinfrastrukturen investieren – und damit in die Zukunft. Im Dialog mit wissenschaftlichen Partnern und Anwendern entwickeln wir unsere Pläne für den Bau und Betrieb künftiger Anlagen und Großgeräte in unseren sechs Forschungsbereichen weiter. Diese „Helmholtz-Roadmap“ möchten wir in einem Symposium diskutieren. \nZiel des Symposiums ist\, die Bedürfnisse und Perspektiven unserer Nutzer und Partner in die Strategie einzubinden. In drei Sessions stellen die Vizepräsidenten der Helmholtz-Gemeinschaft die Roadmap vor und diskutieren sie mit strategischen Partnern. Die interaktive Online-Veranstaltung wird als Livestream auf der Helmholtz-Website übertragen. \nMelden Sie sich hier an und seien Sie dabei! \nWeitere Informationen sowie das Programm finden Sie hier.
URL:https://event.dlr.de/event/helmholtz-symposium-forschungsinfrastrukturen-der-zukunft/
CATEGORIES:Online-Event
ATTACH;FMTTYPE=image/png:https://event.dlr.de/wp-content/uploads/2021/06/HGF_Symposium.png
ORGANIZER;CN="HGF":MAILTO:info@helmholtz.de
END:VEVENT
END:VCALENDAR