BEGIN:VCALENDAR
VERSION:2.0
PRODID:-//DLR Event - ECPv6.15.13.1//NONSGML v1.0//EN
CALSCALE:GREGORIAN
METHOD:PUBLISH
X-ORIGINAL-URL:https://event.dlr.de
X-WR-CALDESC:Veranstaltungen für DLR Event
REFRESH-INTERVAL;VALUE=DURATION:PT1H
X-Robots-Tag:noindex
X-PUBLISHED-TTL:PT1H
BEGIN:VTIMEZONE
TZID:Europe/Berlin
BEGIN:DAYLIGHT
TZOFFSETFROM:+0100
TZOFFSETTO:+0200
TZNAME:CEST
DTSTART:20200329T010000
END:DAYLIGHT
BEGIN:STANDARD
TZOFFSETFROM:+0200
TZOFFSETTO:+0100
TZNAME:CET
DTSTART:20201025T010000
END:STANDARD
BEGIN:DAYLIGHT
TZOFFSETFROM:+0100
TZOFFSETTO:+0200
TZNAME:CEST
DTSTART:20210328T010000
END:DAYLIGHT
BEGIN:STANDARD
TZOFFSETFROM:+0200
TZOFFSETTO:+0100
TZNAME:CET
DTSTART:20211031T010000
END:STANDARD
BEGIN:DAYLIGHT
TZOFFSETFROM:+0100
TZOFFSETTO:+0200
TZNAME:CEST
DTSTART:20220327T010000
END:DAYLIGHT
BEGIN:STANDARD
TZOFFSETFROM:+0200
TZOFFSETTO:+0100
TZNAME:CET
DTSTART:20221030T010000
END:STANDARD
END:VTIMEZONE
BEGIN:VEVENT
DTSTART;TZID=Europe/Berlin:20210831T080000
DTEND;TZID=Europe/Berlin:20210902T170000
DTSTAMP:20260419T141327
CREATED:20210621T084548Z
LAST-MODIFIED:20210816T121212Z
UID:10003379-1630396800-1630602000@event.dlr.de
SUMMARY:Deutscher Luft- und Raumfahrtkongress 2020 - online
DESCRIPTION:Der Deutsche Luft- und Raumfahrtkongress 2020 findet online statt!\nDer Deutsche Luft- und Raumfahrtkongress (DLRK) 2021 findet aufgrund der unvorhersehbaren Entwicklung der Corona-Pandemie in einem Hybridformat\, vor Ort in Bremen und online\, statt. Die Deutsche Gesellschaft für Luft- und Raumfahrt (DGLR) lädt vom 31. August bis 2. September 2021 Experten und Nachwuchskräfte zum Netzwerken und wissenschaftlichen Austausch in das Forschungs- und Technologiezentrum ECOMAT  (Center for Eco-efficient Materials & Technologies) und auf die virtuelle Kongressplattform ein. Zuletzt fand der DLRK 2011\, vor genau zehn Jahren\, in Bremen statt. \nUnter dem Motto „Luft- und Raumfahrt  – Visionen für eine nachhaltige Zukunft” startet der 70. DLRK am 31. August 2021 mit dem Plenary Day. Die Eröffnungsfeier\, zwei Podiumsdiskussionen und weitere Plenarvorträge werden an diesem Tag live aus dem ECOMAT in Bremen gestreamt. Über die virtuelle Kongressplattform können sich die DLRK-Teilnehmer zuschalten und das Programm live verfolgen. \nWeiter Informationen finden Sie hier.
URL:https://event.dlr.de/event/deutsche-luft-und-raumfahrtkongress-2020-online/
CATEGORIES:Online-Event
ATTACH;FMTTYPE=image/png:https://event.dlr.de/wp-content/uploads/2021/06/DLRK2021.png
END:VEVENT
BEGIN:VEVENT
DTSTART;TZID=Europe/Berlin:20210901T190000
DTEND;TZID=Europe/Berlin:20210901T204500
DTSTAMP:20260419T141327
CREATED:20210816T141801Z
LAST-MODIFIED:20210816T141801Z
UID:10001981-1630522800-1630529100@event.dlr.de
SUMMARY:Green Hightech - Forschen für die Energie- und Mobilitätswende (online)
DESCRIPTION:  \nIm Rahmen der Eventreihe geeks@cologne der Stadtbibliothek Köln widmet sich das Online-Event „Green Hightech – Forschen für die Energie- und Mobilitätswende“ den Lösungsansätzen der Wissenschaft und Forschung in Bezug auf die drängenden Fragen der globalen Klimaerwärmung. Während sich die Reihe letztes Jahr mit den Themen Energieerzeugung\, Energiespeicherung und Energieumwandlung beschäftigte\, fällt das Schlaglicht dieses Jahr auf den Flugverkehr. Welche Aspekte der Luftfahrt sind klimarelevant\, was sind die stärksten Problemfelder und an welchen Stellschrauben kann und muss gedreht werden\, um den Flugverkehr natur- und klimaschonender zu gestalten? \nZu diesen Fragen holt die Stadtbibliothek Köln am 1. September 2021 die Expertise des Deutschen Zentrums für Luft- und Raumfahrt (DLR) ein. Das DLR stellt dazu in zwei Vorträgen seinen bedeutenden Forschungsbeitrag zur Energie- und Mobilitätswende im Bereich Luftfahrt vor. \nDie Vortragenden und Vorträge sind: \n\nDr. Andreas Klöckner\, Leiter der Programmstrategie Luftfahrt des DLR\, über die Umwelt- und Klima-Aspekte der Luftfahrt und die Erforschung neuer Konzepte und Technologien für einen umweltverträglichen Flugverkehr\nMarkus Krengel vom Institut für Aerodynamik und Strömungstechnik des DLR Braunschweig über den Einfluss neuer Technologien (z.B. Wasserstoff- oder Elektroantriebe) auf das Gesamtsystem Flugzeug und die Simulation solcher Einflüsse mithilfe digitaler Flugzeugentwürfe\n\nFür die Teilnahme ist eine Anmeldung hier erforderlich.
URL:https://event.dlr.de/event/green-hightech-forschen-fuer-die-energie-und-mobilitaetswende-online/
CATEGORIES:Vortrag,Webinar
ATTACH;FMTTYPE=image/png:https://event.dlr.de/wp-content/uploads/2021/08/dlr-nachhaltigkeit.png
ORGANIZER;CN="Andreas Ellmerer":MAILTO:andreas.ellmerer@dlr.de
END:VEVENT
END:VCALENDAR