BEGIN:VCALENDAR
VERSION:2.0
PRODID:-//DLR Event - ECPv6.15.13.1//NONSGML v1.0//EN
CALSCALE:GREGORIAN
METHOD:PUBLISH
X-WR-CALNAME:DLR Event
X-ORIGINAL-URL:https://event.dlr.de
X-WR-CALDESC:Veranstaltungen für DLR Event
REFRESH-INTERVAL;VALUE=DURATION:PT1H
X-Robots-Tag:noindex
X-PUBLISHED-TTL:PT1H
BEGIN:VTIMEZONE
TZID:Europe/Berlin
BEGIN:DAYLIGHT
TZOFFSETFROM:+0100
TZOFFSETTO:+0200
TZNAME:CEST
DTSTART:20200329T010000
END:DAYLIGHT
BEGIN:STANDARD
TZOFFSETFROM:+0200
TZOFFSETTO:+0100
TZNAME:CET
DTSTART:20201025T010000
END:STANDARD
BEGIN:DAYLIGHT
TZOFFSETFROM:+0100
TZOFFSETTO:+0200
TZNAME:CEST
DTSTART:20210328T010000
END:DAYLIGHT
BEGIN:STANDARD
TZOFFSETFROM:+0200
TZOFFSETTO:+0100
TZNAME:CET
DTSTART:20211031T010000
END:STANDARD
BEGIN:DAYLIGHT
TZOFFSETFROM:+0100
TZOFFSETTO:+0200
TZNAME:CEST
DTSTART:20220327T010000
END:DAYLIGHT
BEGIN:STANDARD
TZOFFSETFROM:+0200
TZOFFSETTO:+0100
TZNAME:CET
DTSTART:20221030T010000
END:STANDARD
END:VTIMEZONE
BEGIN:VEVENT
DTSTART;TZID=Europe/Berlin:20210906T180000
DTEND;TZID=Europe/Berlin:20210906T190000
DTSTAMP:20260419T165944
CREATED:20210728T120240Z
LAST-MODIFIED:20210728T120240Z
UID:10001976-1630951200-1630954800@event.dlr.de
SUMMARY:Kölner Wissenschaftsrunde 2021
DESCRIPTION:Ein starker Wissenschaftsstandort\nDie Kölner Wissenschaftsrunde (KWR) wurde auf Einladung des ehemaligen Oberbürgermeisters Fritz Schramma von Vertretern aller Kölner Hochschul- und Forschungseinrichtungen sowie der Stadt Köln und der Industrie- und Handelskammer zu Köln am 01. März 2004 offiziell konstituiert. \nDie KWR zeigt die zahlreichen Wissenschafts- und Wirtschaftspotenziale der Region mit ihren vielfältigen Angebotsformaten auf. Sie trägt dazu bei\, dass eine intensive Vernetzung der Wissenschaftseinrichtungen untereinander\, aber auch der Wissenschaft mit der Wirtschaft erfolgen kann und dadurch das Profil sowie die Konkurrenzfähigkeit von Köln als Wissenschaftsstandort gestärkt werden. Mit ihrer Netzwerk- und Öffentlichkeitsarbeit leistet die KWR einen aktiven Beitrag zur Entwicklung einer zukunftsfähigen Stadtgesellschaft. \nDas DLR beteiligt sich mit folgendem Vortrag: Wasserstoff: Energieträger mit großem Potenzial \nDie Veranstaltung findet online via ZOOM statt. Weitere Informationen finden Sie demnächst auf der Veranstaltungsseite.
URL:https://event.dlr.de/event/koelner-wissenschaftsrunde-2021/
LOCATION:Online\, Deutschland
CATEGORIES:Online-Event
ATTACH;FMTTYPE=image/png:https://event.dlr.de/wp-content/uploads/2021/07/logo-kwr2021.png
ORGANIZER;CN="TH K%C3%B6ln | KISD":MAILTO:wissenschaftsrunde@koeln.de
END:VEVENT
BEGIN:VEVENT
DTSTART;TZID=Europe/Berlin:20210907T090000
DTEND;TZID=Europe/Berlin:20210912T180000
DTSTAMP:20260419T165944
CREATED:20210805T142204Z
LAST-MODIFIED:20210818T102257Z
UID:10001977-1631005200-1631469600@event.dlr.de
SUMMARY:IAA Mobility 2021 in München
DESCRIPTION:Dieses Jahr findet die IAA erstmals in München statt. Vom 7. bis 12. September 2021 zeigt die Automotive-Leitmesse Lösungen für die Mobilität der Zukunft. \nMit dem futuristischen Fahrzeugkonzept U-Shift und einem leichten\, aber trotzdem super sicheren Brennstoffzellen-Flitzer nimmt die Verkehrsforschung des Deutschen Zentrums für Luft- und Raumfahrt (DLR) die Besucherinnen und Besucher der IAA Mobility mit in die mobile Welt von morgen. Auf der Open Space-Fläche am Odeonsplatz (Standnummer OP440) warten diese beiden Fahrzeug-Prototypen auf ihr Publikum. \nAuf dem Summit in den Hallen der Messe München gibt das DLR (Halle A2\, 50) zudem einen Einblick in die Themen Forschungsinfrastruktur\, Verkehrssteuerung und Verkehrserhebung: Mit dem Testfeld Niedersachen verfügt das DLR gemeinsam mit Partnern aus Industrie und Forschung über eine einmalige Infrastruktur\, um Technologien für automatisiertes und vernetztes Fahren voranzubringen. Und mit dem Moving Lab lässt sich Mobilität schnell und zuverlässig messen – mit dem Smartphone.
URL:https://event.dlr.de/event/iaa-mobility-2021-in-muenchen/
LOCATION:Messe München GmbH\, Messegelände\, München\, 81823\, Deutschland
CATEGORIES:Messe
ATTACH;FMTTYPE=image/png:https://event.dlr.de/wp-content/uploads/2021/08/210201_IAA_Wordmark_munich_blue_klein.png
ORGANIZER;CN="Verband der Automobilindustrie e. V. (VDA)":MAILTO:info@vda.de
GEO:48.1418353;11.6864353
X-APPLE-STRUCTURED-LOCATION;VALUE=URI;X-ADDRESS=Messe München GmbH Messegelände München 81823 Deutschland;X-APPLE-RADIUS=500;X-TITLE=Messegelände:geo:11.6864353,48.1418353
END:VEVENT
BEGIN:VEVENT
DTSTART;TZID=Europe/Berlin:20210910T090000
DTEND;TZID=Europe/Berlin:20210910T160000
DTSTAMP:20260419T165944
CREATED:20210810T104441Z
LAST-MODIFIED:20210810T104441Z
UID:10001979-1631264400-1631289600@event.dlr.de
SUMMARY:Austauschforum Quantencomputing
DESCRIPTION:Liebe Interessenten des Austauschforum Quantencomputing \nDie Bundesregierung unterstützt die Entwicklung von Quantentechnologien mit dem gleichnamigen Rahmenprogramm. Die besondere Bedeutung des Quantencomputings für die Hightech-Industrie in Deutschland spiegelt sich unter anderem in den Förderbestrebungen des Bundesministeriums für Wirtschaft und Energie (BMWi) wieder. \nVor diesem Hintergrund veranstaltet das Deutsche Zentrum für Luft- und Raumfahrt e. V. (DLR)\ndas erste „Austauschforum Quantencomputing“ am 10. September 2021. \nIn Anbetracht der aktuell in Europa auftauchenden Delta-Variante des Coronavirus und der damit verbundenen unsicheren Entwicklung in den kommenden Wochen haben wir uns entschlossen\, das Austauschforum Quantencomputing in einem virtuellen  Format durchzuführen\, um die Sicherheit aller Teilnehmenden zu gewährleisten und die Zuverlässigkeit zu erhöhen. \nMit diesem Community-Meeting möchten wir den Austausch und die Vernetzung der Akteure in Deutschland im Bereich Quantencomputing vorantreiben – und dies gezielt über die Grenzen der Helmholtz-Gemeinschaft hinweg. \nNeben der Vorstellung der BMWi Initiative Quantencomputing liegt der Fokus dieser Auftaktveranstaltung auf der Vorstellung laufender Aktivitäten im Bereich Quantencomputing aus der Helmholtz-Gemeinschaft sowie weiterer Experten aus Wissenschaft und Forschung. \nDie Teilnahme am virtuellen Austauschform Quantencomputing ist nur über eine Vorregistrierung über diese Registrierungswebseite möglich.  \nDie Vorregistrierung öffnet am 05.08.2021 und schließt am 01.09.2021.\nEine endgültige Anmeldebestätigung\, die zur Teilnahme am virtuellen Austauschform Quantencomputing berechtigt\, wird vom Organisationsteam bis zum 3. September 2021 versendet. \nWir freuen uns darauf\, Sie beim virtuellen Austauschforum Quantencomputing im September 2021 begrüßen zu dürfen. \nProf. Dr.-Ing. Anke Rita Kaysser-Pyzalla\nVorstandsvorsitzende\, Deutsches Zentrum für Luft- und Raumfahrt e. V.
URL:https://event.dlr.de/event/austauschforum-quantencomputing/
LOCATION:Virtuelle Veranstaltung
ATTACH;FMTTYPE=image/jpeg:https://event.dlr.de/wp-content/uploads/2021/08/Header.jpg
END:VEVENT
END:VCALENDAR