BEGIN:VCALENDAR
VERSION:2.0
PRODID:-//DLR Event - ECPv6.15.13.1//NONSGML v1.0//EN
CALSCALE:GREGORIAN
METHOD:PUBLISH
X-WR-CALNAME:DLR Event
X-ORIGINAL-URL:https://event.dlr.de
X-WR-CALDESC:Veranstaltungen für DLR Event
REFRESH-INTERVAL;VALUE=DURATION:PT1H
X-Robots-Tag:noindex
X-PUBLISHED-TTL:PT1H
BEGIN:VTIMEZONE
TZID:Europe/Berlin
BEGIN:DAYLIGHT
TZOFFSETFROM:+0100
TZOFFSETTO:+0200
TZNAME:CEST
DTSTART:20200329T010000
END:DAYLIGHT
BEGIN:STANDARD
TZOFFSETFROM:+0200
TZOFFSETTO:+0100
TZNAME:CET
DTSTART:20201025T010000
END:STANDARD
BEGIN:DAYLIGHT
TZOFFSETFROM:+0100
TZOFFSETTO:+0200
TZNAME:CEST
DTSTART:20210328T010000
END:DAYLIGHT
BEGIN:STANDARD
TZOFFSETFROM:+0200
TZOFFSETTO:+0100
TZNAME:CET
DTSTART:20211031T010000
END:STANDARD
BEGIN:DAYLIGHT
TZOFFSETFROM:+0100
TZOFFSETTO:+0200
TZNAME:CEST
DTSTART:20220327T010000
END:DAYLIGHT
BEGIN:STANDARD
TZOFFSETFROM:+0200
TZOFFSETTO:+0100
TZNAME:CET
DTSTART:20221030T010000
END:STANDARD
END:VTIMEZONE
BEGIN:VEVENT
DTSTART;TZID=Europe/Berlin:20210913T080000
DTEND;TZID=Europe/Berlin:20210917T170000
DTSTAMP:20260419T165918
CREATED:20210622T102024Z
LAST-MODIFIED:20210622T102025Z
UID:10003381-1631520000-1631898000@event.dlr.de
SUMMARY:GLOBAL VIRTUAL WORKSHOP II - Space Traffic Management and Resilient Space Environment
DESCRIPTION:The SECOND GLOBAL VIRTUAL WORKSHOP (GVW-II) of the Stardust-R network\nis organised by German Aerospace Center (DLR)\, German Research Center for Artificial Intelligence (DFKI) and the University of Strathclyde. \nThis workshop will be the second international event of the Stardust-R network and\nthe technical programme will cover the area of “Space Traffic Management and the Resilient Space Environment”. \nDue to the Covid-19 pandemic\, the event is planned to be held entirely online. \n  \nTOPIC HIGHLIGHTS INCLUDE\n\nspace situational awareness\,\nspace environment modelling and risk analysis\,\nspace debris detection and characterization\,\nspace debris mitigation strategies\,\non-orbit servicing and on-orbit assembly of large structures\nactive debris removal\,\nguidance\, navigation and control\,\non-board autonomy\,\nmission operations and communication\,\nfuture missions\,\nlarge constellations and future trends in the context of space debris and space traffic management.\n\nAbout Stardust-R Network\nFind Information: http://www.stardust-network.eu/
URL:https://event.dlr.de/event/global-virtual-workshop-ii-space-traffic-management-and-resilient-space-environment/
LOCATION:virtual event
CATEGORIES:Online-Workshop
ATTACH;FMTTYPE=image/png:https://event.dlr.de/wp-content/uploads/2021/05/Screenshot-2021-05-11-135225.png
END:VEVENT
BEGIN:VEVENT
DTSTART;TZID=Europe/Berlin:20210916T090000
DTEND;TZID=Europe/Berlin:20210916T170000
DTSTAMP:20260419T165918
CREATED:20210726T100026Z
LAST-MODIFIED:20210818T163759Z
UID:10003383-1631782800-1631811600@event.dlr.de
SUMMARY:{:de}6th International Online Summer School on Aerogels (IOSSA){:}{:en}6th International Online Summer School on Aerogels (IOSSA){:}
DESCRIPTION:Die Abteilung Aerogele und Aerogelverbundwerkstoffe im Institut für Werkstoff-Forschung des Deutschen Zentrums für Luft- und Raumfahrt e.V. organisiert am 16. September 2021 den Online-Workshop 6th International Online Summer School on Aerogels. \nAerogele sind offenporige Materialien\, die über einen Sol-Gel Prozess aus organischen oder anorganischen Vorstufen hergestellt werden. Sie zeichnen sich durch eine hohe Porosität (bis zu 99%)\, sehr hohe Oberfläche (bis zu 2000 m2/g)\, niedrige Dichte (50-200 kg/m3) und niedrige Wärmeleitfähigkeit (0\,005-0\,020 W/mK) aus. Mit diesen einzigartigen Eigenschaften sind Aerogele prädestiniert für eine breite Palette an Anwendungen wie z. B. thermische und akustische Isolation\, Leichtbau\, Superkondensatoren\, Batterien oder als Katalysatorträger.\nIm Rahmen dieses Online-Workshops werden Studierende\, Promovierende\, Postdocs\, sowie erfahrene Wissenschaftler:innen aus Industrie und Forschung dazu eingeladen\, die faszinierenden Eigenschaften verschiedener Aerogele kennenzulernen und bekommen die Gelegenheit mit den Expert:innen in die tiefere Diskussion einzusteigen. \nDer Workshop wird durchgeführt in Zusammenarbeit mit der Universität zu Köln (UzK)\, dem Zentrum für Angewandte Energieforschung Würzburg (ZAE)\, der Technischen Universität Hansestadt-Hamburg (TUHH)\, der Paris-Lodron Universität Salzburg\, Österreich und der Eidgenössischen Materialprüfungs- und Forschungsanstalt EMPA in Dübendorf\, Schweiz. \nMehr Informationen unter https://dlr.expert/iossa oder per E-Mail an Aerogels@dlr.de.
URL:https://event.dlr.de/event/the-6th-international-online-summer-school-on-aerogels-iossa/
LOCATION:Online Edition
CATEGORIES:Online-Workshop
ATTACH;FMTTYPE=image/jpeg:https://event.dlr.de/wp-content/uploads/2021/07/IOSSA-2021-Header-short.jpg
ORGANIZER;CN="Dr. Barbara Milow":MAILTO:Aerogels@dlr.de
END:VEVENT
END:VCALENDAR