BEGIN:VCALENDAR
VERSION:2.0
PRODID:-//DLR Event - ECPv6.15.13.1//NONSGML v1.0//EN
CALSCALE:GREGORIAN
METHOD:PUBLISH
X-ORIGINAL-URL:https://event.dlr.de
X-WR-CALDESC:Veranstaltungen für DLR Event
REFRESH-INTERVAL;VALUE=DURATION:PT1H
X-Robots-Tag:noindex
X-PUBLISHED-TTL:PT1H
BEGIN:VTIMEZONE
TZID:Europe/Berlin
BEGIN:DAYLIGHT
TZOFFSETFROM:+0100
TZOFFSETTO:+0200
TZNAME:CEST
DTSTART:20200329T010000
END:DAYLIGHT
BEGIN:STANDARD
TZOFFSETFROM:+0200
TZOFFSETTO:+0100
TZNAME:CET
DTSTART:20201025T010000
END:STANDARD
BEGIN:DAYLIGHT
TZOFFSETFROM:+0100
TZOFFSETTO:+0200
TZNAME:CEST
DTSTART:20210328T010000
END:DAYLIGHT
BEGIN:STANDARD
TZOFFSETFROM:+0200
TZOFFSETTO:+0100
TZNAME:CET
DTSTART:20211031T010000
END:STANDARD
BEGIN:DAYLIGHT
TZOFFSETFROM:+0100
TZOFFSETTO:+0200
TZNAME:CEST
DTSTART:20220327T010000
END:DAYLIGHT
BEGIN:STANDARD
TZOFFSETFROM:+0200
TZOFFSETTO:+0100
TZNAME:CET
DTSTART:20221030T010000
END:STANDARD
END:VTIMEZONE
BEGIN:VEVENT
DTSTART;VALUE=DATE:20210922
DTEND;VALUE=DATE:20210924
DTSTAMP:20260419T141323
CREATED:20210521T124523Z
LAST-MODIFIED:20210913T141523Z
UID:10003376-1632268800-1632441599@event.dlr.de
SUMMARY:{:de}HorizonUAM Symposium 2021{:}{:en}HorizonUAM Symposium 2021{:}
DESCRIPTION:Das HorizonUAM-Symposium 2021 erlaubt direkte Einblicke in die aktuelle Urban Air Mobility-Forschung des DLR!\nDas erste Symposium des DLR zum Thema Urban Air Mobility (UAM) befasst sich mit der DLR-Forschung zu UAM-Luftfahrzeugen\, der entsprechenden Infrastruktur\, den UAM-Diensten sowie der öffentlichen Akzeptanz des zukünftigen urbanen Luftverkehrs. Forschende\, Industrieexpertinnen und -experten und weitere Teilnehmende kommen hier zusammen\, lernen erste Forschungsergebnisse aus dem DLR-Schlüsselprojekt HorizonUAM kennen\, tauschen Erfahrungen aus und diskutieren mögliche Kooperationen im UAM-Bereich. \nDas Symposium wird als virtuelle Veranstaltung am 22. und 23. September 2021 stattfinden. Das vollständige Programm ist auf der Website des Symposiums verfügbar. \nDie Online-Veranstaltung ist kostenlos und steht allen nach einer kurzen Registrierung offen.
URL:https://event.dlr.de/event/horizonuam-symposium-2021/
LOCATION:Online\, Deutschland
CATEGORIES:Online-Event,Symposium,Web-Konferenz
ATTACH;FMTTYPE=image/jpeg:https://event.dlr.de/wp-content/uploads/2021/05/HorizonUAM_Symposium-Banner_1920px.jpg
END:VEVENT
BEGIN:VEVENT
DTSTART;TZID=Europe/Berlin:20210922T123000
DTEND;TZID=Europe/Berlin:20210922T183000
DTSTAMP:20260419T141323
CREATED:20210902T085918Z
LAST-MODIFIED:20210902T085918Z
UID:10001982-1632313800-1632335400@event.dlr.de
SUMMARY:{:de}Helmholtz Data Science Career Day am 22. September 2021 (virtuell){:}{:en}Helmholtz Data Science Career Day{:}
DESCRIPTION:Data Scientists sind auf dem Arbeitsmarkt gefragt – auch in der Wissenschaft: Alle 18 Helmholtz Zentren haben im Jahr 2021 bereits zahlreiche Stellen ausgeschrieben\, in denen etwa Kenntnisse der Methoden der künstlichen Intelligenz nötig waren. Beim Helmholtz Data Science Career Day am 22. September 2021 kommen nun Zentren und Partnerinstitutionen zusammen\, um internationalen Data Science Talenten Karrieremöglichkeiten von der Promotion bis zur Professur in allen Forschungsbereichen vorzustellen. \nDas Konferenzprogramm am frühen Nachmittag gibt Einblick in die spannende Forschung und die Karrierewege der Datenwissenschaftler*innen an den Zentren: Wie kommt man dazu\, ein Supercomputing Zentrum zu leiten\, das einen der top-15 schnellsten Hochleistungsrechner der Welt beherbergt? Was bedeutet es\, einen Doktor in Marine Data Science zu machen? Und welche Karrieretipps geben erfahrene Datenwissenschaftlerinnen anderen Frauen? Diese und mehr Fragen werden online im Videoformat in Vorträgen und Panels mit Q&As beantwortet. \nGelegenheit für mehr Austausch bietet der späte Nachmittag. In Chatroulette-ähnlichen Videochats treffen Data Science Talente zunächst jeweils alle fünf Minuten neue Forschende der Zentren. Danach bietet sich an Expo-Ständen der Zentren und Partner im Videokonferenzformat die Möglichkeit\, Gespräche zu vertiefen. \nMit dabei sind dieses Jahr 23 Aussteller\, darunter das Deutsche Zentrum für Luft- und Raumfahrt\, das Deutsche Krebsforschungszentrum\, das Forschungszentrum Jülich\, das Helmholtz Zentrum Dresden Rossendorf\, das Helmholtz Zentrum Berlin\, das Helmholtz Center for Information Security\, das Max Delbrück Zentrum und das Helmholtz-Zentrum für Umweltforschung. Neben weiteren Helmholtz Institutionen stellen sich auch Partner wie die Bitkom\, der Deutsche Akademische Austauschdienst und die Israel Data Science Initiative auf dem Career Day vor. \nVeranstaltet wird der Helmholtz Data Science Career Day 2021 zum zweiten Mal durch die Helmholtz Information & Data Science Academy. Im vergangenen Jahr verzeichnete die Veranstaltung rund 550 Besucher:innen aus 80 Ländern. \nSie möchten den Helmholtz Data Science Career Day besuchen? Erfahren Sie mehr und registrieren Sie sich hier. \n\,
URL:https://event.dlr.de/event/helmholtz-data-science-career-day-am-22-september-2021-virtuell/
CATEGORIES:Web-Konferenz
ATTACH;FMTTYPE=image/jpeg:https://event.dlr.de/wp-content/uploads/2021/09/HOPIN_2021.jpg
ORGANIZER;CN="Helmholtz Information & Data Science Academy":MAILTO:info@helmholtz.de
END:VEVENT
END:VCALENDAR