BEGIN:VCALENDAR
VERSION:2.0
PRODID:-//DLR Event - ECPv6.15.13.1//NONSGML v1.0//EN
CALSCALE:GREGORIAN
METHOD:PUBLISH
X-ORIGINAL-URL:https://event.dlr.de
X-WR-CALDESC:Veranstaltungen für DLR Event
REFRESH-INTERVAL;VALUE=DURATION:PT1H
X-Robots-Tag:noindex
X-PUBLISHED-TTL:PT1H
BEGIN:VTIMEZONE
TZID:Europe/Berlin
BEGIN:DAYLIGHT
TZOFFSETFROM:+0100
TZOFFSETTO:+0200
TZNAME:CEST
DTSTART:20220327T010000
END:DAYLIGHT
BEGIN:STANDARD
TZOFFSETFROM:+0200
TZOFFSETTO:+0100
TZNAME:CET
DTSTART:20221030T010000
END:STANDARD
BEGIN:DAYLIGHT
TZOFFSETFROM:+0100
TZOFFSETTO:+0200
TZNAME:CEST
DTSTART:20230326T010000
END:DAYLIGHT
BEGIN:STANDARD
TZOFFSETFROM:+0200
TZOFFSETTO:+0100
TZNAME:CET
DTSTART:20231029T010000
END:STANDARD
BEGIN:DAYLIGHT
TZOFFSETFROM:+0100
TZOFFSETTO:+0200
TZNAME:CEST
DTSTART:20240331T010000
END:DAYLIGHT
BEGIN:STANDARD
TZOFFSETFROM:+0200
TZOFFSETTO:+0100
TZNAME:CET
DTSTART:20241027T010000
END:STANDARD
END:VTIMEZONE
BEGIN:VEVENT
DTSTART;VALUE=DATE:20230414
DTEND;VALUE=DATE:20231009
DTSTAMP:20260420T090513
CREATED:20220718T085418Z
LAST-MODIFIED:20230417T081728Z
UID:10001999-1681430400-1696809599@event.dlr.de
SUMMARY:Bundesgartenschau (BUGA) 2023
DESCRIPTION:U-Shift: Mobilität für lebenswerte Städte \nMit dem U-Shift zeigt das DLR auf der Bundesgartenschau 2023 (BUGA23) ein futuristisches Fahrzeugkonzept\, das die Welt des urbanen Personen- und Gütertransports völlig neugestaltet. Das U-Shift besteht aus zwei Komponenten: Die Hightech zum Fahren befindet sich im U-förmigen Driveboard. Dieser autonom fahrende Untersatz nimmt unterschiedliche Transportkapseln auf\, um Personen oder Güter zu befördern. \nDie Besucherinnen und Besucher der BUGA 23 erleben am DLR-Pavillon live die ersten Prototypen des U-Shift im Forschungsbetrieb. Alle sind eingeladen\, die DLR-Mobilitätsforschung kennenzulernen\, mitzumachen und so die Zukunft mitzugestalten. \nDie BUGA23 in Mannheim findet an 178 Tagen vom 14. April bis 8. Oktober 2023 statt. \nDie aktuelle Pressemitteilung des DLR zur BUGA finden sie hier.
URL:https://event.dlr.de/event/bundesgartenschau-buga-2023/
LOCATION:Spinelli-Gelände Mannheim\, Spinelliplatz 4\, Mannheim\, Mannheim\, 68259\, Deutschland
CATEGORIES:Ausstellung
ATTACH;FMTTYPE=image/png:https://event.dlr.de/wp-content/uploads/2022/07/BUGA23_Emailbanner_final.png
ORGANIZER;CN="Dr.-Ing. Marco M%C3%BCnster":MAILTO:Marco.Muenster@dlr.de
END:VEVENT
BEGIN:VEVENT
DTSTART;TZID=Europe/Berlin:20230919T090000
DTEND;TZID=Europe/Berlin:20230921T180000
DTSTAMP:20260420T090513
CREATED:20221206T095717Z
LAST-MODIFIED:20230913T123418Z
UID:10002012-1695114000-1695319200@event.dlr.de
SUMMARY:DLRK 2023
DESCRIPTION:Der Deutsche Luft- und Raumfahrtkongress (DLRK) ist die zentrale Veranstaltung der deutschsprachigen Luft- und Raumfahrt-Community. \n2023 ist der DLRK in Stuttgart zu Gast und wird dort wieder die Gelegenheit bieten\, aktuelle Themen und Fragestellungen der gesamten Luft- und Raumfahrtbranche gemeinsam zu diskutieren. Die Bandbreite der Themen wird in einer großen Zahl von Fachsitzungen abgebildet werden\, in denen aktuelle Themen ausführlich diskutiert werden können. Daneben können sowohl wissenschaftliche Arbeiten\, geplante Forschungsprojekte oder Vorstellungen von Forschungseinrichtungen\, Infrastruktur und technischen Systemen in Form von Postern präsentiert werden. \nDie Programmkommission des DLRK 2023 unter der Leitung von Prof. Dr. Andreas Strohmayer (Universität Stuttgart) lädt Sie bereits jetzt ganz herzlich dazu ein\, ab Ende Januar 2023 Vorträge oder Poster aus allen Disziplinen der Luft- und Raumfahrt für den DLRK 2023 einzureichen. \nWir freuen uns sehr\, Sie in Stuttgart zu begrüßen.
URL:https://event.dlr.de/event/dlrk-2023/
LOCATION:Haus der Wirtschaft\, Willi-Bleicher-Str. 19\, Stuttgart\, Baden-Württemberg\, 70174\, Deutschland
ATTACH;FMTTYPE=image/jpeg:https://event.dlr.de/wp-content/uploads/2022/12/DLRK2023-Logo.jpg
GEO:48.779166;9.172868
X-APPLE-STRUCTURED-LOCATION;VALUE=URI;X-ADDRESS=Haus der Wirtschaft Willi-Bleicher-Str. 19 Stuttgart Baden-Württemberg 70174 Deutschland;X-APPLE-RADIUS=500;X-TITLE=Willi-Bleicher-Str. 19:geo:9.172868,48.779166
END:VEVENT
BEGIN:VEVENT
DTSTART;TZID=Europe/Berlin:20230921T140000
DTEND;TZID=Europe/Berlin:20230921T153000
DTSTAMP:20260420T090513
CREATED:20230526T100359Z
LAST-MODIFIED:20230526T100359Z
UID:10003440-1695304800-1695310200@event.dlr.de
SUMMARY:{:de}Venture Capital – Der richtige Treibstoff für New Space Unternehmen?{:}{:en}Venture Capital - The right fuel for New Space companies?{:}
DESCRIPTION:In den letzten 20 Jahren sind tausende von innovativen Raumfahrtunternehmen weltweit gegründet worden\, die den Status Quo von etablierten Unternehmen auf vielen Ebenen in Frage stellen. Diese New Space Start-ups werden häufig von Venture Capital Investoren finanziert. Das Deutsche Zentrum für Luft- und Raumfahrt arbeitet an innovativen Technologien\, die das Potential für Ausgründungen in sich tragen. Technisch orientierte Gründer haben aber insbesondere am Anfang des Unternehmensaufbaus häufig nur sehr vage Vorstellungen\, worauf Venture Capital Investoren bei der Auswahl und Finanzierung von Start-ups achten. Um gründungsinteressierten wissenschaftlichen Mitarbeiter/innen hier ein besseres Verständnis zu geben\, wird im Rahmen des Vortrags ein Blick in die Welt der Venture Capital Investoren geworfen. \nTeilnahme auch online: https://confpool.vc.dlr.de/webapp/#/?conference=1907076510@vc.dlr.de
URL:https://event.dlr.de/event/venture-capital-der-richtige-treibstoff-fuer-new-space-unternehmen/
LOCATION:Institut für Raumfahrtsysteme\, Robert Hooke Str. 7\, Bremen\, 28359\, Deutschland
CATEGORIES:Vortrag,Webinar
END:VEVENT
END:VCALENDAR