BEGIN:VCALENDAR
VERSION:2.0
PRODID:-//DLR Event - ECPv6.15.13.1//NONSGML v1.0//EN
CALSCALE:GREGORIAN
METHOD:PUBLISH
X-ORIGINAL-URL:https://event.dlr.de
X-WR-CALDESC:Veranstaltungen für DLR Event
REFRESH-INTERVAL;VALUE=DURATION:PT1H
X-Robots-Tag:noindex
X-PUBLISHED-TTL:PT1H
BEGIN:VTIMEZONE
TZID:Europe/Berlin
BEGIN:DAYLIGHT
TZOFFSETFROM:+0100
TZOFFSETTO:+0200
TZNAME:CEST
DTSTART:20240331T010000
END:DAYLIGHT
BEGIN:STANDARD
TZOFFSETFROM:+0200
TZOFFSETTO:+0100
TZNAME:CET
DTSTART:20241027T010000
END:STANDARD
BEGIN:DAYLIGHT
TZOFFSETFROM:+0100
TZOFFSETTO:+0200
TZNAME:CEST
DTSTART:20250330T010000
END:DAYLIGHT
BEGIN:STANDARD
TZOFFSETFROM:+0200
TZOFFSETTO:+0100
TZNAME:CET
DTSTART:20251026T010000
END:STANDARD
BEGIN:DAYLIGHT
TZOFFSETFROM:+0100
TZOFFSETTO:+0200
TZNAME:CEST
DTSTART:20260329T010000
END:DAYLIGHT
BEGIN:STANDARD
TZOFFSETFROM:+0200
TZOFFSETTO:+0100
TZNAME:CET
DTSTART:20261025T010000
END:STANDARD
BEGIN:DAYLIGHT
TZOFFSETFROM:+0100
TZOFFSETTO:+0200
TZNAME:CEST
DTSTART:20270328T010000
END:DAYLIGHT
BEGIN:STANDARD
TZOFFSETFROM:+0200
TZOFFSETTO:+0100
TZNAME:CET
DTSTART:20271031T010000
END:STANDARD
END:VTIMEZONE
BEGIN:VEVENT
DTSTART;VALUE=DATE:20251102
DTEND;VALUE=DATE:20260704
DTSTAMP:20260420T104915
CREATED:20251029T094015Z
LAST-MODIFIED:20251029T115031Z
UID:10003547-1762041600-1783123199@event.dlr.de
SUMMARY:DLR_Raumfahrt_Show 2025/2026
DESCRIPTION:Die DLR_Raumfahrt_Show geht wieder auf Tour! Unter dem Motto „Eine Zeitreise in die Zukunft“ lädt das interaktive Bühnenprogramm Schülerinnen und Schüler zu einem faszinierenden Ausflug in die Welt von morgen ein. Wird es irgendwann Weltraum-Hotels geben? Oder Forschungsstationen auf dem Mond oder Mars? Neben solchen spannenden Fragen rund um die Raumfahrt behandelt die ebenso lehrreiche wie unterhaltsame Präsentation auch andere Themen und Projekte\, mit denen sich das Deutsche Zentrum für Luft- und Raumfahrt (DLR) beschäftigt – von den Flugzeugen der nächsten Generation bis hin zur Verkehrs- und Energieforschung. \nDie 90-minütige Show richtet sich bewusst schon an jüngere Schülerinnen und Schüler der Jahrgangsstufen 4 bis 6. Dabei stellen ihnen die Moderatorinnen und Moderatoren sowohl aktuelle Forschungsprojekte als auch weiterreichende Zukunftsvisionen vor\, wobei das Publikum immer wieder eingebunden wird. Mal machen alle beim Training für den Flug ins All mit\, mal helfen Kinder auf der Bühne beim Experiment mit einer Wärmebildkamera. Manche der Versuchsaufbauten wurden von den Schülerlaboren des DLR\, den DLR_School_Labs\, eigens für die Tour entwickelt. Andere stammen vom Team der bekannten Wissenschaftsshow „Die Physikanten“. Oft geht es dabei spektakulär zu – zum Beispiel wenn riesige Nebel-Ringe quer durch den Saal über die Köpfe des Publikums hinweg schweben. Bei anderen Programmpunkten wird es eher lustig – etwa wenn Hula-Hoop-Reifen oder ein Ballon in Form eines Einhorns zum Einsatz kommen. Oder wenn die Zeitmaschine „Holly“ – eine weitere Neuerung der DLR_Raumfahrt_Show – dem Publikum beim Quiz heimlich vorsagt. \nWeitere Informationen und den Tourplan finden Sie hier. \nAnmeldung erforderlich!
URL:https://event.dlr.de/event/dlr_raumfahrt_show-2025-2026/
CATEGORIES:Event
ATTACH;FMTTYPE=image/jpeg:https://event.dlr.de/wp-content/uploads/2025/10/DLR_RF_Show2025_2026-e1761730797573.jpeg
ORGANIZER;CN="DLR_Raumfahrt_Show Projektb%C3%BCro":MAILTO:DLR_next@yaez.com
END:VEVENT
BEGIN:VEVENT
DTSTART;TZID=Europe/Berlin:20251215T180000
DTEND;TZID=Europe/Berlin:20251215T203000
DTSTAMP:20260420T104915
CREATED:20251119T091136Z
LAST-MODIFIED:20251119T091723Z
UID:10003551-1765821600-1765830600@event.dlr.de
SUMMARY:DLR-Weihnachtsvorlesung – Santa Claus oder Quanta Claus?
DESCRIPTION:Wie schafft es der Weihnachtsmann jedes Jahr\, überall gleichzeitig zu sein? Und warum hat ihn noch niemand gesehen? Ist die Quantenphysik sein Geheimnis? \nWir laden Sie herzlich ins Stuttgarter Rathaus ein zur DLR-Weihnachtsvorlesung: \nSanta Claus oder Quanta Claus?\nQuantentechnologische Gedankenspiele zum Weihnachtsmann \nMontag\, 15. Dezember 2025\, 18:00 Uhr\nRathaus Stuttgart\, Marktplatz 1\, 70173 Stuttgart. \nStadtdirektor Dr. Winfried Klein für den Bereich des Oberbürgermeisters der Landeshauptstadt Stuttgart und Dr. Anke Kovar\, Leiterin der DLR-Standorte Südwest\, heißen Sie herzlich willkommen. \nProf. Kai Bongs vom DLR-Institut für Quantentechnologien nimmt Sie mit auf eine interaktive Reise in die bizarre Welt der Quanten. Dort können Dinge plötzlich verschwinden und an einem anderen Ort wieder auftauchen oder zur selben Zeit an mehreren Orten sein. Wenn man aber versucht\, sie zu beobachten\, verraten sie Ihr Geheimnis nicht – genau wie der Weihnachtsmann. \nNach der Vorlesung können Sie an Spielestationen die Quantenwelt selbst entdecken und den Abend bei Punsch und Gebäck ausklingen lassen. \nBitte melden Sie sich und Ihre Begleitung bis zum 10. Dezember 2025 an unter weihnachtsvorlesung.eventbrite.de. \nDie Veranstaltung aus der Reihe „Wissen trifft Stadt“ hat das Ziel\, Wissenschaft und Forschung spielerisch zu erklären und sichtbar zu machen. Das Deutsche Zentrum für Luft- und Raumfahrt (DLR) und die Abteilung L/OB-RZ (Wissenschaft und Hochschulen) der Landeshauptstadt Stuttgart führen die Weihnachtsvorlesung gemeinsam durch. \nWir freuen uns auf einen anregenden Abend!
URL:https://event.dlr.de/event/dlr-weihnachtsvorlesung-santa-claus-oder-quanta-claus/
END:VEVENT
END:VCALENDAR