BEGIN:VCALENDAR
VERSION:2.0
PRODID:-//DLR Event - ECPv6.15.13.1//NONSGML v1.0//EN
CALSCALE:GREGORIAN
METHOD:PUBLISH
X-ORIGINAL-URL:https://event.dlr.de
X-WR-CALDESC:Veranstaltungen für DLR Event
REFRESH-INTERVAL;VALUE=DURATION:PT1H
X-Robots-Tag:noindex
X-PUBLISHED-TTL:PT1H
BEGIN:VTIMEZONE
TZID:Europe/Berlin
BEGIN:DAYLIGHT
TZOFFSETFROM:+0100
TZOFFSETTO:+0200
TZNAME:CEST
DTSTART:20180325T010000
END:DAYLIGHT
BEGIN:STANDARD
TZOFFSETFROM:+0200
TZOFFSETTO:+0100
TZNAME:CET
DTSTART:20181028T010000
END:STANDARD
BEGIN:DAYLIGHT
TZOFFSETFROM:+0100
TZOFFSETTO:+0200
TZNAME:CEST
DTSTART:20190331T010000
END:DAYLIGHT
BEGIN:STANDARD
TZOFFSETFROM:+0200
TZOFFSETTO:+0100
TZNAME:CET
DTSTART:20191027T010000
END:STANDARD
BEGIN:DAYLIGHT
TZOFFSETFROM:+0100
TZOFFSETTO:+0200
TZNAME:CEST
DTSTART:20200329T010000
END:DAYLIGHT
BEGIN:STANDARD
TZOFFSETFROM:+0200
TZOFFSETTO:+0100
TZNAME:CET
DTSTART:20201025T010000
END:STANDARD
END:VTIMEZONE
BEGIN:VEVENT
DTSTART;TZID=Europe/Berlin:20190604T180000
DTEND;TZID=Europe/Berlin:20190605T170000
DTSTAMP:20260422T071000
CREATED:20190410T123307Z
LAST-MODIFIED:20190410T123613Z
UID:10001898-1559671200-1559754000@event.dlr.de
SUMMARY:Symposium "Künstliche Intelligenz: Made in Germany"
DESCRIPTION:Fachleute sind sich einig\, dass Künstliche Intelligenz (KI) in der Arbeitswelt und im täglichen Leben schon sehr bald eine herausragende Rolle übernehmen wird. Damit gehen große Veränderungen in den Prozessen und Wertschöpfungsketten einher. Industrie- und Forschungseinrichtungen in Deutschland verfügen bereits über vielfältige und herausragende KI-Kompetenzen in den Bereichen Big Data und Erdbeobachtung\, Robotik\, Intelligente Mobilität sowie Industrie 4.0. Diese Kompetenzen gezielt weiter auszubauen und zu stärken sowie synergetisch zu verbinden wird eine Schlüsselrolle für die Gestaltung der Zukunft spielen. Im Rahmen des Symposiums wird präsentiert\, was bereits heute an international führender KI-Expertise in den genannten Bereichen in Deutschland vorhanden ist. Es wird eine Plattform für den Austausch zwischen Politik\, Wirtschaft und Wissenschaft geschaffen. Die Veranstaltungssprache ist deutsch. \n\nRegistrierung zur Teilnahme am Symposium \nEine Teilnahme am Symposium ist nur auf persönliche Einladung möglich. Bitte beachten Sie\, dass die Anzahl der zur Verfügung stehenden Plätze für diese exklusive Veranstaltung auf insgesamt 85 Teilnehmerinnen und Teilnehmer beschränkt ist. Um die Teilnehmerregistrierung zu starten\, wählen Sie bitte den Link „Anmelden / Register“. Nach Prüfung Ihrer Anmeldung erhalten Sie – vorbehaltlich der vorhandenen Kapazitäten – in den nächsten Wochen eine Registrierungsbestätigung für ihre persönliche Teilnahme an dem Symposium. \nDie Teilnahme an der Veranstaltung ist kostenfrei.
URL:https://event.dlr.de/event/symposium-kuenstliche-intelligenz-made-in-germany/
LOCATION:Deutsche Telekom AG Hauptstadtrepräsentanz\, Französische Str. 33 a-c\, Berlin\, Berlin\, 10117\, Deutschland
CATEGORIES:Symposium
ATTACH;FMTTYPE=image/jpeg:https://event.dlr.de/wp-content/uploads/2019/04/KI-Symposium-Home.jpg
END:VEVENT
END:VCALENDAR