BEGIN:VCALENDAR
VERSION:2.0
PRODID:-//DLR Event - ECPv6.15.13.1//NONSGML v1.0//EN
CALSCALE:GREGORIAN
METHOD:PUBLISH
X-ORIGINAL-URL:https://event.dlr.de
X-WR-CALDESC:Veranstaltungen für DLR Event
REFRESH-INTERVAL;VALUE=DURATION:PT1H
X-Robots-Tag:noindex
X-PUBLISHED-TTL:PT1H
BEGIN:VTIMEZONE
TZID:Europe/Berlin
BEGIN:DAYLIGHT
TZOFFSETFROM:+0100
TZOFFSETTO:+0200
TZNAME:CEST
DTSTART:20170326T010000
END:DAYLIGHT
BEGIN:STANDARD
TZOFFSETFROM:+0200
TZOFFSETTO:+0100
TZNAME:CET
DTSTART:20171029T010000
END:STANDARD
BEGIN:DAYLIGHT
TZOFFSETFROM:+0100
TZOFFSETTO:+0200
TZNAME:CEST
DTSTART:20180325T010000
END:DAYLIGHT
BEGIN:STANDARD
TZOFFSETFROM:+0200
TZOFFSETTO:+0100
TZNAME:CET
DTSTART:20181028T010000
END:STANDARD
BEGIN:DAYLIGHT
TZOFFSETFROM:+0100
TZOFFSETTO:+0200
TZNAME:CEST
DTSTART:20190331T010000
END:DAYLIGHT
BEGIN:STANDARD
TZOFFSETFROM:+0200
TZOFFSETTO:+0100
TZNAME:CET
DTSTART:20191027T010000
END:STANDARD
END:VTIMEZONE
BEGIN:VEVENT
DTSTART;VALUE=DATE:20180910
DTEND;VALUE=DATE:20180913
DTSTAMP:20260422T185734
CREATED:20180502T153059Z
LAST-MODIFIED:20180528T140107Z
UID:10001863-1536537600-1536796799@event.dlr.de
SUMMARY:{:de}9th Advanced Satellite Multimedia Systems Conference (ASMS) & 15th Signal Processing for Space Communications Workshop (SPSC){:}{:en}9th Advanced Satellite Multimedia Systems Conference (ASMS) & 15th Signal Processing for Space Communications Workshop (SPSC){:}
DESCRIPTION:Die 9. Advanced Satellite Multimedia Systems Konferenz und der 15. Workshop Signal Processing for Space Communications (Signalverarbeitung für die Weltraumkommunikation) werden gemeinsam vom DLR Institut für Kommunikation und Navigation\, der Europäischen Weltraumorganisation und der Universität Bologna veranstaltet. \nDie Konferenz findet am 10.-12. September 2018 in Berlin statt.\nDas Leitmotiv der Ausgabe 2018 wird die Rolle der Satellitenkommunikation in 5G-Netzen sein\, unter dem Motto SatCom meets 5G!\nAufbauend auf der renommierten Tradition der beiden Veranstaltungen ist diese gemeinsame Konferenz eine hervorragende Gelegenheit für Institutionen aus Industrie und Forschung\, ihre Kenntnisse auf den neuesten Stand zu bringen und Informationen über aktuelle Fortschritte und neue Technologien für mobile\, Breitband- und Rundfunk-Satellitenkommunikationssysteme auszutauschen. \nEine besondere Neuerung der Ausgabe 2018 ist die Einführung von zwei separaten Tracks:\n• Track A mit stärkerem Schwerpunkt auf den theoretischen Fortschritten mit relativ niedrigem TRL\, für den vollständige Beiträge eingereicht werden müssen. Die für diesen Track angenommenen Beiträge werden auf IEEE Xplore zur Verfügung gestellt.\n• Track B beschäftigt sich hauptsächlich mit industriellen Entwicklungen\, die weiter technologisch ausgereift sind und basiert auf der Einreichung von Einführungstexten (Extended Abstracts). \nZur Registrierung nutzen Sie bitte diesen Link. \n 
URL:https://event.dlr.de/event/9th-advanced-satellite-multimedia-systems-conference-asms-15th-signal-processing-for-space-communications-workshop-spsc/
LOCATION:DIN e. V.\, Am DIN-Platz\, Burggrafenstraße 6\, Berlin\, 10787 
CATEGORIES:Konferenz
ATTACH;FMTTYPE=image/png:https://event.dlr.de/wp-content/uploads/2018/05/Header-website.png
ORGANIZER;CN="Dr.-Ing. Sandro Scalise":MAILTO:Sandro.Scalise@dlr.de
END:VEVENT
END:VCALENDAR