BEGIN:VCALENDAR
VERSION:2.0
PRODID:-//DLR Event - ECPv6.15.13.1//NONSGML v1.0//EN
CALSCALE:GREGORIAN
METHOD:PUBLISH
X-ORIGINAL-URL:https://event.dlr.de
X-WR-CALDESC:Veranstaltungen für DLR Event
REFRESH-INTERVAL;VALUE=DURATION:PT1H
X-Robots-Tag:noindex
X-PUBLISHED-TTL:PT1H
BEGIN:VTIMEZONE
TZID:Europe/Berlin
BEGIN:DAYLIGHT
TZOFFSETFROM:+0100
TZOFFSETTO:+0200
TZNAME:CEST
DTSTART:20160327T010000
END:DAYLIGHT
BEGIN:STANDARD
TZOFFSETFROM:+0200
TZOFFSETTO:+0100
TZNAME:CET
DTSTART:20161030T010000
END:STANDARD
BEGIN:DAYLIGHT
TZOFFSETFROM:+0100
TZOFFSETTO:+0200
TZNAME:CEST
DTSTART:20170326T010000
END:DAYLIGHT
BEGIN:STANDARD
TZOFFSETFROM:+0200
TZOFFSETTO:+0100
TZNAME:CET
DTSTART:20171029T010000
END:STANDARD
BEGIN:DAYLIGHT
TZOFFSETFROM:+0100
TZOFFSETTO:+0200
TZNAME:CEST
DTSTART:20180325T010000
END:DAYLIGHT
BEGIN:STANDARD
TZOFFSETFROM:+0200
TZOFFSETTO:+0100
TZNAME:CET
DTSTART:20181028T010000
END:STANDARD
END:VTIMEZONE
BEGIN:VEVENT
DTSTART;VALUE=DATE:20170127
DTEND;VALUE=DATE:20170129
DTSTAMP:20260422T020958
CREATED:20161116T101502Z
LAST-MODIFIED:20170119T125112Z
UID:10002173-1485475200-1485647999@event.dlr.de
SUMMARY:{:de}51. Atmungs- und Leistungsphysiologische Arbeitstagung{:}{:en}51st Working Conference on Breathing and Performance Physiology{:}
DESCRIPTION:Am 27. und 28.1.2017 veranstaltet die Abteilung Weltraumphysiologie des DLR-Institutes für Luft- und Raumfahrmedizin die 51. Atmungs- und Leistungsphysiologische Arbeitstagung. Schwerpunkt der Tagung ist die Vorstellung der Studienergebnisse zu den Themen „Schwerkraftabhängigkeit der Durchblutung\, Leistungsfähigkeit und Wachstumssteuerung der Beinmuskulatur“ und „Anpassung der Durchblutung und Volumenregulation des Gehirns an Veränderungen des Schwerkraftvektors und an moderate Hyperkapnie“. Weitere Themen können vorgeschlagen werden. \nOrt: DLR Köln Porz \n:envihab \nDie Deadline zur Einreichung von Vortragstiteln ist 12.12.2016. Die Titel bitte in Deutsch oder Englisch an: ALAT2017@dlr.de \nAnmeldeschluss für die Teilnahme an der Tagung ist 23.12.2016. Die Teilnahme ist kostenlos. \nMit freundlicher Unterstützung von: Loncego GmbH & Co. KG\, Rösrath; Artinis Medical Systems\, Elst\, NL; Velamed GmbH\, Köln \nalat2017-programm-1_2017
URL:https://event.dlr.de/event/51-atmungs-und-leistungsphysiologische-arbeitstagung/
LOCATION::envihab\, Planitzweg\, Köln\, 51147\, Deutschland
CATEGORIES:Symposium
ATTACH;FMTTYPE=image/jpeg:https://event.dlr.de/wp-content/uploads/2016/11/envihab_außen.jpg
ORGANIZER;CN="Friederike W%C3%BCtscher":MAILTO:ALAT2017@dlr.de
GEO:50.8550714;7.1219528
X-APPLE-STRUCTURED-LOCATION;VALUE=URI;X-ADDRESS=:envihab Planitzweg Köln 51147 Deutschland;X-APPLE-RADIUS=500;X-TITLE=Planitzweg:geo:7.1219528,50.8550714
END:VEVENT
END:VCALENDAR