BEGIN:VCALENDAR
VERSION:2.0
PRODID:-//DLR Event - ECPv6.15.13.1//NONSGML v1.0//EN
CALSCALE:GREGORIAN
METHOD:PUBLISH
X-ORIGINAL-URL:https://event.dlr.de
X-WR-CALDESC:Veranstaltungen für DLR Event
REFRESH-INTERVAL;VALUE=DURATION:PT1H
X-Robots-Tag:noindex
X-PUBLISHED-TTL:PT1H
BEGIN:VTIMEZONE
TZID:Europe/Berlin
BEGIN:DAYLIGHT
TZOFFSETFROM:+0100
TZOFFSETTO:+0200
TZNAME:CEST
DTSTART:20180325T010000
END:DAYLIGHT
BEGIN:STANDARD
TZOFFSETFROM:+0200
TZOFFSETTO:+0100
TZNAME:CET
DTSTART:20181028T010000
END:STANDARD
BEGIN:DAYLIGHT
TZOFFSETFROM:+0100
TZOFFSETTO:+0200
TZNAME:CEST
DTSTART:20190331T010000
END:DAYLIGHT
BEGIN:STANDARD
TZOFFSETFROM:+0200
TZOFFSETTO:+0100
TZNAME:CET
DTSTART:20191027T010000
END:STANDARD
BEGIN:DAYLIGHT
TZOFFSETFROM:+0100
TZOFFSETTO:+0200
TZNAME:CEST
DTSTART:20200329T010000
END:DAYLIGHT
BEGIN:STANDARD
TZOFFSETFROM:+0200
TZOFFSETTO:+0100
TZNAME:CET
DTSTART:20201025T010000
END:STANDARD
END:VTIMEZONE
BEGIN:VEVENT
DTSTART;VALUE=DATE:20191016
DTEND;VALUE=DATE:20191017
DTSTAMP:20260421T205030
CREATED:20190508T122332Z
LAST-MODIFIED:20190605T124622Z
UID:10002266-1571184000-1571270399@event.dlr.de
SUMMARY:{:de}DLR_Raumfahrt_Show 2019 in Heilbronn{:}{:en}DLR_Raumfahrt_Show 2019 at Heilbronn{:}
DESCRIPTION:Im Herbst 2018 drehte sich bei der DLR_Raumfahrt_Show alles um die Horizons-Mission von Alexander Gerst alias „Astro_Alex“ zur Internationalen Raumstation. Diesmal führt das Programm noch einen „kleinen Schritt“ weiter: Aus Anlass des 50. Jahrestages der ersten Apollo-Landung nehmen wir die Zuschauer mit auf eine Gedankenreise zum Mond. Dabei werden die spannendsten Informationen über unseren kosmischen Begleiter und über dieses herausragende Ereignis der Raumfahrtgeschichte vermittelt – mit verblüffenden Bühnenexperimenten\, faszinierenden Videos und Mitmach-Aktionen für das ganze Publikum. Wie ist der Mond überhaupt entstanden? Wie hat er seine dunklen Flecken bekommen\, die man manchmal auch als das Gesicht vom „Mann im Mond“ bezeichnet? Und welche Erkenntnisse verdanken wir den Apollo-Missionen? \n\n\n\n\n\n+++ Die Startzeit der Veranstaltung wird noch bekanntgegeben +++ \nDie DLR_Raumfahrt_Show ist eine Initiative des Deutschen Zentrums für Luft- und Raumfahrt (DLR)\, um Kinder und Jugendliche für Forschung und Technik zu begeistern. Sie wird gefördert vom Bundesministerium für Wirtschaft und Energie (BMWi). Zudem wird die Aktion unterstützt vom Science Center experimenta (Heilbronn)\, vom Heinz Nixdorf MuseumsForum (Paderborn) und von der Klaus Tschira Stiftung.
URL:https://event.dlr.de/event/dlr_raumfahrt_show-2019-in-heilbronn/2019-10-16/
LOCATION:Experimenta Science Center\, Dammstraße 1\, Heilbronn\, 74076\, Deutschland
CATEGORIES:Event
ATTACH;FMTTYPE=image/png:https://event.dlr.de/wp-content/uploads/2019/05/BMWi-experimenta_KeyVisual_DLR-Roadshow_YAEZ_20190402.png
ORGANIZER;CN="DLR_Raumfahrt_Show Projektb%C3%BCro":MAILTO:DLR_next@yaez.com
END:VEVENT
BEGIN:VEVENT
DTSTART;VALUE=DATE:20191015
DTEND;VALUE=DATE:20191016
DTSTAMP:20260421T205030
CREATED:20190508T122332Z
LAST-MODIFIED:20190605T124622Z
UID:10002265-1571097600-1571183999@event.dlr.de
SUMMARY:{:de}DLR_Raumfahrt_Show 2019 in Heilbronn{:}{:en}DLR_Raumfahrt_Show 2019 at Heilbronn{:}
DESCRIPTION:Im Herbst 2018 drehte sich bei der DLR_Raumfahrt_Show alles um die Horizons-Mission von Alexander Gerst alias „Astro_Alex“ zur Internationalen Raumstation. Diesmal führt das Programm noch einen „kleinen Schritt“ weiter: Aus Anlass des 50. Jahrestages der ersten Apollo-Landung nehmen wir die Zuschauer mit auf eine Gedankenreise zum Mond. Dabei werden die spannendsten Informationen über unseren kosmischen Begleiter und über dieses herausragende Ereignis der Raumfahrtgeschichte vermittelt – mit verblüffenden Bühnenexperimenten\, faszinierenden Videos und Mitmach-Aktionen für das ganze Publikum. Wie ist der Mond überhaupt entstanden? Wie hat er seine dunklen Flecken bekommen\, die man manchmal auch als das Gesicht vom „Mann im Mond“ bezeichnet? Und welche Erkenntnisse verdanken wir den Apollo-Missionen? \n\n\n\n\n\n+++ Die Startzeit der Veranstaltung wird noch bekanntgegeben +++ \nDie DLR_Raumfahrt_Show ist eine Initiative des Deutschen Zentrums für Luft- und Raumfahrt (DLR)\, um Kinder und Jugendliche für Forschung und Technik zu begeistern. Sie wird gefördert vom Bundesministerium für Wirtschaft und Energie (BMWi). Zudem wird die Aktion unterstützt vom Science Center experimenta (Heilbronn)\, vom Heinz Nixdorf MuseumsForum (Paderborn) und von der Klaus Tschira Stiftung.
URL:https://event.dlr.de/event/dlr_raumfahrt_show-2019-in-heilbronn/2019-10-15/
LOCATION:Experimenta Science Center\, Dammstraße 1\, Heilbronn\, 74076\, Deutschland
CATEGORIES:Event
ATTACH;FMTTYPE=image/png:https://event.dlr.de/wp-content/uploads/2019/05/BMWi-experimenta_KeyVisual_DLR-Roadshow_YAEZ_20190402.png
ORGANIZER;CN="DLR_Raumfahrt_Show Projektb%C3%BCro":MAILTO:DLR_next@yaez.com
END:VEVENT
END:VCALENDAR