BEGIN:VCALENDAR
VERSION:2.0
PRODID:-//DLR Event - ECPv6.15.13.1//NONSGML v1.0//EN
CALSCALE:GREGORIAN
METHOD:PUBLISH
X-WR-CALNAME:DLR Event
X-ORIGINAL-URL:https://event.dlr.de
X-WR-CALDESC:Veranstaltungen für DLR Event
REFRESH-INTERVAL;VALUE=DURATION:PT1H
X-Robots-Tag:noindex
X-PUBLISHED-TTL:PT1H
BEGIN:VTIMEZONE
TZID:Europe/Berlin
BEGIN:DAYLIGHT
TZOFFSETFROM:+0100
TZOFFSETTO:+0200
TZNAME:CEST
DTSTART:20180325T010000
END:DAYLIGHT
BEGIN:STANDARD
TZOFFSETFROM:+0200
TZOFFSETTO:+0100
TZNAME:CET
DTSTART:20181028T010000
END:STANDARD
BEGIN:DAYLIGHT
TZOFFSETFROM:+0100
TZOFFSETTO:+0200
TZNAME:CEST
DTSTART:20190331T010000
END:DAYLIGHT
BEGIN:STANDARD
TZOFFSETFROM:+0200
TZOFFSETTO:+0100
TZNAME:CET
DTSTART:20191027T010000
END:STANDARD
BEGIN:DAYLIGHT
TZOFFSETFROM:+0100
TZOFFSETTO:+0200
TZNAME:CEST
DTSTART:20200329T010000
END:DAYLIGHT
BEGIN:STANDARD
TZOFFSETFROM:+0200
TZOFFSETTO:+0100
TZNAME:CET
DTSTART:20201025T010000
END:STANDARD
END:VTIMEZONE
BEGIN:VEVENT
DTSTART;VALUE=DATE:20190221
DTEND;VALUE=DATE:20190223
DTSTAMP:20260422T103929
CREATED:20190215T134514Z
LAST-MODIFIED:20190215T134852Z
UID:10002252-1550707200-1550879999@event.dlr.de
SUMMARY:Digitale Entwürfe: Was Luftfahrtingenieure und Architekten voneinander lernen können
DESCRIPTION:Bild: HafenCity Universität Hamburg \nHamburg ist sowohl Luftfahrt-Standort als auch eine „Smart City“. Experten aus beiden wissenschaftlichen Disziplinen wollen künftig im Bereich des digitalen Entwurfs Fragestellungen\, Techniken und Methoden gemeinsam untersuchen. Zum Auftakt einer Forschungszusammenarbeit richten das BIMLab@HCU und das Deutsche Zentrum für Luft- und Raumfahrt e. V. (DLR) die Veranstaltungsreihe „Digitale Luftschlösser“ am 21. und 22. Februar in der HafenCity Universität aus. \nDie Digitalisierung beim Planen und Bauen von Gebäuden ebenso wie von Luftfahrzeugen verändert neben der Art und Weise\, wie Projekte zukünftig bearbeitet und Informationen dazu ausgetauscht werden\, auch die inhaltliche Ausgestaltung der einzelnen Berufe. Kooperative\, integrierte Prozesse und der Einsatz neuer Technologien bis hin zur künstlichen Intelligenz verlangen von Architekten und Ingenieuren erweiterte Fähigkeiten und Kenntnisse. Die mit der Digitalisierung verbundenen Branchen übergreifenden Herausforderungen werden im Mittelpunkt der Forschungskooperation von DLR und BIMLab@HCU stehen. \nAnmeldung bis Freitag\, den 15. Februar 2019\, an: BIMlab(@)hcu-hamburg.de\nDie Veranstaltung ist kostenfrei.
URL:https://event.dlr.de/event/digitale-entwuerfe-was-luftfahrtingenieure-und-architekten-voneinander-lernen-koennen/
LOCATION:HafenCity Universität Hamburg\, Überseeallee 16\, Hamburg\, 20457\, Deutschland
ATTACH;FMTTYPE=image/jpeg:https://event.dlr.de/wp-content/uploads/2019/02/HCU-HH_red.jpg
END:VEVENT
END:VCALENDAR