BEGIN:VCALENDAR
VERSION:2.0
PRODID:-//DLR Event - ECPv6.15.13.1//NONSGML v1.0//EN
CALSCALE:GREGORIAN
METHOD:PUBLISH
X-WR-CALNAME:DLR Event
X-ORIGINAL-URL:https://event.dlr.de
X-WR-CALDESC:Veranstaltungen für DLR Event
REFRESH-INTERVAL;VALUE=DURATION:PT1H
X-Robots-Tag:noindex
X-PUBLISHED-TTL:PT1H
BEGIN:VTIMEZONE
TZID:Europe/Berlin
BEGIN:DAYLIGHT
TZOFFSETFROM:+0100
TZOFFSETTO:+0200
TZNAME:CEST
DTSTART:20170326T010000
END:DAYLIGHT
BEGIN:STANDARD
TZOFFSETFROM:+0200
TZOFFSETTO:+0100
TZNAME:CET
DTSTART:20171029T010000
END:STANDARD
BEGIN:DAYLIGHT
TZOFFSETFROM:+0100
TZOFFSETTO:+0200
TZNAME:CEST
DTSTART:20180325T010000
END:DAYLIGHT
BEGIN:STANDARD
TZOFFSETFROM:+0200
TZOFFSETTO:+0100
TZNAME:CET
DTSTART:20181028T010000
END:STANDARD
BEGIN:DAYLIGHT
TZOFFSETFROM:+0100
TZOFFSETTO:+0200
TZNAME:CEST
DTSTART:20190331T010000
END:DAYLIGHT
BEGIN:STANDARD
TZOFFSETFROM:+0200
TZOFFSETTO:+0100
TZNAME:CET
DTSTART:20191027T010000
END:STANDARD
END:VTIMEZONE
BEGIN:VEVENT
DTSTART;TZID=Europe/Berlin:20181018T190000
DTEND;TZID=Europe/Berlin:20181018T230000
DTSTAMP:20260422T051820
CREATED:20181009T114406Z
LAST-MODIFIED:20181009T120222Z
UID:10001875-1539889200-1539903600@event.dlr.de
SUMMARY:{:de}DLR-Jahresempfang Paris{:}{:en}DLR Paris Annual Reception{:}
DESCRIPTION:Der Klimawandel ist eine der größten Herausforderungen der Menschheit. Entscheidungen\, die wir heute treffen\, bestimmen das künftige Leben auf unserem Planeten. Was können wir unternehmen\, damit wir dieser Verantwortung gerecht zu werden? Grundlagenforschung\, neue Technologien und die Detail-Analyse von Klimadaten sind wirksame Werkzeuge\, um dieser globalen Herausforderung zu begegnen. \nDas DLR kann mit seinen Kernkompetenzen dazu beitragen\, die Ziele der Pariser COP21-Weltklimakonferenz – Reduktion der Risiken und negativen Einflüsse des Klimawandels – zu unterstützen. Bei dem Jahresempfang der Deutschen Botschaft in Paris zeigt das DLR\, wie es als Teil seiner neuen Strategie 2030 hierzu beiträgt\, und freut sich auf fruchtbare Diskussionen.
URL:https://event.dlr.de/event/dlr-paris-annual-reception/
LOCATION:Hôtel de Beauharnais\, 78 rue de Lille\, Paris\, 75007\, Frankreich
CATEGORIES:Event
ATTACH;FMTTYPE=image/jpeg:https://event.dlr.de/wp-content/uploads/2018/10/Empfang-18.10..jpg
END:VEVENT
END:VCALENDAR